BEGIN:VCALENDAR
VERSION:2.0
PRODID:-//Elmaro Vineyard - ECPv6.15.20//NONSGML v1.0//EN
CALSCALE:GREGORIAN
METHOD:PUBLISH
X-ORIGINAL-URL:https://elmarovineyard.com
X-WR-CALDESC:Events for Elmaro Vineyard
REFRESH-INTERVAL;VALUE=DURATION:PT1H
X-Robots-Tag:noindex
X-PUBLISHED-TTL:PT1H
BEGIN:VTIMEZONE
TZID:UTC
BEGIN:STANDARD
TZOFFSETFROM:+0000
TZOFFSETTO:+0000
TZNAME:UTC
DTSTART:20250101T000000
END:STANDARD
END:VTIMEZONE
BEGIN:VEVENT
DTSTART;TZID=UTC:20260125T130000
DTEND;TZID=UTC:20260125T150000
DTSTAMP:20260424T064656
CREATED:20251227T190157Z
LAST-MODIFIED:20251227T190157Z
UID:6864-1769346000-1769353200@elmarovineyard.com
SUMMARY:January 25th Sunday Bingo
DESCRIPTION:January 25th Sunday Bingo! Bingo is at Elmaro every Sunday in January from 1-3 p.m.! No registration fee\, but you must reserve your spots here (https://www.exploretock.com/…/january-25th-sunday-bingo) Two complimentary bingo cards for each guest\, assorted prizes\, with bingo will begining at 1:00 p.m.
URL:https://elmarovineyard.com/event/january-25th-sunday-bingo/
ATTACH;FMTTYPE=image/jpeg:https://elmarovineyard.com/wp-content/uploads/2025/12/BINGO-facebook-event-cover-25.jpg
END:VEVENT
BEGIN:VEVENT
DTSTART;TZID=UTC:20260129T110000
DTEND;TZID=UTC:20260129T120000
DTSTAMP:20260424T064656
CREATED:20251227T190503Z
LAST-MODIFIED:20251227T190503Z
UID:6870-1769684400-1769688000@elmarovineyard.com
SUMMARY:Adaptive Yoga
DESCRIPTION:At 11:00 a.m.\, Join Laura (co-owner and winemaker) for a one-hour yoga practice for anyone with a modified range of motion. Chairs are available for sitting or standing prop\, no former yoga training is required\, and please bring your own mat and water bottle\, $2 per person. (We welcome drop-ins!)
URL:https://elmarovineyard.com/event/adaptive-yoga-27/2026-01-29/
ATTACH;FMTTYPE=image/jpeg:https://elmarovineyard.com/wp-content/uploads/2025/10/adaptive1-scaled.jpg
END:VEVENT
BEGIN:VEVENT
DTSTART;TZID=UTC:20260130T120000
DTEND;TZID=UTC:20260130T180000
DTSTAMP:20260424T064656
CREATED:20260120T205821Z
LAST-MODIFIED:20260120T205821Z
UID:6976-1769774400-1769796000@elmarovineyard.com
SUMMARY:Date Day
DESCRIPTION:It’s Date Day\, all day at Elmaro on Friday\, January 30th\, 12-6 p.m.  Bring your favorite human to Elmaro and enjoy a local or artisan cheese plate and a dessert for $22.
URL:https://elmarovineyard.com/event/date-day/
ATTACH;FMTTYPE=image/jpeg:https://elmarovineyard.com/wp-content/uploads/2026/01/Date-Night-1920-x-1080-px-15.jpg
END:VEVENT
BEGIN:VEVENT
DTSTART;TZID=UTC:20260130T180000
DTEND;TZID=UTC:20260130T193000
DTSTAMP:20260424T064656
CREATED:20260105T154704Z
LAST-MODIFIED:20260120T210015Z
UID:6909-1769796000-1769801400@elmarovineyard.com
SUMMARY:Trivia Night
DESCRIPTION:You and your team of up to 6 people can vie for bragging rights of trivial knowledge\, all at Trivia Night at Elmaro\, January 30th 6:00 p.m. Prizes for 1st\, 2nd\, and 3rd place teams. No fee to play\, but register your team of up to 6 people at http://www.exploretock.com/elmarovineyard
URL:https://elmarovineyard.com/event/trivia-night-12/
ATTACH;FMTTYPE=image/jpeg:https://elmarovineyard.com/wp-content/uploads/2026/01/Trivia-questins-3.jpg
END:VEVENT
BEGIN:VEVENT
DTSTART;TZID=UTC:20260131T140000
DTEND;TZID=UTC:20260131T170000
DTSTAMP:20260424T064656
CREATED:20260105T154820Z
LAST-MODIFIED:20260105T154820Z
UID:6912-1769868000-1769878800@elmarovineyard.com
SUMMARY:Music by Jeani & The Dreamers
DESCRIPTION:Get ready to dance! Jeani & The Dreamers will be rockin’ the winery from 2-5 p.m.
URL:https://elmarovineyard.com/event/music-by-jeani-the-dreamers-19/
ATTACH;FMTTYPE=image/jpeg:https://elmarovineyard.com/wp-content/uploads/2025/10/Jeaniandthedreamers.jpg
END:VEVENT
END:VCALENDAR