BEGIN:VCALENDAR
VERSION:2.0
PRODID:-//Elmaro Vineyard - ECPv6.15.20//NONSGML v1.0//EN
CALSCALE:GREGORIAN
METHOD:PUBLISH
X-ORIGINAL-URL:https://elmarovineyard.com
X-WR-CALDESC:Events for Elmaro Vineyard
REFRESH-INTERVAL;VALUE=DURATION:PT1H
X-Robots-Tag:noindex
X-PUBLISHED-TTL:PT1H
BEGIN:VTIMEZONE
TZID:UTC
BEGIN:STANDARD
TZOFFSETFROM:+0000
TZOFFSETTO:+0000
TZNAME:UTC
DTSTART:20250101T000000
END:STANDARD
END:VTIMEZONE
BEGIN:VEVENT
DTSTART;TZID=UTC:20260118T130000
DTEND;TZID=UTC:20260118T150000
DTSTAMP:20260424T110032
CREATED:20251227T190036Z
LAST-MODIFIED:20251227T191823Z
UID:6861-1768741200-1768748400@elmarovineyard.com
SUMMARY:January 18th Sunday Bingo
DESCRIPTION:January 18th Sunday Bingo! Bingo is at Elmaro every Sunday in January from 1-3 p.m.! No registration fee\, but you must reserve your spots here (https://www.exploretock.com/…/january-18th-sunday-bingo Two complimentary bingo cards for each guest\, assorted prizes\, with bingo will begining at 1:00 p.m.
URL:https://elmarovineyard.com/event/january-a18th-sunday-bingo/
ATTACH;FMTTYPE=image/jpeg:https://elmarovineyard.com/wp-content/uploads/2025/12/BINGO-facebook-event-cover-24.jpg
END:VEVENT
BEGIN:VEVENT
DTSTART;TZID=UTC:20260122T110000
DTEND;TZID=UTC:20260122T120000
DTSTAMP:20260424T110032
CREATED:20251227T190503Z
LAST-MODIFIED:20251227T190503Z
UID:6869-1769079600-1769083200@elmarovineyard.com
SUMMARY:Adaptive Yoga
DESCRIPTION:At 11:00 a.m.\, Join Laura (co-owner and winemaker) for a one-hour yoga practice for anyone with a modified range of motion. Chairs are available for sitting or standing prop\, no former yoga training is required\, and please bring your own mat and water bottle\, $2 per person. (We welcome drop-ins!)
URL:https://elmarovineyard.com/event/adaptive-yoga-27/2026-01-22/
ATTACH;FMTTYPE=image/jpeg:https://elmarovineyard.com/wp-content/uploads/2025/10/adaptive1-scaled.jpg
END:VEVENT
BEGIN:VEVENT
DTSTART;TZID=UTC:20260124T140000
DTEND;TZID=UTC:20260124T170000
DTSTAMP:20260424T110032
CREATED:20251227T191706Z
LAST-MODIFIED:20251227T191706Z
UID:6888-1769263200-1769274000@elmarovineyard.com
SUMMARY:Music by Quenten Brown
DESCRIPTION:Quenten Brown is just strumming strings…playing tunes. Meeting fine people along the way…
URL:https://elmarovineyard.com/event/music-by-quenten-brown-7/
ATTACH;FMTTYPE=image/jpeg:https://elmarovineyard.com/wp-content/uploads/2025/12/quenten-brown.jpg
END:VEVENT
END:VCALENDAR