BEGIN:VCALENDAR
VERSION:2.0
PRODID:-//Elmaro Vineyard - ECPv6.15.20//NONSGML v1.0//EN
CALSCALE:GREGORIAN
METHOD:PUBLISH
X-ORIGINAL-URL:https://elmarovineyard.com
X-WR-CALDESC:Events for Elmaro Vineyard
REFRESH-INTERVAL;VALUE=DURATION:PT1H
X-Robots-Tag:noindex
X-PUBLISHED-TTL:PT1H
BEGIN:VTIMEZONE
TZID:UTC
BEGIN:STANDARD
TZOFFSETFROM:+0000
TZOFFSETTO:+0000
TZNAME:UTC
DTSTART:20240101T000000
END:STANDARD
END:VTIMEZONE
BEGIN:VEVENT
DTSTART;TZID=UTC:20251214T130000
DTEND;TZID=UTC:20251214T160000
DTSTAMP:20260425T005330
CREATED:20251009T195034Z
LAST-MODIFIED:20251009T195034Z
UID:6697-1765717200-1765728000@elmarovineyard.com
SUMMARY:Music by Tim Dallman
DESCRIPTION:Tim is a rock/pop/Americana singer-songwriter who also performs a wide range of cover songs.
URL:https://elmarovineyard.com/event/music-by-tim-dallman-20/
ATTACH;FMTTYPE=image/jpeg:https://elmarovineyard.com/wp-content/uploads/2025/10/tim-dallman4.jpg
END:VEVENT
BEGIN:VEVENT
DTSTART;TZID=UTC:20251218T110000
DTEND;TZID=UTC:20251218T120000
DTSTAMP:20260425T005330
CREATED:20251009T195242Z
LAST-MODIFIED:20251009T195242Z
UID:6703-1766055600-1766059200@elmarovineyard.com
SUMMARY:Adaptive Yoga
DESCRIPTION:At 11:00 a.m.\, Join Laura (co-owner and winemaker) for a one-hour yoga practice for anyone with a modified range of motion. Chairs are available for sitting or standing prop\, no former yoga training is required\, and please bring your own mat and water bottle\, $2 per person. (We welcome drop-ins!)
URL:https://elmarovineyard.com/event/adaptive-yoga-26/2025-12-18/
ATTACH;FMTTYPE=image/jpeg:https://elmarovineyard.com/wp-content/uploads/2025/10/adaptive1-scaled.jpg
END:VEVENT
BEGIN:VEVENT
DTSTART;TZID=UTC:20251218T190000
DTEND;TZID=UTC:20251218T203000
DTSTAMP:20260425T005330
CREATED:20251125T221316Z
LAST-MODIFIED:20251125T221316Z
UID:6789-1766084400-1766089800@elmarovineyard.com
SUMMARY:Thursday Ugly Christmas Sweater Bingo
DESCRIPTION:Ugly Christmas Sweater Bingo night is back at Elmaro Vineyard! Thursday\, December 18th at 7:00 p.m.! No registration fee\, but you must reserve your spots. Two complimentary bingo cards for each guest\, assorted prizes\, and an Ugly Christmas Sweater contest! Bingo will begin promptly at 7:00 p.m.  Register at https://www.exploretock.com/elmarovineyard/event/580653/thursday-ugly-christmas-sweater-bingo
URL:https://elmarovineyard.com/event/thursday-ugly-christmas-sweater-bingo/
ATTACH;FMTTYPE=image/jpeg:https://elmarovineyard.com/wp-content/uploads/2025/11/ugly-sweater-bing-1.jpg
END:VEVENT
BEGIN:VEVENT
DTSTART;TZID=UTC:20251219T190000
DTEND;TZID=UTC:20251219T210000
DTSTAMP:20260425T005330
CREATED:20251125T221608Z
LAST-MODIFIED:20251125T221608Z
UID:6792-1766170800-1766178000@elmarovineyard.com
SUMMARY:Friday Ugly Christmas Sweater Bingo
DESCRIPTION:Ugly Christmas Sweater Bingo night is back at Elmaro Vineyard! FRIDAY\, December 19th at 7:00 p.m.! No registration fee\, but you must reserve your spots here. Two complimentary bingo cards for each guest\, assorted prizes\, and an Ugly Christmas Sweater contest! Bingo will begin promptly at 7:00 p.m. \nRegister here https://www.exploretock.com/elmarovineyard/event/580739/friday-ugly-christmas-sweater-bingo
URL:https://elmarovineyard.com/event/friday-ugly-christmas-sweater-bingo/
ATTACH;FMTTYPE=image/jpeg:https://elmarovineyard.com/wp-content/uploads/2025/11/ugly-sweater-bing.jpg
END:VEVENT
BEGIN:VEVENT
DTSTART;TZID=UTC:20251220T140000
DTEND;TZID=UTC:20251220T170000
DTSTAMP:20260425T005330
CREATED:20251128T192550Z
LAST-MODIFIED:20251128T192550Z
UID:6805-1766239200-1766250000@elmarovineyard.com
SUMMARY:Music by Josie Legler
DESCRIPTION:It’s a great weekend to hear local favorite\, Josie Legler\, strum her guitar and sing a few songs!
URL:https://elmarovineyard.com/event/music-by-josie-legler-8/
ATTACH;FMTTYPE=image/jpeg:https://elmarovineyard.com/wp-content/uploads/2025/11/josie-legler3.jpg
END:VEVENT
END:VCALENDAR