BEGIN:VCALENDAR
VERSION:2.0
PRODID:-//Elmaro Vineyard - ECPv6.15.20//NONSGML v1.0//EN
CALSCALE:GREGORIAN
METHOD:PUBLISH
X-WR-CALNAME:Elmaro Vineyard
X-ORIGINAL-URL:https://elmarovineyard.com
X-WR-CALDESC:Events for Elmaro Vineyard
REFRESH-INTERVAL;VALUE=DURATION:PT1H
X-Robots-Tag:noindex
X-PUBLISHED-TTL:PT1H
BEGIN:VTIMEZONE
TZID:UTC
BEGIN:STANDARD
TZOFFSETFROM:+0000
TZOFFSETTO:+0000
TZNAME:UTC
DTSTART:20220101T000000
END:STANDARD
END:VTIMEZONE
BEGIN:VEVENT
DTSTART;TZID=UTC:20230604T120000
DTEND;TZID=UTC:20230604T160000
DTSTAMP:20260420T104243
CREATED:20230503T181711Z
LAST-MODIFIED:20230503T181711Z
UID:4044-1685880000-1685894400@elmarovineyard.com
SUMMARY:Street Market Sunday!
DESCRIPTION:June’s Street Market Sundays are back at Elmaro!  Artisan vendors\, crepes by Jean Luc\, music by Under Paris Skies\, and sangria!
URL:https://elmarovineyard.com/event/street-market-sunday-7/
ATTACH;FMTTYPE=image/png:https://elmarovineyard.com/wp-content/uploads/2023/05/street-market-square-poster.png
END:VEVENT
BEGIN:VEVENT
DTSTART;TZID=UTC:20230608T110000
DTEND;TZID=UTC:20230608T120000
DTSTAMP:20260420T104243
CREATED:20230607T135647Z
LAST-MODIFIED:20230607T135647Z
UID:4109-1686222000-1686225600@elmarovineyard.com
SUMMARY:Adaptive Yoga
DESCRIPTION:At 11:00 a.m.\, Join Laura (co-owner and winemaker) for a one-hour yoga practice for anyone with a modified range of motion.  Chairs are available for sitting or standing prop\, no former yoga training is required\, and please bring your own mat and water bottle\, $2 per person.  (We welcome drop-ins!)
URL:https://elmarovineyard.com/event/adaptive-yoga-9/2023-06-08/
ATTACH;FMTTYPE=image/jpeg:https://elmarovineyard.com/wp-content/uploads/2023/06/adaptive1-scaled.jpg
END:VEVENT
BEGIN:VEVENT
DTSTART;TZID=UTC:20230608T120000
DTEND;TZID=UTC:20230608T200000
DTSTAMP:20260420T104243
CREATED:20230607T140747Z
LAST-MODIFIED:20230607T140747Z
UID:4139-1686225600-1686254400@elmarovineyard.com
SUMMARY:National Best Friends Day
DESCRIPTION:Join us in celebrating your best friend from 12-8pm with a double breads and spreads and two glasses of wine for only $15.
URL:https://elmarovineyard.com/event/national-best-friends-day/
END:VEVENT
BEGIN:VEVENT
DTSTART;TZID=UTC:20230608T180000
DTEND;TZID=UTC:20230608T190000
DTSTAMP:20260420T104243
CREATED:20230607T135853Z
LAST-MODIFIED:20230607T135947Z
UID:4124-1686247200-1686250800@elmarovineyard.com
SUMMARY:Sunset Yoga
DESCRIPTION:Join Laura (co-owner and winemaker) for a one-hour vinyasa yoga flow practice. This class begins at 6:00 p.m.\, includes a complimentary beverage\, and no former yoga training required. Please bring your own mat and water bottle\, $10 per person. (We welcome drop-ins!)
URL:https://elmarovineyard.com/event/sunset-yoga-4/2023-06-08/
ATTACH;FMTTYPE=image/jpeg:https://elmarovineyard.com/wp-content/uploads/2023/06/laura-yoga-2.jpeg
END:VEVENT
BEGIN:VEVENT
DTSTART;TZID=UTC:20230609T120000
DTEND;TZID=UTC:20230609T190000
DTSTAMP:20260420T104243
CREATED:20230601T224858Z
LAST-MODIFIED:20230601T224858Z
UID:4100-1686312000-1686337200@elmarovineyard.com
SUMMARY:Date Night!
DESCRIPTION:Celebrate your favorite person all day at Elmaro with a local cheese plate and two glasses of wine for $20!
URL:https://elmarovineyard.com/event/date-night-4/
ATTACH;FMTTYPE=image/jpeg:https://elmarovineyard.com/wp-content/uploads/2023/06/date-night.jpg
END:VEVENT
BEGIN:VEVENT
DTSTART;TZID=UTC:20230609T150000
DTEND;TZID=UTC:20230609T180000
DTSTAMP:20260420T104243
CREATED:20230508T150513Z
LAST-MODIFIED:20230508T150513Z
UID:4077-1686322800-1686333600@elmarovineyard.com
SUMMARY:Music by Bradford Loomis
DESCRIPTION:Bradford marries grit and melody to dig to the roots of American folklore and speak of the raw reality of the human condition with soul\, passion\, and hope. Brad’s stories span a lifetime of relatable emotions\, be it the bitterness of loss\, the deep longing of regret\, the enduring hope of love\, or the elation of joy.
URL:https://elmarovineyard.com/event/music-by-bradford-loomis-2/
ATTACH;FMTTYPE=image/jpeg:https://elmarovineyard.com/wp-content/uploads/2023/05/bradford-loomis2.jpg
END:VEVENT
BEGIN:VEVENT
DTSTART;TZID=UTC:20230610T120000
DTEND;TZID=UTC:20230610T180000
DTSTAMP:20260420T104243
CREATED:20230607T141225Z
LAST-MODIFIED:20230607T141225Z
UID:4142-1686398400-1686420000@elmarovineyard.com
SUMMARY:Sangria Saturday!
DESCRIPTION:Sangria and the sounds of steel drums make the perfect Saturday!
URL:https://elmarovineyard.com/event/sangria-saturday/
ATTACH;FMTTYPE=image/jpeg:https://elmarovineyard.com/wp-content/uploads/2023/06/homestead-red.jpg
END:VEVENT
BEGIN:VEVENT
DTSTART;TZID=UTC:20230610T123000
DTEND;TZID=UTC:20230610T170000
DTSTAMP:20260420T104243
CREATED:20230503T182515Z
LAST-MODIFIED:20230503T182515Z
UID:4047-1686400200-1686416400@elmarovineyard.com
SUMMARY:Sweet Lou Barbecue Food Truck
DESCRIPTION:Sweet Lou Barbecue at Elmaro!  Savor the amazing barbecue of Sweet Lou from 12:30-5:00\, or as supplies last.  We will even have recommended wine pairings!
URL:https://elmarovineyard.com/event/sweet-lou-barbecue-food-truck-5/
ATTACH;FMTTYPE=image/jpeg:https://elmarovineyard.com/wp-content/uploads/2023/05/sweet-lou-sammie.jpg
END:VEVENT
BEGIN:VEVENT
DTSTART;TZID=UTC:20230610T140000
DTEND;TZID=UTC:20230610T170000
DTSTAMP:20260420T104243
CREATED:20230503T182729Z
LAST-MODIFIED:20230503T182729Z
UID:4050-1686405600-1686416400@elmarovineyard.com
SUMMARY:Music in the vineyard by The Coulee Region Steel Drum Band
DESCRIPTION:The Coulee Region Steel Drum Band is the region’s premiere group for relaxing steel drum music!
URL:https://elmarovineyard.com/event/music-in-the-vineyard-by-the-coulee-region-steel-drum-band-2/
ATTACH;FMTTYPE=image/jpeg:https://elmarovineyard.com/wp-content/uploads/2023/05/coulee-rsdb.jpg
END:VEVENT
END:VCALENDAR