BEGIN:VCALENDAR
VERSION:2.0
PRODID:-//Elmaro Vineyard - ECPv6.15.20//NONSGML v1.0//EN
CALSCALE:GREGORIAN
METHOD:PUBLISH
X-ORIGINAL-URL:https://elmarovineyard.com
X-WR-CALDESC:Events for Elmaro Vineyard
REFRESH-INTERVAL;VALUE=DURATION:PT1H
X-Robots-Tag:noindex
X-PUBLISHED-TTL:PT1H
BEGIN:VTIMEZONE
TZID:UTC
BEGIN:STANDARD
TZOFFSETFROM:+0000
TZOFFSETTO:+0000
TZNAME:UTC
DTSTART:20220101T000000
END:STANDARD
END:VTIMEZONE
BEGIN:VEVENT
DTSTART;TZID=UTC:20230528T130000
DTEND;TZID=UTC:20230528T160000
DTSTAMP:20260421T234517
CREATED:20230412T205840Z
LAST-MODIFIED:20230412T205840Z
UID:3965-1685278800-1685289600@elmarovineyard.com
SUMMARY:Music in the vineyard by Saner & Gibbons
DESCRIPTION:When not rocking out with The Mayer Brothers Band (or working in their day jobs)\, Todd and Tom like to throw down some amazing music via their fiercely dueling guitars and perfectly harmonizing voices. With their repertoire spanning songs from the 60s through today \, they are guaranteed to hit on a few of your favorites.
URL:https://elmarovineyard.com/event/music-in-the-vineyard-by-saner-gibbons/
ATTACH;FMTTYPE=image/jpeg:https://elmarovineyard.com/wp-content/uploads/2023/04/saner-and-gibbons.jpg
END:VEVENT
BEGIN:VEVENT
DTSTART;TZID=UTC:20230529T120000
DTEND;TZID=UTC:20230529T180000
DTSTAMP:20260421T234517
CREATED:20230419T195418Z
LAST-MODIFIED:20230419T195418Z
UID:4025-1685361600-1685383200@elmarovineyard.com
SUMMARY:Closed for Memorial Day
DESCRIPTION:Elmaro Vineyard is closed on Monday\, May 29th to observe Memorial Day.
URL:https://elmarovineyard.com/event/closed-for-memorial-day-2/
ATTACH;FMTTYPE=image/png:https://elmarovineyard.com/wp-content/uploads/2023/04/closed-memorial-day.png
END:VEVENT
BEGIN:VEVENT
DTSTART;TZID=UTC:20230602T120000
DTEND;TZID=UTC:20230602T190000
DTSTAMP:20260421T234517
CREATED:20230601T211543Z
LAST-MODIFIED:20230601T211543Z
UID:4097-1685707200-1685732400@elmarovineyard.com
SUMMARY:Date Night
DESCRIPTION:Summer is here\, enjoy it with your favorite human at Elmaro Vineyard with a local cheese plate and two glasses of wine for $20.
URL:https://elmarovineyard.com/event/date-night-3/
ATTACH;FMTTYPE=image/png:https://elmarovineyard.com/wp-content/uploads/2023/06/Date-Night-Thursdays-5-8-p.m.-10.png
END:VEVENT
BEGIN:VEVENT
DTSTART;TZID=UTC:20230602T150000
DTEND;TZID=UTC:20230602T180000
DTSTAMP:20260421T234517
CREATED:20230503T175801Z
LAST-MODIFIED:20230503T175801Z
UID:4038-1685718000-1685728800@elmarovineyard.com
SUMMARY:Music in the vineyard by Tim Fast
DESCRIPTION:Tim covers songs from your favorite artists. You’ll hear him play harmonica\, guitar\, stomp box and sing a variety Folk\, Americana\, Blues & Country songs.
URL:https://elmarovineyard.com/event/music-in-the-vineyard-by-tim-fast/
ATTACH;FMTTYPE=image/jpeg:https://elmarovineyard.com/wp-content/uploads/2023/05/Tim-Fast.jpg
END:VEVENT
BEGIN:VEVENT
DTSTART;TZID=UTC:20230603T100000
DTEND;TZID=UTC:20230603T110000
DTSTAMP:20260421T234517
CREATED:20230509T185524Z
LAST-MODIFIED:20230509T185524Z
UID:4083-1685786400-1685790000@elmarovineyard.com
SUMMARY:Yoga & Brunch
DESCRIPTION:Join Laura (co-owner and winemaker) for a relaxing hour of vinyasa flow yoga practice\, followed by a continental brunch and a mimosa. $23/person\, and reservations can be made by calling 608-534-6456.
URL:https://elmarovineyard.com/event/yoga-brunch-8/
ATTACH;FMTTYPE=image/jpeg:https://elmarovineyard.com/wp-content/uploads/2023/05/yoga-brunch-2-1.jpg
END:VEVENT
BEGIN:VEVENT
DTSTART;TZID=UTC:20230603T140000
DTEND;TZID=UTC:20230603T170000
DTSTAMP:20260421T234517
CREATED:20230503T180141Z
LAST-MODIFIED:20230503T180141Z
UID:4041-1685800800-1685811600@elmarovineyard.com
SUMMARY:Music by Sampson & Son
DESCRIPTION:The father/son duo of Rick and Aric are a local favorite\, and will have you singing along in no time!
URL:https://elmarovineyard.com/event/music-by-sampson-son-9/
ATTACH;FMTTYPE=image/jpeg:https://elmarovineyard.com/wp-content/uploads/2023/05/Sampson-duo-2-scaled.jpg
END:VEVENT
END:VCALENDAR