BEGIN:VCALENDAR
VERSION:2.0
PRODID:-//Elmaro Vineyard - ECPv6.15.20//NONSGML v1.0//EN
CALSCALE:GREGORIAN
METHOD:PUBLISH
X-WR-CALNAME:Elmaro Vineyard
X-ORIGINAL-URL:https://elmarovineyard.com
X-WR-CALDESC:Events for Elmaro Vineyard
REFRESH-INTERVAL;VALUE=DURATION:PT1H
X-Robots-Tag:noindex
X-PUBLISHED-TTL:PT1H
BEGIN:VTIMEZONE
TZID:UTC
BEGIN:STANDARD
TZOFFSETFROM:+0000
TZOFFSETTO:+0000
TZNAME:UTC
DTSTART:20220101T000000
END:STANDARD
END:VTIMEZONE
BEGIN:VEVENT
DTSTART;TZID=UTC:20230205T120000
DTEND;TZID=UTC:20230205T170000
DTSTAMP:20260422T055121
CREATED:20230124T232211Z
LAST-MODIFIED:20230124T232211Z
UID:3751-1675598400-1675616400@elmarovineyard.com
SUMMARY:Sweetheart Sundays
DESCRIPTION:Every Sunday in February\, bring your sweetheart to Elmaro\, and you can sip and savor Valentine-themed truffles with 2 glasses of wine\, all for $20.
URL:https://elmarovineyard.com/event/sweetheart-sundays/
ATTACH;FMTTYPE=image/png:https://elmarovineyard.com/wp-content/uploads/2023/01/Sweetheart-Sundays-in-February-Truffles-and-2-glasses-of-wine.png
END:VEVENT
BEGIN:VEVENT
DTSTART;TZID=UTC:20230205T130000
DTEND;TZID=UTC:20230205T160000
DTSTAMP:20260422T055121
CREATED:20230103T215544Z
LAST-MODIFIED:20230103T215544Z
UID:3653-1675602000-1675612800@elmarovineyard.com
SUMMARY:Music at Elmaro by Tim Dallman
DESCRIPTION:Tim Dallman is a guitarist/vocalist who writes and performs his own rock\, blues\, jazz and folk-infused original material\, as well as a variety of classic and contemporary rock and pop cover songs.
URL:https://elmarovineyard.com/event/music-at-elmaro-by-tim-dallman/
ATTACH;FMTTYPE=image/jpeg:https://elmarovineyard.com/wp-content/uploads/2023/01/tim-dallman3.jpg
END:VEVENT
BEGIN:VEVENT
DTSTART;TZID=UTC:20230209T170000
DTEND;TZID=UTC:20230209T210000
DTSTAMP:20260422T055121
CREATED:20221206T181041Z
LAST-MODIFIED:20230131T210830Z
UID:3557-1675962000-1675976400@elmarovineyard.com
SUMMARY:Sold Out\, Sip and Paint in watercolor with Jeff Nelson
DESCRIPTION:Watercolor painting class taught by Jeff Nelson! Warm fall color combined with an early snow makes this painting inviting. We will use wet on wet and wet on dry techniques for this piece. Join the fun and watch the ‘magic’ of moving paint help create this scene. $35/person\, includes a glass of wine\, call 608-534-6456 for required reservations. Optional $10 upcharge to include a frame and mat.\nOR\, reserve your spot at our 3 upcoming painting classes for $95! January 20th\, February 9th\, and March 24.\nFor more images of Jeff’s work please go to: www.valleyartassociation.org. Click on ‘gallery’. Then click on Jeff Nelson.
URL:https://elmarovineyard.com/event/sip-and-paint-in-watercolor-with-jeff-nelson/
ATTACH;FMTTYPE=image/jpeg:https://elmarovineyard.com/wp-content/uploads/2022/12/Jeff-nelson-February-2023-class.jpg
END:VEVENT
BEGIN:VEVENT
DTSTART;TZID=UTC:20230210T190000
DTEND;TZID=UTC:20230210T210000
DTSTAMP:20260422T055121
CREATED:20230202T210835Z
LAST-MODIFIED:20230202T210835Z
UID:3795-1676055600-1676062800@elmarovineyard.com
SUMMARY:Bingo Night
DESCRIPTION:Bingo night at Elmaro Vineyard\, Friday\, February 10th\, 7:00 p.m.! Two complimentary bingo cards for each guest\, and assorted prizes! Required reservations are made by calling 608-534-6456. Bingo will begin promptly at 7:00 p.m
URL:https://elmarovineyard.com/event/bingo-night-4/
ATTACH;FMTTYPE=image/png:https://elmarovineyard.com/wp-content/uploads/2023/02/at-Elmaro-Vineyard-Friday-January-21st-700-845-p.m.-3.png
END:VEVENT
BEGIN:VEVENT
DTSTART;TZID=UTC:20230211T100000
DTEND;TZID=UTC:20230211T110000
DTSTAMP:20260422T055121
CREATED:20230124T225117Z
LAST-MODIFIED:20230124T225117Z
UID:3748-1676109600-1676113200@elmarovineyard.com
SUMMARY:Yoga & Brunch
DESCRIPTION:Join Laura (co-owner and winemaker) for a relaxing hour of vinyasa flow yoga practice\, followed by a continental brunch and a mimosa. $23/person\, and reservations can be made by calling 608-534-6456.
URL:https://elmarovineyard.com/event/yoga-brunch-4/
ATTACH;FMTTYPE=image/jpeg:https://elmarovineyard.com/wp-content/uploads/2023/01/eIMG_5065-crop-adj-1-899x396-1.jpg
END:VEVENT
BEGIN:VEVENT
DTSTART;TZID=UTC:20230211T120000
DTEND;TZID=UTC:20230211T180000
DTSTAMP:20260422T055121
CREATED:20230203T165738Z
LAST-MODIFIED:20230203T170742Z
UID:3810-1676116800-1676138400@elmarovineyard.com
SUMMARY:Fondue for Two!
DESCRIPTION:The sweet confection of chocolate fondue with strawberries\, cake\, pretzels\, and pineapple.  Savor this delight with your favorite human on February 11th.
URL:https://elmarovineyard.com/event/fondue-for-two/
ATTACH;FMTTYPE=image/jpeg:https://elmarovineyard.com/wp-content/uploads/2023/02/fondue-for-two-scaled.jpg
END:VEVENT
END:VCALENDAR