BEGIN:VCALENDAR
VERSION:2.0
PRODID:-//Elmaro Vineyard - ECPv6.15.20//NONSGML v1.0//EN
CALSCALE:GREGORIAN
METHOD:PUBLISH
X-WR-CALNAME:Elmaro Vineyard
X-ORIGINAL-URL:https://elmarovineyard.com
X-WR-CALDESC:Events for Elmaro Vineyard
REFRESH-INTERVAL;VALUE=DURATION:PT1H
X-Robots-Tag:noindex
X-PUBLISHED-TTL:PT1H
BEGIN:VTIMEZONE
TZID:UTC
BEGIN:STANDARD
TZOFFSETFROM:+0000
TZOFFSETTO:+0000
TZNAME:UTC
DTSTART:20220101T000000
END:STANDARD
END:VTIMEZONE
BEGIN:VEVENT
DTSTART;TZID=UTC:20230108T130000
DTEND;TZID=UTC:20230108T160000
DTSTAMP:20260421T173024
CREATED:20221213T183410Z
LAST-MODIFIED:20221213T183410Z
UID:3570-1673182800-1673193600@elmarovineyard.com
SUMMARY:Music by Tim Dallman
DESCRIPTION:Tim Dallman is a guitarist/vocalist who writes and performs his own rock\, blues\, jazz and folk-infused original material\, as well as a variety of classic and contemporary rock and pop cover songs.
URL:https://elmarovineyard.com/event/music-by-tim-dallman-7/
ATTACH;FMTTYPE=image/jpeg:https://elmarovineyard.com/wp-content/uploads/2022/12/tim-dallman4.jpg
END:VEVENT
BEGIN:VEVENT
DTSTART;TZID=UTC:20230112T183000
DTEND;TZID=UTC:20230112T193000
DTSTAMP:20260421T173024
CREATED:20221213T184537Z
LAST-MODIFIED:20230120T053220Z
UID:3579-1673548200-1673551800@elmarovineyard.com
SUMMARY:Apostle Islands National Lakeshore Presentation
DESCRIPTION:Our amazing Apostle Islands National Lakeshore is a natural treasure. Join us at Elmaro at 6:30 p.m. on Thursday\, January 12th to hear Jonathan Ringdahl’s first-hand experience of this location\, and how to get the most out of your visit to the Apostle Islands National Lakeshore. There’s no charge or registration.
URL:https://elmarovineyard.com/event/apostle-islands-national-lakeshore-presentation/
ATTACH;FMTTYPE=image/jpeg:https://elmarovineyard.com/wp-content/uploads/2022/12/apostle-islands-1.jpg
END:VEVENT
BEGIN:VEVENT
DTSTART;TZID=UTC:20230114T140000
DTEND;TZID=UTC:20230114T170000
DTSTAMP:20260421T173024
CREATED:20221215T204258Z
LAST-MODIFIED:20221215T204258Z
UID:3593-1673704800-1673715600@elmarovineyard.com
SUMMARY:Music in the crush pad by James Grant
DESCRIPTION:Saturday afternoon vibes with 60s and 70s covers are at Elmaro with James Grant performing 2-5 p.m.
URL:https://elmarovineyard.com/event/music-in-the-crush-pad-by-james-grant/
ATTACH;FMTTYPE=image/jpeg:https://elmarovineyard.com/wp-content/uploads/2022/12/James-Grant.jpg
END:VEVENT
END:VCALENDAR