BEGIN:VCALENDAR
VERSION:2.0
PRODID:-//Elmaro Vineyard - ECPv6.15.20//NONSGML v1.0//EN
CALSCALE:GREGORIAN
METHOD:PUBLISH
X-ORIGINAL-URL:https://elmarovineyard.com
X-WR-CALDESC:Events for Elmaro Vineyard
REFRESH-INTERVAL;VALUE=DURATION:PT1H
X-Robots-Tag:noindex
X-PUBLISHED-TTL:PT1H
BEGIN:VTIMEZONE
TZID:UTC
BEGIN:STANDARD
TZOFFSETFROM:+0000
TZOFFSETTO:+0000
TZNAME:UTC
DTSTART:20210101T000000
END:STANDARD
END:VTIMEZONE
BEGIN:VEVENT
DTSTART;TZID=UTC:20221225T120000
DTEND;TZID=UTC:20221225T170000
DTSTAMP:20260421T141653
CREATED:20221108T190947Z
LAST-MODIFIED:20221108T190947Z
UID:3443-1671969600-1671987600@elmarovineyard.com
SUMMARY:Closed for Christmas
DESCRIPTION:Elmaro Vineyard is closed on Sunday\, December 25th\, so we can spend time with our families and friends on Christmas. We will open again on Tuesday\, December 27th at noon.
URL:https://elmarovineyard.com/event/closed-for-christmas-2/
ATTACH;FMTTYPE=image/jpeg:https://elmarovineyard.com/wp-content/uploads/2022/11/closedchristmas.jpg
END:VEVENT
BEGIN:VEVENT
DTSTART;TZID=UTC:20221227T120000
DTEND;TZID=UTC:20221227T170000
DTSTAMP:20260421T141653
CREATED:20221219T164918Z
LAST-MODIFIED:20221219T164918Z
UID:3626-1672142400-1672160400@elmarovineyard.com
SUMMARY:10 Days of Big River Currant Cocktails at Elmaro!
DESCRIPTION:Now through December 31st\, Elmaro is serving Big River Currant cocktails! Try the Kir\, Kir Normand\, or Kir Royale. We even have a recipe card for you to recreate these at home.
URL:https://elmarovineyard.com/event/10-days-of-big-river-currant-cocktails-at-elmaro/2022-12-27/
ATTACH;FMTTYPE=image/jpeg:https://elmarovineyard.com/wp-content/uploads/2022/12/big-river-2022-1-scaled.jpg
END:VEVENT
BEGIN:VEVENT
DTSTART;TZID=UTC:20221230T150000
DTEND;TZID=UTC:20221230T180000
DTSTAMP:20260421T141653
CREATED:20221128T181144Z
LAST-MODIFIED:20221128T181144Z
UID:3516-1672412400-1672423200@elmarovineyard.com
SUMMARY:Music by Douce Ambiance
DESCRIPTION:Douce Ambiance is a light version of Under Paris Skies\, which means you’ll be treated to relaxing\, Parisian sounds\, with a feel of Jazz. Get your holiday weekend started with Ron and Steve\, as well as a glass of wine!
URL:https://elmarovineyard.com/event/music-by-douce-ambiance/
ATTACH;FMTTYPE=image/png:https://elmarovineyard.com/wp-content/uploads/2022/11/Douce-Ambiance-photo.png
END:VEVENT
BEGIN:VEVENT
DTSTART;TZID=UTC:20221231T100000
DTEND;TZID=UTC:20221231T110000
DTSTAMP:20260421T141653
CREATED:20221128T175448Z
LAST-MODIFIED:20221128T175448Z
UID:3510-1672480800-1672484400@elmarovineyard.com
SUMMARY:Yoga and Brunch
DESCRIPTION:Join Laura (co-owner and winemaker) for a relaxing hour of vinyasa yoga practice followed by a continental brunch and a full mimosa bar! $30/person\, and required reservations can be made by calling 608-534-6456.
URL:https://elmarovineyard.com/event/yoga-and-brunch-2/
ATTACH;FMTTYPE=image/png:https://elmarovineyard.com/wp-content/uploads/2022/11/65152668_2209855956011054_183850610590744576_n.png
END:VEVENT
BEGIN:VEVENT
DTSTART;TZID=UTC:20221231T120000
DTEND;TZID=UTC:20221231T170000
DTSTAMP:20260421T141653
CREATED:20221128T180623Z
LAST-MODIFIED:20221128T180623Z
UID:3513-1672488000-1672506000@elmarovineyard.com
SUMMARY:Open New Year's Eve\, 12-5 p.m.
DESCRIPTION:Reminisce the past year\, and celebrate what’s to come!  Elmaro is open 12-5 p.m. on New Year’s Eve!
URL:https://elmarovineyard.com/event/open-new-years-eve-12-5-p-m/
ATTACH;FMTTYPE=image/png:https://elmarovineyard.com/wp-content/uploads/2022/11/merry-christmas-and-happy-new-year-facebook-cover-1.png
END:VEVENT
BEGIN:VEVENT
DTSTART;TZID=UTC:20221231T130000
DTEND;TZID=UTC:20221231T160000
DTSTAMP:20260421T141653
CREATED:20221219T180906Z
LAST-MODIFIED:20221219T180906Z
UID:3633-1672491600-1672502400@elmarovineyard.com
SUMMARY:Music by James Grant
DESCRIPTION:Raise a glass to the end of 2022 with James Grant!
URL:https://elmarovineyard.com/event/music-by-james-grant-10/
ATTACH;FMTTYPE=image/jpeg:https://elmarovineyard.com/wp-content/uploads/2022/12/James-Grant_new-scaled.jpg
END:VEVENT
BEGIN:VEVENT
DTSTART;TZID=UTC:20221231T143000
DTEND;TZID=UTC:20221231T153000
DTSTAMP:20260421T141653
CREATED:20221129T214936Z
LAST-MODIFIED:20221129T214936Z
UID:3537-1672497000-1672500600@elmarovineyard.com
SUMMARY:Melacato Sparkling Wine Spectacular!
DESCRIPTION:Sparkling wine is perfect for New Year’s Eve\, and this spectacular is all about Elmaro’s sparkling Melacato! Learn about Melacato’s history\, how it’s made\, and you’ll also sip and sample along the way. $20/person\, call 608-534-6456 for required reservations
URL:https://elmarovineyard.com/event/melacato-sparkling-wine-spectacular/
ATTACH;FMTTYPE=image/jpeg:https://elmarovineyard.com/wp-content/uploads/2022/11/melacato-scaled.jpg
END:VEVENT
END:VCALENDAR