BEGIN:VCALENDAR
VERSION:2.0
PRODID:-//Elmaro Vineyard - ECPv6.15.20//NONSGML v1.0//EN
CALSCALE:GREGORIAN
METHOD:PUBLISH
X-WR-CALNAME:Elmaro Vineyard
X-ORIGINAL-URL:https://elmarovineyard.com
X-WR-CALDESC:Events for Elmaro Vineyard
REFRESH-INTERVAL;VALUE=DURATION:PT1H
X-Robots-Tag:noindex
X-PUBLISHED-TTL:PT1H
BEGIN:VTIMEZONE
TZID:UTC
BEGIN:STANDARD
TZOFFSETFROM:+0000
TZOFFSETTO:+0000
TZNAME:UTC
DTSTART:20210101T000000
END:STANDARD
END:VTIMEZONE
BEGIN:VEVENT
DTSTART;TZID=UTC:20221218T130000
DTEND;TZID=UTC:20221218T160000
DTSTAMP:20260421T081859
CREATED:20221108T193015Z
LAST-MODIFIED:20221108T193015Z
UID:3458-1671368400-1671379200@elmarovineyard.com
SUMMARY:Music in the winery by Chris Rude
DESCRIPTION:Join us for music by classical guitarist Chris Rude\, 1-4 pm today!
URL:https://elmarovineyard.com/event/music-in-the-winery-by-chris-rude/
ATTACH;FMTTYPE=image/jpeg:https://elmarovineyard.com/wp-content/uploads/2022/11/Chris-Rude.jpg
END:VEVENT
BEGIN:VEVENT
DTSTART;TZID=UTC:20221220T120000
DTEND;TZID=UTC:20221220T170000
DTSTAMP:20260421T081859
CREATED:20221219T164806Z
LAST-MODIFIED:20221219T164806Z
UID:3619-1671537600-1671555600@elmarovineyard.com
SUMMARY:10 Days of Big River Currant Cocktails!
DESCRIPTION:Now through December 31st\, Elmaro is serving Big River Currant cocktails! Try the Kir\, Kir Normand\, or Kir Royale. We even have a recipe card for you to recreate these at home.
URL:https://elmarovineyard.com/event/10-days-of-big-river-currant-cocktails/2022-12-20/
ATTACH;FMTTYPE=image/jpeg:https://elmarovineyard.com/wp-content/uploads/2022/12/big-river-2022-scaled.jpg
END:VEVENT
BEGIN:VEVENT
DTSTART;TZID=UTC:20221220T120000
DTEND;TZID=UTC:20221220T180000
DTSTAMP:20260421T081859
CREATED:20221129T222848Z
LAST-MODIFIED:20221219T152637Z
UID:3548-1671537600-1671559200@elmarovineyard.com
SUMMARY:Bonus $5 Gift Card with purchase of $50
DESCRIPTION:It’s time for gift cards!  In December\, purchase at least $50 in gift cards in one transaction\, and receive a bonus $5 gift card.  Can’t make it to Elmaro?  Call us and we can mail the gift cards to you!
URL:https://elmarovineyard.com/event/bonus-5-gift-cards-with-purchase-of-50/2022-12-20/
ATTACH;FMTTYPE=image/png:https://elmarovineyard.com/wp-content/uploads/2022/11/Copy-of-Buy-a-50-Gift-Card.png
END:VEVENT
BEGIN:VEVENT
DTSTART;TZID=UTC:20221223T150000
DTEND;TZID=UTC:20221223T180000
DTSTAMP:20260421T081859
CREATED:20221128T195904Z
LAST-MODIFIED:20221128T195904Z
UID:3519-1671807600-1671818400@elmarovineyard.com
SUMMARY:Music at the winery by Curt Glenna
DESCRIPTION:Curt Glenna is a mix of 70s covers\, light tunes\, and a lot of fun\, and it pairs perfectly with wine and friends.
URL:https://elmarovineyard.com/event/music-at-the-winery-by-curt-glenna/
ATTACH;FMTTYPE=image/jpeg:https://elmarovineyard.com/wp-content/uploads/2022/11/Curt-Glenna2.jpg
END:VEVENT
BEGIN:VEVENT
DTSTART;TZID=UTC:20221224T120000
DTEND;TZID=UTC:20221224T170000
DTSTAMP:20260421T081859
CREATED:20221122T173521Z
LAST-MODIFIED:20221122T173521Z
UID:3480-1671883200-1671901200@elmarovineyard.com
SUMMARY:Open Christmas Eve\, 12-5 p.m.
DESCRIPTION:Relax at Elmaro on December 24th with friends and family! We will be open 12-5 p.m.\, and James Grant will perform 1-4 p.m.
URL:https://elmarovineyard.com/event/open-christmas-eve-12-5-p-m/
ATTACH;FMTTYPE=image/png:https://elmarovineyard.com/wp-content/uploads/2022/11/merry-christmas-and-happy-new-year-facebook-cover.png
END:VEVENT
BEGIN:VEVENT
DTSTART;TZID=UTC:20221224T130000
DTEND;TZID=UTC:20221224T160000
DTSTAMP:20260421T081859
CREATED:20221128T201426Z
LAST-MODIFIED:20221128T201426Z
UID:3522-1671886800-1671897600@elmarovineyard.com
SUMMARY:Music at the vineyard by James Grant
DESCRIPTION:Join James and the Elmaro staff as you relax on Christmas Eve.
URL:https://elmarovineyard.com/event/music-at-the-vineyard-by-james-grant/
ATTACH;FMTTYPE=image/png:https://elmarovineyard.com/wp-content/uploads/2022/11/James-Grant-2-1.png
END:VEVENT
END:VCALENDAR