BEGIN:VCALENDAR
VERSION:2.0
PRODID:-//Elmaro Vineyard - ECPv6.15.20//NONSGML v1.0//EN
CALSCALE:GREGORIAN
METHOD:PUBLISH
X-ORIGINAL-URL:https://elmarovineyard.com
X-WR-CALDESC:Events for Elmaro Vineyard
REFRESH-INTERVAL;VALUE=DURATION:PT1H
X-Robots-Tag:noindex
X-PUBLISHED-TTL:PT1H
BEGIN:VTIMEZONE
TZID:UTC
BEGIN:STANDARD
TZOFFSETFROM:+0000
TZOFFSETTO:+0000
TZNAME:UTC
DTSTART:20230101T000000
END:STANDARD
END:VTIMEZONE
BEGIN:VEVENT
DTSTART;TZID=UTC:20241215T130000
DTEND;TZID=UTC:20241215T160000
DTSTAMP:20260423T022604
CREATED:20241021T205700Z
LAST-MODIFIED:20241021T205700Z
UID:5669-1734267600-1734278400@elmarovineyard.com
SUMMARY:Music by Tim Dallman
DESCRIPTION:Tim is a rock/pop/Americana singer-songwriter who performs his original music as well as a wide range of cover songs.
URL:https://elmarovineyard.com/event/music-by-tim-dallman-14/
ATTACH;FMTTYPE=image/jpeg:https://elmarovineyard.com/wp-content/uploads/2024/10/tim-dallman4.jpg
END:VEVENT
BEGIN:VEVENT
DTSTART;TZID=UTC:20241219T110000
DTEND;TZID=UTC:20241219T120000
DTSTAMP:20260423T022604
CREATED:20241021T203307Z
LAST-MODIFIED:20241219T151614Z
UID:5648-1734606000-1734609600@elmarovineyard.com
SUMMARY:Adaptive Yoga - Canceled Due to Weather
DESCRIPTION:Enjoy the SNOW DAY!  Yoga is canceled. \nAt 11:00 a.m.\, Join Laura (co-owner and winemaker) for a one-hour yoga practice for anyone with a modified range of motion. Chairs are available for sitting or standing prop\, no former yoga training is required\, and please bring your own mat and water bottle\, $2 per person. (We welcome drop-ins!)
URL:https://elmarovineyard.com/event/adaptive-yoga-20-2024-12-19/
ATTACH;FMTTYPE=image/jpeg:https://elmarovineyard.com/wp-content/uploads/2024/10/adaptive1-scaled.jpg
END:VEVENT
BEGIN:VEVENT
DTSTART;TZID=UTC:20241219T190000
DTEND;TZID=UTC:20241219T210000
DTSTAMP:20260423T022604
CREATED:20241111T202530Z
LAST-MODIFIED:20241111T202530Z
UID:5712-1734634800-1734642000@elmarovineyard.com
SUMMARY:Ugly Christmas Sweater Bingo Night #1
DESCRIPTION:Ugly Christmas Sweater Bingo Night #1 at Elmaro Vineyard\, THURSDAY\, December 19th\, 7:00 p.m.! No registration fee\, required reservations are at: https://www.exploretock.com/elmarovineyard/event/514029/ugly-christmas-sweater-bingo-night-1\nTwo complimentary bingo cards for each guest\, assorted prizes\, and an Ugly Christmas Sweater contest! Bingo will begin promptly at 7:00 p.m.
URL:https://elmarovineyard.com/event/ugly-christmas-sweater-bingo-night-1/
ATTACH;FMTTYPE=image/png:https://elmarovineyard.com/wp-content/uploads/2024/11/CAM-use-this-BINGO-facebook-event-cover-11-x-8.5-in-6.png
END:VEVENT
BEGIN:VEVENT
DTSTART;TZID=UTC:20241220T190000
DTEND;TZID=UTC:20241220T210000
DTSTAMP:20260423T022604
CREATED:20241111T204623Z
LAST-MODIFIED:20241111T204731Z
UID:5715-1734721200-1734728400@elmarovineyard.com
SUMMARY:Ugly Christmas Sweater Bingo Night #2!
DESCRIPTION:It’s the second night of Ugly Christmas Sweater Bingo at Elmaro Vineyard!  FRIDAY\, December 20th\, 7:00 p.m.! No registration fee\, required reservations are at: https://www.exploretock.com/elmarovineyard/event/514034/ugly-christmas-sweater-bingo-night-2\nTwo complimentary bingo cards for each guest\, assorted prizes\, and an Ugly Christmas Sweater contest! Bingo will begin promptly at 7:00 p.m.
URL:https://elmarovineyard.com/event/5715/
ATTACH;FMTTYPE=image/png:https://elmarovineyard.com/wp-content/uploads/2024/11/CAM-use-this-BINGO-facebook-event-cover-11-x-8.5-in-7.png
END:VEVENT
BEGIN:VEVENT
DTSTART;TZID=UTC:20241221T140000
DTEND;TZID=UTC:20241221T170000
DTSTAMP:20260423T022604
CREATED:20241030T193210Z
LAST-MODIFIED:20241030T193210Z
UID:5706-1734789600-1734800400@elmarovineyard.com
SUMMARY:Music by Curt Glenna
DESCRIPTION:Curt performs a mix of 70s covers\, light tunes\, and a lot of fun.
URL:https://elmarovineyard.com/event/music-by-curt-glenna-8/
ATTACH;FMTTYPE=image/jpeg:https://elmarovineyard.com/wp-content/uploads/2024/10/Curt-Glenna2-1.jpg
END:VEVENT
BEGIN:VEVENT
DTSTART;TZID=UTC:20241222T130000
DTEND;TZID=UTC:20241222T160000
DTSTAMP:20260423T022604
CREATED:20241030T193357Z
LAST-MODIFIED:20241030T193357Z
UID:5709-1734872400-1734883200@elmarovineyard.com
SUMMARY:Music by David Hartman
DESCRIPTION:David plays 6 and 12 string guitar for soft rock\, country\, folk\, and modern music primarily from the 60’s and 70’s. It’s a little something for everyone!
URL:https://elmarovineyard.com/event/music-by-david-hartman-15/
ATTACH;FMTTYPE=image/jpeg:https://elmarovineyard.com/wp-content/uploads/2024/10/david-hartman4-1.jpg
END:VEVENT
BEGIN:VEVENT
DTSTART;TZID=UTC:20241224T120000
DTEND;TZID=UTC:20241224T170000
DTSTAMP:20260423T022604
CREATED:20241125T200457Z
LAST-MODIFIED:20241125T200841Z
UID:5733-1735041600-1735059600@elmarovineyard.com
SUMMARY:Christmas Eve\, Open 12-5 p.m.
DESCRIPTION:It’s a great day to relax at Elmaro\, listen to the music of James Grant\, and spend time with family and friends. We will see you on the 24th\, 12-5 p.m.
URL:https://elmarovineyard.com/event/christmas-eve-open-12-5-p-m/
ATTACH;FMTTYPE=image/png:https://elmarovineyard.com/wp-content/uploads/2024/11/Watercolor-Merry-Christmas-Wishes-Facebook-Cover.png
END:VEVENT
BEGIN:VEVENT
DTSTART;TZID=UTC:20241224T130000
DTEND;TZID=UTC:20241224T160000
DTSTAMP:20260423T022604
CREATED:20241125T200306Z
LAST-MODIFIED:20241125T200306Z
UID:5731-1735045200-1735056000@elmarovineyard.com
SUMMARY:Music by James Grant
DESCRIPTION:It’s a Christmas Eve tradition\, Elmaro has James Grant performing 1-4 p.m. on the 24th.
URL:https://elmarovineyard.com/event/music-by-james-grant-24/
ATTACH;FMTTYPE=image/jpeg:https://elmarovineyard.com/wp-content/uploads/2024/09/James-Grant6.jpg
END:VEVENT
BEGIN:VEVENT
DTSTART;TZID=UTC:20241225T120000
DTEND;TZID=UTC:20241225T180000
DTSTAMP:20260423T022604
CREATED:20241021T205207Z
LAST-MODIFIED:20241021T205207Z
UID:5666-1735128000-1735149600@elmarovineyard.com
SUMMARY:Closed for Christmas
DESCRIPTION:Elmaro Vineyard is closed on Wednesday\, December 25th\, so that we may celebrate Christmas with friends and family.  We will see you on the 26th at noon!
URL:https://elmarovineyard.com/event/closed-for-christmas-3/
ATTACH;FMTTYPE=image/png:https://elmarovineyard.com/wp-content/uploads/2024/10/Elmaro-Vineyard-is-closed-Wednesday-December-25th-for-Christmas.png
END:VEVENT
BEGIN:VEVENT
DTSTART;TZID=UTC:20241226T180000
DTEND;TZID=UTC:20241226T193000
DTSTAMP:20260423T022604
CREATED:20241119T162746Z
LAST-MODIFIED:20241119T162746Z
UID:5725-1735236000-1735241400@elmarovineyard.com
SUMMARY:Trivia Night
DESCRIPTION:Get your family out of the house and get registered for Trivia Night at Elmaro! Thursday\, December 26th\, 6:00-7:30 p.m. There’s no fee\, but registration of teams is required at https://www.exploretock.com/elmarovineyard/event/517648/trivia-night. Team sizes of up to 6 people only\, and prizes awarded for 1st\, 2nd\, and 3rd place teams. When registering\, please register the total number of guests on your team.
URL:https://elmarovineyard.com/event/trivia-night-7/
ATTACH;FMTTYPE=image/jpeg:https://elmarovineyard.com/wp-content/uploads/2024/11/trivia-night-12.jpg
END:VEVENT
BEGIN:VEVENT
DTSTART;TZID=UTC:20241228T100000
DTEND;TZID=UTC:20241228T113000
DTSTAMP:20260423T022604
CREATED:20241021T203917Z
LAST-MODIFIED:20241021T203917Z
UID:5657-1735380000-1735385400@elmarovineyard.com
SUMMARY:Yoga & Brunch
DESCRIPTION:It’s the perfect way to start saying farewell to 2024! Join Laura (co-owner and winemaker) for a relaxing hour of vinyasa flow yoga practice\, followed by brunch and a full mimosa bar. $30/person. Required reservations are made at https://www.exploretock.com/elmarovineyard/event/511088/yoga-brunch
URL:https://elmarovineyard.com/event/yoga-brunch-17/
ATTACH;FMTTYPE=image/png:https://elmarovineyard.com/wp-content/uploads/2024/10/New-Years-Eve-Yoga-Brunch-10-a.m.-1920-x-1080-px.png
END:VEVENT
BEGIN:VEVENT
DTSTART;TZID=UTC:20241228T140000
DTEND;TZID=UTC:20241228T170000
DTSTAMP:20260423T022604
CREATED:20241125T200132Z
LAST-MODIFIED:20241125T200132Z
UID:5728-1735394400-1735405200@elmarovineyard.com
SUMMARY:Music by The Codys
DESCRIPTION:The Codys\, Jackie and Joe\, are performing at Elmaro on Saturday\, December 28th\, 2-5 p.m.
URL:https://elmarovineyard.com/event/music-by-the-codys/
ATTACH;FMTTYPE=image/png:https://elmarovineyard.com/wp-content/uploads/2024/11/Joe-and-Jackie-Cody-December-28th-2-5-p.m.png
END:VEVENT
BEGIN:VEVENT
DTSTART;TZID=UTC:20241231T170000
DTEND;TZID=UTC:20241231T190000
DTSTAMP:20260423T022604
CREATED:20241210T211950Z
LAST-MODIFIED:20241210T211950Z
UID:5750-1735664400-1735671600@elmarovineyard.com
SUMMARY:New Year's Eve Cheese Tasting
DESCRIPTION:It’s an evening of cheese\, sparkling wine\, caviar\, and scrumptious treats.\nJoin us in sampling and scoring up to 15 cheeses to help Elmaro select a new cheese for next year’s Local Plate. Entry includes cheese tastings\, one sparkling wine cocktail\, and a caviar tasting! The tasting is a 5-7 p.m. open house style\, $35/person\, and reservations are at https://www.exploretock.com/elmarovineyard/event/521973/new-years-eve-cheese-tasting
URL:https://elmarovineyard.com/event/new-years-eve-cheese-tasting/
ATTACH;FMTTYPE=image/png:https://elmarovineyard.com/wp-content/uploads/2024/12/New-Years-Eve-Cheese-Tasting-1.png
END:VEVENT
BEGIN:VEVENT
DTSTART;TZID=UTC:20250101T120000
DTEND;TZID=UTC:20250101T180000
DTSTAMP:20260423T022604
CREATED:20241111T212047Z
LAST-MODIFIED:20241111T212047Z
UID:5722-1735732800-1735754400@elmarovineyard.com
SUMMARY:Closed New Year's Day
DESCRIPTION:Elmaro Vineyard is closed January 1st\, 2025\, so that we can celebrate the start of the new year with our family and friends.  We will see you on January 2nd at noon!
URL:https://elmarovineyard.com/event/closed-new-years-day/
ATTACH;FMTTYPE=image/png:https://elmarovineyard.com/wp-content/uploads/2024/11/merry-christmas-and-happy-new-year-facebook-cover.png
END:VEVENT
BEGIN:VEVENT
DTSTART;TZID=UTC:20250102T110000
DTEND;TZID=UTC:20250102T120000
DTSTAMP:20260423T022604
CREATED:20241021T203508Z
LAST-MODIFIED:20241021T203508Z
UID:5650-1735815600-1735819200@elmarovineyard.com
SUMMARY:Adaptive Yoga
DESCRIPTION:At 11:00 a.m.\, Join Laura (co-owner and winemaker) for a one-hour yoga practice for anyone with a modified range of motion. Chairs are available for sitting or standing prop\, no former yoga training is required\, and please bring your own mat and water bottle\, $2 per person. (We welcome drop-ins!)
URL:https://elmarovineyard.com/event/adaptive-yoga-21/2025-01-02/
ATTACH;FMTTYPE=image/jpeg:https://elmarovineyard.com/wp-content/uploads/2024/10/adaptive1-1-scaled.jpg
END:VEVENT
BEGIN:VEVENT
DTSTART;TZID=UTC:20250102T160000
DTEND;TZID=UTC:20250102T200000
DTSTAMP:20260423T022604
CREATED:20241218T202212Z
LAST-MODIFIED:20241218T202212Z
UID:5754-1735833600-1735848000@elmarovineyard.com
SUMMARY:Date Night
DESCRIPTION:Enjoy a local cheese plate and two glasses of wine\, $20
URL:https://elmarovineyard.com/event/date-night-16/
ATTACH;FMTTYPE=image/jpeg:https://elmarovineyard.com/wp-content/uploads/2024/12/Date-Night-21.jpg
END:VEVENT
BEGIN:VEVENT
DTSTART;TZID=UTC:20250104T140000
DTEND;TZID=UTC:20250104T170000
DTSTAMP:20260423T022604
CREATED:20241218T202442Z
LAST-MODIFIED:20241218T202442Z
UID:5757-1735999200-1736010000@elmarovineyard.com
SUMMARY:Music by Doug Mahlum
DESCRIPTION:Doug Mahlum is a veteran musician in this area with over 40 years of experience. He can easily draw from over 60 years of songs in a number of different genres including Rock\, Pop\, Country\, Folk\, Show tunes\, and Jazz standards. Doug likes to have fun and interact with the group and will encourage sing-a-longs (if it’s okay with your neighbors).
URL:https://elmarovineyard.com/event/music-by-doug-mahlum-17/
ATTACH;FMTTYPE=image/jpeg:https://elmarovineyard.com/wp-content/uploads/2024/10/Doug-Mahlum3.jpg
END:VEVENT
BEGIN:VEVENT
DTSTART;TZID=UTC:20250105T130000
DTEND;TZID=UTC:20250105T160000
DTSTAMP:20260423T022604
CREATED:20241218T202547Z
LAST-MODIFIED:20241218T202547Z
UID:5759-1736082000-1736092800@elmarovineyard.com
SUMMARY:Classical guitar by Chris Rude
DESCRIPTION:Classical guitar is timeless\, relaxing\, and stunning\, and Chris Rude is performing live at Elmaro from 1-4 p.m.
URL:https://elmarovineyard.com/event/classical-guitar-by-chris-rude-10/
ATTACH;FMTTYPE=image/jpeg:https://elmarovineyard.com/wp-content/uploads/2024/11/Chris-Rude.jpg
END:VEVENT
BEGIN:VEVENT
DTSTART;TZID=UTC:20250109T110000
DTEND;TZID=UTC:20250109T120000
DTSTAMP:20260423T022604
CREATED:20241021T203508Z
LAST-MODIFIED:20241021T203508Z
UID:5652-1736420400-1736424000@elmarovineyard.com
SUMMARY:Adaptive Yoga
DESCRIPTION:At 11:00 a.m.\, Join Laura (co-owner and winemaker) for a one-hour yoga practice for anyone with a modified range of motion. Chairs are available for sitting or standing prop\, no former yoga training is required\, and please bring your own mat and water bottle\, $2 per person. (We welcome drop-ins!)
URL:https://elmarovineyard.com/event/adaptive-yoga-21/2025-01-09/
ATTACH;FMTTYPE=image/jpeg:https://elmarovineyard.com/wp-content/uploads/2024/10/adaptive1-1-scaled.jpg
END:VEVENT
BEGIN:VEVENT
DTSTART;TZID=UTC:20250109T160000
DTEND;TZID=UTC:20250109T200000
DTSTAMP:20260423T022604
CREATED:20241219T213927Z
LAST-MODIFIED:20241219T213927Z
UID:5787-1736438400-1736452800@elmarovineyard.com
SUMMARY:Build Your Own Charcuterie Board Night
DESCRIPTION:You’ll select seven options from cheeses\, salami\, summer sausage\, sweet treats\, and crackers to fit your mood and cravings for $19\, and you can add on two glasses of wine for only $6 more\, no registration needed.
URL:https://elmarovineyard.com/event/build-your-own-charcuterie-board-night/2025-01-09/
ATTACH;FMTTYPE=image/png:https://elmarovineyard.com/wp-content/uploads/2024/12/build-your-own.png
END:VEVENT
BEGIN:VEVENT
DTSTART;TZID=UTC:20250110T120000
DTEND;TZID=UTC:20250110T190000
DTSTAMP:20260423T022604
CREATED:20250108T214729Z
LAST-MODIFIED:20250108T214729Z
UID:5810-1736510400-1736535600@elmarovineyard.com
SUMMARY:Chocolate Day at Elmaro!
DESCRIPTION:Chocolate fans rejoice! On January 10th\, enjoy 10% off all chocolate items at Elmaro\, AND sip on a fudgy hot cocoa for $4. Additionally\, there’s a vine walk and vine pruning demonstration at 4 p.m. with Laura (owner & winemaker) and Ethan G. (assistant vineyard manager). Indulge in chocolate\, wine\, and the knowledge of our staff. No registration needed!
URL:https://elmarovineyard.com/event/chocolate-day-at-elmaro/
ATTACH;FMTTYPE=image/jpeg:https://elmarovineyard.com/wp-content/uploads/2025/01/chocolate-day-3.jpg
END:VEVENT
BEGIN:VEVENT
DTSTART;TZID=UTC:20250111T140000
DTEND;TZID=UTC:20250111T170000
DTSTAMP:20260423T022604
CREATED:20241218T202825Z
LAST-MODIFIED:20241218T202825Z
UID:5761-1736604000-1736614800@elmarovineyard.com
SUMMARY:Music by James Grant
DESCRIPTION:James Grant covers 60s and 70s easy rock\, and he’s filling the winery with music from 2-5 p.m.
URL:https://elmarovineyard.com/event/music-by-james-grant-26/
ATTACH;FMTTYPE=image/jpeg:https://elmarovineyard.com/wp-content/uploads/2024/09/James-Grant6.jpg
END:VEVENT
BEGIN:VEVENT
DTSTART;TZID=UTC:20250116T110000
DTEND;TZID=UTC:20250116T120000
DTSTAMP:20260423T022604
CREATED:20241021T203508Z
LAST-MODIFIED:20241021T203508Z
UID:5653-1737025200-1737028800@elmarovineyard.com
SUMMARY:Adaptive Yoga
DESCRIPTION:At 11:00 a.m.\, Join Laura (co-owner and winemaker) for a one-hour yoga practice for anyone with a modified range of motion. Chairs are available for sitting or standing prop\, no former yoga training is required\, and please bring your own mat and water bottle\, $2 per person. (We welcome drop-ins!)
URL:https://elmarovineyard.com/event/adaptive-yoga-21/2025-01-16/
ATTACH;FMTTYPE=image/jpeg:https://elmarovineyard.com/wp-content/uploads/2024/10/adaptive1-1-scaled.jpg
END:VEVENT
BEGIN:VEVENT
DTSTART;TZID=UTC:20250116T160000
DTEND;TZID=UTC:20250116T200000
DTSTAMP:20260423T022604
CREATED:20241219T213927Z
LAST-MODIFIED:20241219T213927Z
UID:5789-1737043200-1737057600@elmarovineyard.com
SUMMARY:Build Your Own Charcuterie Board Night
DESCRIPTION:You’ll select seven options from cheeses\, salami\, summer sausage\, sweet treats\, and crackers to fit your mood and cravings for $19\, and you can add on two glasses of wine for only $6 more\, no registration needed.
URL:https://elmarovineyard.com/event/build-your-own-charcuterie-board-night/2025-01-16/
ATTACH;FMTTYPE=image/png:https://elmarovineyard.com/wp-content/uploads/2024/12/build-your-own.png
END:VEVENT
BEGIN:VEVENT
DTSTART;TZID=UTC:20250117T150000
DTEND;TZID=UTC:20250117T180000
DTSTAMP:20260423T022604
CREATED:20241218T203144Z
LAST-MODIFIED:20241218T203144Z
UID:5763-1737126000-1737136800@elmarovineyard.com
SUMMARY:Music by Sal & Dean
DESCRIPTION:Elmaro has a fantastic Friday night for you with music by Sal & Dean from 3-6 p.m.
URL:https://elmarovineyard.com/event/music-by-sal-dean-2/
ATTACH;FMTTYPE=image/jpeg:https://elmarovineyard.com/wp-content/uploads/2024/12/Sal-Dean-2.jpg
END:VEVENT
BEGIN:VEVENT
DTSTART;TZID=UTC:20250118T100000
DTEND;TZID=UTC:20250118T113000
DTSTAMP:20260423T022604
CREATED:20241219T212854Z
LAST-MODIFIED:20241219T212854Z
UID:5784-1737194400-1737199800@elmarovineyard.com
SUMMARY:Yoga & Brunch
DESCRIPTION:Join Laura (co-owner and winemaker) for a relaxing hour of vinyasa flow yoga practice\, followed by a continental brunch and a mimosa. $23/person\, registration at https://www.exploretock.com/elmarovineyard/event/523660/yoga-brunch
URL:https://elmarovineyard.com/event/yoga-brunch-18/
ATTACH;FMTTYPE=image/png:https://elmarovineyard.com/wp-content/uploads/2024/12/New-Years-Eve-Yoga-Brunch-10-a.m.-1920-x-1080-px-1.png
END:VEVENT
BEGIN:VEVENT
DTSTART;TZID=UTC:20250118T140000
DTEND;TZID=UTC:20250118T170000
DTSTAMP:20260423T022604
CREATED:20241218T203341Z
LAST-MODIFIED:20241218T203341Z
UID:5766-1737208800-1737219600@elmarovineyard.com
SUMMARY:Music by Jeani & The Dreamers
DESCRIPTION:Jeani & The Dreamers are at Elmaro! Keep the weekend vibes going and dance with them from 2-5 p.m.
URL:https://elmarovineyard.com/event/music-by-jeani-the-dreamers-10/
ATTACH;FMTTYPE=image/jpeg:https://elmarovineyard.com/wp-content/uploads/2024/10/Jeaniandthedreamers.jpg
END:VEVENT
BEGIN:VEVENT
DTSTART;TZID=UTC:20250119T120000
DTEND;TZID=UTC:20250119T170000
DTSTAMP:20260423T022604
CREATED:20241218T203814Z
LAST-MODIFIED:20241218T203814Z
UID:5771-1737288000-1737306000@elmarovineyard.com
SUMMARY:Celebrate National Cheese Lover's Day
DESCRIPTION:Enjoy $2 off all cheese plates today (12-5 p.m.) in honor of Cheese Lover’s Day.
URL:https://elmarovineyard.com/event/celebrate-national-cheese-lovers-day/
ATTACH;FMTTYPE=image/jpeg:https://elmarovineyard.com/wp-content/uploads/2024/12/artisan-on-barrel.jpg
END:VEVENT
BEGIN:VEVENT
DTSTART;TZID=UTC:20250119T130000
DTEND;TZID=UTC:20250119T160000
DTSTAMP:20260423T022604
CREATED:20241218T203630Z
LAST-MODIFIED:20241218T203630Z
UID:5768-1737291600-1737302400@elmarovineyard.com
SUMMARY:Music by Greg Gall and his Sisters from Another Mother
DESCRIPTION:Greg and his “Sisters” perform acoustic Folk/Rock from the seventies and beyond.
URL:https://elmarovineyard.com/event/music-by-greg-gall-and-his-sisters-from-another-mother-3/
ATTACH;FMTTYPE=image/jpeg:https://elmarovineyard.com/wp-content/uploads/2024/12/Greg-Gall-scaled.jpg
END:VEVENT
BEGIN:VEVENT
DTSTART;TZID=UTC:20250123T110000
DTEND;TZID=UTC:20250123T120000
DTSTAMP:20260423T022604
CREATED:20241021T203508Z
LAST-MODIFIED:20241021T203508Z
UID:5654-1737630000-1737633600@elmarovineyard.com
SUMMARY:Adaptive Yoga
DESCRIPTION:At 11:00 a.m.\, Join Laura (co-owner and winemaker) for a one-hour yoga practice for anyone with a modified range of motion. Chairs are available for sitting or standing prop\, no former yoga training is required\, and please bring your own mat and water bottle\, $2 per person. (We welcome drop-ins!)
URL:https://elmarovineyard.com/event/adaptive-yoga-21/2025-01-23/
ATTACH;FMTTYPE=image/jpeg:https://elmarovineyard.com/wp-content/uploads/2024/10/adaptive1-1-scaled.jpg
END:VEVENT
END:VCALENDAR