BEGIN:VCALENDAR
VERSION:2.0
PRODID:-//Elmaro Vineyard - ECPv6.15.20//NONSGML v1.0//EN
CALSCALE:GREGORIAN
METHOD:PUBLISH
X-ORIGINAL-URL:https://elmarovineyard.com
X-WR-CALDESC:Events for Elmaro Vineyard
REFRESH-INTERVAL;VALUE=DURATION:PT1H
X-Robots-Tag:noindex
X-PUBLISHED-TTL:PT1H
BEGIN:VTIMEZONE
TZID:UTC
BEGIN:STANDARD
TZOFFSETFROM:+0000
TZOFFSETTO:+0000
TZNAME:UTC
DTSTART:20230101T000000
END:STANDARD
END:VTIMEZONE
BEGIN:VEVENT
DTSTART;TZID=UTC:20241018T120000
DTEND;TZID=UTC:20241018T190000
DTSTAMP:20260421T235729
CREATED:20240930T174641Z
LAST-MODIFIED:20240930T175234Z
UID:5573-1729252800-1729278000@elmarovineyard.com
SUMMARY:Flannel Fridays
DESCRIPTION:It’s fall and time to break out the flannel! Wear your favorite flannel to Elmaro on Fridays in October and receive $1 off glasses of wine\, 12-7 p.m.
URL:https://elmarovineyard.com/event/flannel-fridays/2024-10-18/
ATTACH;FMTTYPE=image/png:https://elmarovineyard.com/wp-content/uploads/2024/09/Flannel-Fridays-in-October-Wear-flannel-and-receive-1-off-glasses-of-wine.-2.png
END:VEVENT
BEGIN:VEVENT
DTSTART;TZID=UTC:20241018T150000
DTEND;TZID=UTC:20241018T180000
DTSTAMP:20260421T235729
CREATED:20240905T144932Z
LAST-MODIFIED:20240905T144932Z
UID:5518-1729263600-1729274400@elmarovineyard.com
SUMMARY:Music by Bradford Loomis
DESCRIPTION:Bradford marries grit and melody to dig to the roots of American folklore and speak of the raw reality of the human condition with soul\, passion\, and hope. Brad’s stories span a lifetime of relatable emotions\, be it the bitterness of loss\, the deep longing of regret\, the enduring hope of love\, or the elation of joy.
URL:https://elmarovineyard.com/event/music-by-bradford-loomis-4/
ATTACH;FMTTYPE=image/jpeg:https://elmarovineyard.com/wp-content/uploads/2024/09/bradford-loomis2.jpg
END:VEVENT
BEGIN:VEVENT
DTSTART;TZID=UTC:20241019T140000
DTEND;TZID=UTC:20241019T170000
DTSTAMP:20260421T235729
CREATED:20240930T181847Z
LAST-MODIFIED:20240930T181847Z
UID:5585-1729346400-1729357200@elmarovineyard.com
SUMMARY:Music by the Coulee Region Steel Drum Band
DESCRIPTION:It might be fall but the sounds of the tropics are still at Elmaro!  Come on out in your favorite flannel or Hawaiian shirt.
URL:https://elmarovineyard.com/event/music-by-the-coulee-region-steel-drum-band-5/
ATTACH;FMTTYPE=image/jpeg:https://elmarovineyard.com/wp-content/uploads/2024/09/coulee-rsdb.jpg
END:VEVENT
BEGIN:VEVENT
DTSTART;TZID=UTC:20241020T130000
DTEND;TZID=UTC:20241020T160000
DTSTAMP:20260421T235729
CREATED:20240905T145340Z
LAST-MODIFIED:20240905T145340Z
UID:5524-1729429200-1729440000@elmarovineyard.com
SUMMARY:Music by Tyler Herwig
DESCRIPTION:One voice and six strings in the back of his truck is all it took to launch Tyler Herwig into one of the Mid-West’s favorite acoustic artists. Prepare to be entertained as Tyler takes the stage and share’s his incredible talent through original music and stylings of songs from all genres. You will be captivated by his soulful voice and energizing performance.
URL:https://elmarovineyard.com/event/music-by-tyler-herwig-4/
ATTACH;FMTTYPE=image/jpeg:https://elmarovineyard.com/wp-content/uploads/2024/09/tyler-herwig.jpg
END:VEVENT
BEGIN:VEVENT
DTSTART;TZID=UTC:20241024T110000
DTEND;TZID=UTC:20241024T120000
DTSTAMP:20260421T235729
CREATED:20240905T142401Z
LAST-MODIFIED:20240916T195624Z
UID:5491-1729767600-1729771200@elmarovineyard.com
SUMMARY:Adaptive Yoga
DESCRIPTION:At 11:00 a.m.\, Join Laura (co-owner and winemaker) for a one-hour yoga practice for anyone with a modified range of motion. Chairs are available for sitting or standing prop\, no former yoga training is required\, and please bring your own mat and water bottle\, $2 per person. (We welcome drop-ins!)
URL:https://elmarovineyard.com/event/adaptive-yoga-19/2024-10-24/
ATTACH;FMTTYPE=image/jpeg:https://elmarovineyard.com/wp-content/uploads/2024/09/adaptive1-scaled.jpg
END:VEVENT
BEGIN:VEVENT
DTSTART;TZID=UTC:20241025T120000
DTEND;TZID=UTC:20241025T190000
DTSTAMP:20260421T235729
CREATED:20240930T183038Z
LAST-MODIFIED:20240930T183038Z
UID:5594-1729857600-1729882800@elmarovineyard.com
SUMMARY:Flannel Friday
DESCRIPTION:It’s fall and time to break out the flannel! Wear your favorite flannel to Elmaro on Fridays in October and receive $1 off glasses of wine\, 12-7 p.m.
URL:https://elmarovineyard.com/event/flannel-friday-5/
ATTACH;FMTTYPE=image/png:https://elmarovineyard.com/wp-content/uploads/2024/09/Flannel-Fridays-in-October-Wear-flannel-and-receive-1-off-glasses-of-wine.-2-1.png
END:VEVENT
BEGIN:VEVENT
DTSTART;TZID=UTC:20241026T140000
DTEND;TZID=UTC:20241026T170000
DTSTAMP:20260421T235729
CREATED:20240930T182312Z
LAST-MODIFIED:20240930T182312Z
UID:5588-1729951200-1729962000@elmarovineyard.com
SUMMARY:Music by Doug Mahlum
DESCRIPTION:Doug Mahlum is a veteran musician in this area with over 40 years of experience. He can easily draw from over 60 years of songs in a number of different genres including Rock\, Pop\, Country\, Folk\, Show tunes\, and Jazz standards. Doug likes to have fun and interact with the group and will encourage sing-a-longs (if it’s okay with your neighbors).
URL:https://elmarovineyard.com/event/music-by-doug-mahlum-15/
ATTACH;FMTTYPE=image/jpeg:https://elmarovineyard.com/wp-content/uploads/2024/09/Doug-Mahlum3.jpg
END:VEVENT
BEGIN:VEVENT
DTSTART;TZID=UTC:20241027T130000
DTEND;TZID=UTC:20241027T160000
DTSTAMP:20260421T235729
CREATED:20240930T182929Z
LAST-MODIFIED:20240930T182929Z
UID:5591-1730034000-1730044800@elmarovineyard.com
SUMMARY:Classical guitar by Chris Rude
DESCRIPTION:Classical guitar is timeless\, relaxing\, and stunning\, and Chris Rude is performing live at Elmaro from 1-4 p.m.
URL:https://elmarovineyard.com/event/classical-guitar-by-chris-rude-8/
ATTACH;FMTTYPE=image/jpeg:https://elmarovineyard.com/wp-content/uploads/2024/09/Chris-Rude-2.jpg
END:VEVENT
BEGIN:VEVENT
DTSTART;TZID=UTC:20241027T130000
DTEND;TZID=UTC:20241027T160000
DTSTAMP:20260421T235729
CREATED:20240930T185227Z
LAST-MODIFIED:20240930T185227Z
UID:5597-1730034000-1730044800@elmarovineyard.com
SUMMARY:Meet Jeff Nelson\, October Artist of the Month
DESCRIPTION:Jeff Nelson is a practicing artist living in the Eau Claire area. Jeff’s art involves representing the natural world through personal experiences. His works will reflect scenes from our great outdoors showing the quiet serenity and moods of nature.  Spend some time with Jeff today and find out what drives his art.
URL:https://elmarovineyard.com/event/meet-jeff-nelson-october-artist-of-the-month/
ATTACH;FMTTYPE=image/png:https://elmarovineyard.com/wp-content/uploads/2024/09/Untitled-design-50.png
END:VEVENT
BEGIN:VEVENT
DTSTART;TZID=UTC:20241031T110000
DTEND;TZID=UTC:20241031T120000
DTSTAMP:20260421T235729
CREATED:20240905T142401Z
LAST-MODIFIED:20240916T195624Z
UID:5492-1730372400-1730376000@elmarovineyard.com
SUMMARY:Adaptive Yoga
DESCRIPTION:At 11:00 a.m.\, Join Laura (co-owner and winemaker) for a one-hour yoga practice for anyone with a modified range of motion. Chairs are available for sitting or standing prop\, no former yoga training is required\, and please bring your own mat and water bottle\, $2 per person. (We welcome drop-ins!)
URL:https://elmarovineyard.com/event/adaptive-yoga-19/2024-10-31/
ATTACH;FMTTYPE=image/jpeg:https://elmarovineyard.com/wp-content/uploads/2024/09/adaptive1-scaled.jpg
END:VEVENT
BEGIN:VEVENT
DTSTART;TZID=UTC:20241031T123000
DTEND;TZID=UTC:20241031T200000
DTSTAMP:20260421T235729
CREATED:20241021T211016Z
LAST-MODIFIED:20241021T211016Z
UID:5672-1730377800-1730404800@elmarovineyard.com
SUMMARY:Puzzle Day
DESCRIPTION:Get piece of mind at Elmaro’s Puzzle Day!Register your team of up to 4 guests ($20/team of up to 4 people)\, and come to Elmaro and assemble our pre-selected 300 piece puzzle. Elmaro supplies the puzzle\, and the team keeps the puzzle after assembly. Teams are timed by Elmaro staff on the puzzle assembly\, and the fastest two teams win Elmaro gift cards.For the winning prizes\, $5 from each team registration goes to the payout in a 60/40 split for 1st and 2nd place\, so the more teams\, the bigger the Elmaro gift cards. Winners will be notified at the end of the day.Walk-ins are welcome as supplies lastRegister at http://www.exploretock.com/elmarovineyard
URL:https://elmarovineyard.com/event/puzzle-day-4/
ATTACH;FMTTYPE=image/png:https://elmarovineyard.com/wp-content/uploads/2024/10/Puzzle-Day-Thursday-April-18th-1920-x-1080-px-3.png
END:VEVENT
BEGIN:VEVENT
DTSTART;TZID=UTC:20241031T160000
DTEND;TZID=UTC:20241031T180000
DTSTAMP:20260421T235729
CREATED:20241021T211356Z
LAST-MODIFIED:20241021T211356Z
UID:5675-1730390400-1730397600@elmarovineyard.com
SUMMARY:Kids Trick-or-Treat at Elmaro
DESCRIPTION:Treats in Trempealeau on Halloween Night from 4-6 pm!Trick or Treat at your local businesses – see the map for participating locations\, you don’t want to miss Elmaro!
URL:https://elmarovineyard.com/event/kids-trick-or-treat-at-elmaro/
ATTACH;FMTTYPE=image/jpeg:https://elmarovineyard.com/wp-content/uploads/2024/10/trick-or-treat-at-elmaro-scaled.jpg
END:VEVENT
BEGIN:VEVENT
DTSTART;TZID=UTC:20241102T100000
DTEND;TZID=UTC:20241102T113000
DTSTAMP:20260421T235729
CREATED:20241021T190825Z
LAST-MODIFIED:20241021T190825Z
UID:5627-1730541600-1730547000@elmarovineyard.com
SUMMARY:Yoga & Brunch
DESCRIPTION:Yoga & Brunch\, 10:00 a.m. Join Laura (co-owner & winemaker) for a relaxing hour of Vinyasa flow yoga practice followed by a continental brunch and a mimosa. $23/person\, reservations at https://www.exploretock.com/elmarovineyard/event/511078/yoga-brunch
URL:https://elmarovineyard.com/event/yoga-brunch-16/
ATTACH;FMTTYPE=image/png:https://elmarovineyard.com/wp-content/uploads/2024/10/Yoga-Brunch-Saturday-April-13th-10-a.m.-4.png
END:VEVENT
BEGIN:VEVENT
DTSTART;TZID=UTC:20241102T140000
DTEND;TZID=UTC:20241102T170000
DTSTAMP:20260421T235729
CREATED:20241021T191401Z
LAST-MODIFIED:20241021T191717Z
UID:5630-1730556000-1730566800@elmarovineyard.com
SUMMARY:Music by David Hartman
DESCRIPTION:David plays 6 and 12 string guitar for soft rock\, country\, folk\, and modern music primarily from the 60’s and 70’s. It’s a little something for everyone!
URL:https://elmarovineyard.com/event/music-by-david-hartman-14/
ATTACH;FMTTYPE=image/jpeg:https://elmarovineyard.com/wp-content/uploads/2024/10/david-hartman4.jpg
END:VEVENT
BEGIN:VEVENT
DTSTART;TZID=UTC:20241103T130000
DTEND;TZID=UTC:20241103T160000
DTSTAMP:20260421T235729
CREATED:20241021T191636Z
LAST-MODIFIED:20241021T191636Z
UID:5633-1730638800-1730649600@elmarovineyard.com
SUMMARY:Music by Douce Ambiance
DESCRIPTION:Douce Ambience is the lighter side of Under Paris Skies\, with accordion and guitar. Enjoy an afternoon of music by Ron & Steve!
URL:https://elmarovineyard.com/event/music-by-douce-ambiance-4/
ATTACH;FMTTYPE=image/png:https://elmarovineyard.com/wp-content/uploads/2024/10/Douce-Ambiance-photo-no-words.png
END:VEVENT
BEGIN:VEVENT
DTSTART;TZID=UTC:20241107T110000
DTEND;TZID=UTC:20241107T120000
DTSTAMP:20260421T235729
CREATED:20240905T142401Z
LAST-MODIFIED:20240916T195625Z
UID:5493-1730977200-1730980800@elmarovineyard.com
SUMMARY:Adaptive Yoga
DESCRIPTION:At 11:00 a.m.\, Join Laura (co-owner and winemaker) for a one-hour yoga practice for anyone with a modified range of motion. Chairs are available for sitting or standing prop\, no former yoga training is required\, and please bring your own mat and water bottle\, $2 per person. (We welcome drop-ins!)
URL:https://elmarovineyard.com/event/adaptive-yoga-19/2024-11-07/
ATTACH;FMTTYPE=image/jpeg:https://elmarovineyard.com/wp-content/uploads/2024/09/adaptive1-scaled.jpg
END:VEVENT
BEGIN:VEVENT
DTSTART;TZID=UTC:20241107T160000
DTEND;TZID=UTC:20241107T200000
DTSTAMP:20260421T235729
CREATED:20241028T200222Z
LAST-MODIFIED:20241028T200222Z
UID:5685-1730995200-1731009600@elmarovineyard.com
SUMMARY:Date Night
DESCRIPTION:Bring your favorite human to Elmaro and enjoy a local cheese plate and two glasses of wine for $20\, 4-8 p.m.
URL:https://elmarovineyard.com/event/date-night-13/
ATTACH;FMTTYPE=image/jpeg:https://elmarovineyard.com/wp-content/uploads/2024/10/Date-Night-18.jpg
END:VEVENT
BEGIN:VEVENT
DTSTART;TZID=UTC:20241109T140000
DTEND;TZID=UTC:20241109T170000
DTSTAMP:20260421T235729
CREATED:20241030T191746Z
LAST-MODIFIED:20241030T191746Z
UID:5694-1731160800-1731171600@elmarovineyard.com
SUMMARY:Music by Doug Mahlum
DESCRIPTION:Doug Mahlum is a veteran musician in this area with over 40 years of experience. He can easily draw from over 60 years of songs in a number of different genres including Rock\, Pop\, Country\, Folk\, Show tunes\, and Jazz standards. Doug likes to have fun and interact with the group and will encourage sing-a-longs (if it’s okay with your neighbors).
URL:https://elmarovineyard.com/event/music-by-doug-mahlum-16/
ATTACH;FMTTYPE=image/jpeg:https://elmarovineyard.com/wp-content/uploads/2024/10/Doug-Mahlum3.jpg
END:VEVENT
BEGIN:VEVENT
DTSTART;TZID=UTC:20241110T130000
DTEND;TZID=UTC:20241110T160000
DTSTAMP:20260421T235729
CREATED:20241023T213953Z
LAST-MODIFIED:20241023T213953Z
UID:5679-1731243600-1731254400@elmarovineyard.com
SUMMARY:Music by Jeani & The Dreamers
DESCRIPTION:Jeani & The Dreamers are at Elmaro! Keep the weekend vibes going and dance with Jeani & The Dreamers.
URL:https://elmarovineyard.com/event/music-by-jeani-the-dreamers-9/
ATTACH;FMTTYPE=image/jpeg:https://elmarovineyard.com/wp-content/uploads/2024/10/Jeaniandthedreamers.jpg
END:VEVENT
BEGIN:VEVENT
DTSTART;TZID=UTC:20241114T110000
DTEND;TZID=UTC:20241114T120000
DTSTAMP:20260421T235729
CREATED:20240905T142401Z
LAST-MODIFIED:20240916T195625Z
UID:5494-1731582000-1731585600@elmarovineyard.com
SUMMARY:Adaptive Yoga
DESCRIPTION:At 11:00 a.m.\, Join Laura (co-owner and winemaker) for a one-hour yoga practice for anyone with a modified range of motion. Chairs are available for sitting or standing prop\, no former yoga training is required\, and please bring your own mat and water bottle\, $2 per person. (We welcome drop-ins!)
URL:https://elmarovineyard.com/event/adaptive-yoga-19/2024-11-14/
ATTACH;FMTTYPE=image/jpeg:https://elmarovineyard.com/wp-content/uploads/2024/09/adaptive1-scaled.jpg
END:VEVENT
BEGIN:VEVENT
DTSTART;TZID=UTC:20241114T180000
DTEND;TZID=UTC:20241114T193000
DTSTAMP:20260421T235729
CREATED:20241028T201639Z
LAST-MODIFIED:20241028T201639Z
UID:5688-1731607200-1731612600@elmarovineyard.com
SUMMARY:Trivia Night
DESCRIPTION:It’s time to show off your knowledge of trivia\, AND spend an evening with your friends. Get your team registered for Trivia Night at Elmaro on Thursday\, April 25th\, 6:00-7:30 p.m. There’s no fee\, but registration of teams is required. Team sizes of up to 6 people only\, and prizes awarded for 1st\, 2nd\, and 3rd place teams. When registering\, please register the total number of guests on your team. Required reservations at https://www.exploretock.com/elmarovineyard/event/513294/trivia-night
URL:https://elmarovineyard.com/event/trivia-night-6/
ATTACH;FMTTYPE=image/jpeg:https://elmarovineyard.com/wp-content/uploads/2024/10/trivia-night-11.jpg
END:VEVENT
BEGIN:VEVENT
DTSTART;TZID=UTC:20241116T140000
DTEND;TZID=UTC:20241116T170000
DTSTAMP:20260421T235729
CREATED:20241030T192124Z
LAST-MODIFIED:20241030T192124Z
UID:5697-1731765600-1731776400@elmarovineyard.com
SUMMARY:Music by Quenten Brown
DESCRIPTION:Quenten is just strumming strings…playing tunes. Meeting fine people along the way…
URL:https://elmarovineyard.com/event/music-by-quenten-brown-5/
ATTACH;FMTTYPE=image/png:https://elmarovineyard.com/wp-content/uploads/2024/10/quenten-brown2.png
END:VEVENT
BEGIN:VEVENT
DTSTART;TZID=UTC:20241117T120000
DTEND;TZID=UTC:20241117T170000
DTSTAMP:20260421T235729
CREATED:20241028T204532Z
LAST-MODIFIED:20241028T204532Z
UID:5691-1731844800-1731862800@elmarovineyard.com
SUMMARY:Elmaro Vineyard's 13th Anniversary
DESCRIPTION:It’s Elmaro Vineyard’s 13th Anniversary! To celebrate\, you receive 13% off all bottles of wine\, today only.
URL:https://elmarovineyard.com/event/elmaro-vineyards-13th-anniversary/
ATTACH;FMTTYPE=image/png:https://elmarovineyard.com/wp-content/uploads/2024/10/13.png
END:VEVENT
BEGIN:VEVENT
DTSTART;TZID=UTC:20241117T130000
DTEND;TZID=UTC:20241117T160000
DTSTAMP:20260421T235729
CREATED:20241021T192010Z
LAST-MODIFIED:20241021T192010Z
UID:5636-1731848400-1731859200@elmarovineyard.com
SUMMARY:Music by Curt Glenna
DESCRIPTION:Curt performs a mix of 70s covers\, light tunes\, and a lot of fun.
URL:https://elmarovineyard.com/event/music-by-curt-glenna-7/
ATTACH;FMTTYPE=image/jpeg:https://elmarovineyard.com/wp-content/uploads/2024/10/Curt-Glenna2.jpg
END:VEVENT
BEGIN:VEVENT
DTSTART;TZID=UTC:20241121T110000
DTEND;TZID=UTC:20241121T120000
DTSTAMP:20260421T235729
CREATED:20240905T142401Z
LAST-MODIFIED:20240916T195630Z
UID:5496-1732186800-1732190400@elmarovineyard.com
SUMMARY:Adaptive Yoga
DESCRIPTION:At 11:00 a.m.\, Join Laura (co-owner and winemaker) for a one-hour yoga practice for anyone with a modified range of motion. Chairs are available for sitting or standing prop\, no former yoga training is required\, and please bring your own mat and water bottle\, $2 per person. (We welcome drop-ins!)
URL:https://elmarovineyard.com/event/adaptive-yoga-19/2024-11-21/
ATTACH;FMTTYPE=image/jpeg:https://elmarovineyard.com/wp-content/uploads/2024/09/adaptive1-scaled.jpg
END:VEVENT
BEGIN:VEVENT
DTSTART;TZID=UTC:20241121T183000
DTEND;TZID=UTC:20241121T200000
DTSTAMP:20260421T235729
CREATED:20240205T224306Z
LAST-MODIFIED:20241023T213817Z
UID:4898-1732213800-1732219200@elmarovineyard.com
SUMMARY:Sold Out- Amber Glow Winter Centerpiece Class
DESCRIPTION:This elegant centerpiece embodies the “less is more” spirit while bringing the perfect touch of greenery and warmth into any space this winter season. Streamline your decorating this year with this unique arrangement that with proper watering will last well into the new year. We supply the amber vessels\, a diverse mix of winter greens\, and a variety of pinecones. \nNOTE: Participants need to being a tray approximately 1 ft by 2 feet (12 inches by 24 inches) that fits your style and space. Be creative — think wooden dough bowl\, ottoman tray\, silver platter\, that heirloom piece of family tableware – we can’t wait to see what you select. We suggest bringing a container (box\, crate\, or laundry basket) that your tray can lay flat in to make it easier to transport this home after the event. Extra greens available to purchase for embellishing your porch pots or other home holiday décor.\nThursday\, November 21st\, 6:30 p.m.\, $60/person\, reservations at https://www.exploretock.com/elmarovineyard/event/465104/amber-glow-winter-centerpiece
URL:https://elmarovineyard.com/event/amber-glow-winter-centerpiece-class/
ATTACH;FMTTYPE=image/png:https://elmarovineyard.com/wp-content/uploads/2024/02/alannas-classes-2.png
END:VEVENT
BEGIN:VEVENT
DTSTART;TZID=UTC:20241123T130000
DTEND;TZID=UTC:20241123T160000
DTSTAMP:20260421T235729
CREATED:20241021T192313Z
LAST-MODIFIED:20241021T192313Z
UID:5639-1732366800-1732377600@elmarovineyard.com
SUMMARY:Blaze Orange Bazaar
DESCRIPTION:Elmaro Vineyard’s Outdoor Blaze Orange Bazaar offers shopping\, wine\, and fun! All vendors are outdoors\, and feature artisan\, hand-crafted items from 1-4 p.m. Elmaro Vineyard will have hot mulled wine\, outdoor seating\, and a complimentary gift when you wear blaze orange.
URL:https://elmarovineyard.com/event/blaze-orange-bazaar/
ATTACH;FMTTYPE=image/png:https://elmarovineyard.com/wp-content/uploads/2024/10/blaze-orange-fb-event-11-x-8.5-in-1.png
END:VEVENT
BEGIN:VEVENT
DTSTART;TZID=UTC:20241128T120000
DTEND;TZID=UTC:20241128T200000
DTSTAMP:20260421T235729
CREATED:20241021T195654Z
LAST-MODIFIED:20241021T195654Z
UID:5642-1732795200-1732824000@elmarovineyard.com
SUMMARY:Closed for Thanksgiving
DESCRIPTION:Elmaro Vineyard is closed today\, November 28th\, so that we can celebrate Thanksgiving with family and friends.  We will see you on the 29th at noon!
URL:https://elmarovineyard.com/event/closed-for-thanksgiving-4/
ATTACH;FMTTYPE=image/png:https://elmarovineyard.com/wp-content/uploads/2024/10/Elmaro-Vineyard-is-closed-Thursday-November-28th.png
END:VEVENT
BEGIN:VEVENT
DTSTART;TZID=UTC:20241129T120000
DTEND;TZID=UTC:20241129T190000
DTSTAMP:20260421T235729
CREATED:20241125T202312Z
LAST-MODIFIED:20241125T203849Z
UID:5738-1732881600-1732906800@elmarovineyard.com
SUMMARY:Black Friday Specials
DESCRIPTION:Head to Elmaro for great deals on wine\, and then relax with the sounds of classical guitar by Chris Rude. \nCase Sale!  Save an extra $50 on full cases of… \nPeace Love Rose\,  Sweet Cheeks\, Marquette Rose\, 2020 Marquette\, and Un-Oaked St. Pepin \n\nGift Card Sale!  Buy a $50 card\, get a $5 card;  Buy $75 card\, get a $10 card;  Buy $100 card\, get a $15 card!
URL:https://elmarovineyard.com/event/black-friday-specials/
ATTACH;FMTTYPE=image/jpeg:https://elmarovineyard.com/wp-content/uploads/2024/11/Friday-Sale-8.5-x-11-in-11-x-8.5-in-1.jpg
END:VEVENT
BEGIN:VEVENT
DTSTART;TZID=UTC:20241129T130000
DTEND;TZID=UTC:20241129T160000
DTSTAMP:20260421T235729
CREATED:20241125T202915Z
LAST-MODIFIED:20241125T202915Z
UID:5741-1732885200-1732896000@elmarovineyard.com
SUMMARY:Classical guitar by Chris Rude
DESCRIPTION:Classical guitar is timeless\, relaxing\, and stunning\, and Chris Rude is performing live at Elmaro from 1-4 p.m.
URL:https://elmarovineyard.com/event/classical-guitar-by-chris-rude-9/
ATTACH;FMTTYPE=image/jpeg:https://elmarovineyard.com/wp-content/uploads/2024/11/Chris-Rude.jpg
END:VEVENT
END:VCALENDAR