BEGIN:VCALENDAR
VERSION:2.0
PRODID:-//Elmaro Vineyard - ECPv6.15.20//NONSGML v1.0//EN
CALSCALE:GREGORIAN
METHOD:PUBLISH
X-ORIGINAL-URL:https://elmarovineyard.com
X-WR-CALDESC:Events for Elmaro Vineyard
REFRESH-INTERVAL;VALUE=DURATION:PT1H
X-Robots-Tag:noindex
X-PUBLISHED-TTL:PT1H
BEGIN:VTIMEZONE
TZID:UTC
BEGIN:STANDARD
TZOFFSETFROM:+0000
TZOFFSETTO:+0000
TZNAME:UTC
DTSTART:20230101T000000
END:STANDARD
END:VTIMEZONE
BEGIN:VEVENT
DTSTART;TZID=UTC:20240927T120000
DTEND;TZID=UTC:20240927T170000
DTSTAMP:20260421T112025
CREATED:20240812T174738Z
LAST-MODIFIED:20240812T174738Z
UID:5471-1727438400-1727456400@elmarovineyard.com
SUMMARY:Open 12:00-5:00 p.m.
DESCRIPTION:Elmaro Vineyard is open on Friday\, September 27th\, 12:00-5:00 p.m.   We will see you again at 12:00 on September 28th. \nThank you!
URL:https://elmarovineyard.com/event/open-1200-500-p-m/
ATTACH;FMTTYPE=image/png:https://elmarovineyard.com/wp-content/uploads/2024/08/Open-1200-500-p.m.-Friday-September-27th.png
END:VEVENT
BEGIN:VEVENT
DTSTART;TZID=UTC:20240928T123000
DTEND;TZID=UTC:20240928T170000
DTSTAMP:20260421T112025
CREATED:20240812T173833Z
LAST-MODIFIED:20240812T173833Z
UID:5465-1727526600-1727542800@elmarovineyard.com
SUMMARY:Taco Town Food Cart
DESCRIPTION:Taco Town and wine\, it’s a perfect combination.
URL:https://elmarovineyard.com/event/taco-town-food-cart-9/
ATTACH;FMTTYPE=image/jpeg:https://elmarovineyard.com/wp-content/uploads/2024/08/taco-town-taco.jpg
END:VEVENT
BEGIN:VEVENT
DTSTART;TZID=UTC:20240928T140000
DTEND;TZID=UTC:20240928T170000
DTSTAMP:20260421T112025
CREATED:20240813T182351Z
LAST-MODIFIED:20240813T182351Z
UID:5477-1727532000-1727542800@elmarovineyard.com
SUMMARY:Music by Greg Gall
DESCRIPTION:Greg Gall performs acoustic Folk/Rock from the seventies and beyond.
URL:https://elmarovineyard.com/event/music-by-greg-gall/
ATTACH;FMTTYPE=image/jpeg:https://elmarovineyard.com/wp-content/uploads/2024/08/IMG_20201001_151556620_HDR0101.jpg
END:VEVENT
BEGIN:VEVENT
DTSTART;TZID=UTC:20240929T130000
DTEND;TZID=UTC:20240929T160000
DTSTAMP:20260421T112025
CREATED:20240812T174044Z
LAST-MODIFIED:20240812T174044Z
UID:5468-1727614800-1727625600@elmarovineyard.com
SUMMARY:Music by Patina
DESCRIPTION:Patina is at Elmaro on September 29th!  Stop in for your fix of Celtic music and get ready for a fun time! Come out and plan to have a glass of Elmaro’s tasty wine\, some great snacks and a side of traditional & original Celtic tunes & songs played by Patina.
URL:https://elmarovineyard.com/event/music-by-patina-5/
ATTACH;FMTTYPE=image/png:https://elmarovineyard.com/wp-content/uploads/2024/08/Patina-Trio.png
END:VEVENT
BEGIN:VEVENT
DTSTART;TZID=UTC:20241003T110000
DTEND;TZID=UTC:20241003T120000
DTSTAMP:20260421T112025
CREATED:20240905T142401Z
LAST-MODIFIED:20240916T195623Z
UID:5488-1727953200-1727956800@elmarovineyard.com
SUMMARY:Adaptive Yoga
DESCRIPTION:At 11:00 a.m.\, Join Laura (co-owner and winemaker) for a one-hour yoga practice for anyone with a modified range of motion. Chairs are available for sitting or standing prop\, no former yoga training is required\, and please bring your own mat and water bottle\, $2 per person. (We welcome drop-ins!)
URL:https://elmarovineyard.com/event/adaptive-yoga-19/2024-10-03/
ATTACH;FMTTYPE=image/jpeg:https://elmarovineyard.com/wp-content/uploads/2024/09/adaptive1-scaled.jpg
END:VEVENT
BEGIN:VEVENT
DTSTART;TZID=UTC:20241003T180000
DTEND;TZID=UTC:20241003T190000
DTSTAMP:20260421T112025
CREATED:20240930T173636Z
LAST-MODIFIED:20240930T173636Z
UID:5559-1727978400-1727982000@elmarovineyard.com
SUMMARY:Sunset Yoga
DESCRIPTION:Join Laura (co-owner and winemaker) for a one-hour vinyasa yoga flow practice. This class begins at 6:00 p.m.\, includes a complimentary beverage\, and no former yoga training required. Please bring your own mat and water bottle\, $10 per person. (We welcome drop-ins!
URL:https://elmarovineyard.com/event/sunset-yoga-9/2024-10-03/
ATTACH;FMTTYPE=image/jpeg:https://elmarovineyard.com/wp-content/uploads/2024/09/sunset-pic-rotated.jpeg
END:VEVENT
BEGIN:VEVENT
DTSTART;TZID=UTC:20241004T120000
DTEND;TZID=UTC:20241004T190000
DTSTAMP:20260421T112025
CREATED:20240930T174641Z
LAST-MODIFIED:20240930T175218Z
UID:5563-1728043200-1728068400@elmarovineyard.com
SUMMARY:Flannel Fridays
DESCRIPTION:It’s fall and time to break out the flannel! Wear your favorite flannel to Elmaro on Fridays in October and receive $1 off glasses of wine\, 12-7 p.m.
URL:https://elmarovineyard.com/event/flannel-fridays/2024-10-04/
ATTACH;FMTTYPE=image/png:https://elmarovineyard.com/wp-content/uploads/2024/09/Flannel-Fridays-in-October-Wear-flannel-and-receive-1-off-glasses-of-wine.-2.png
END:VEVENT
BEGIN:VEVENT
DTSTART;TZID=UTC:20241004T183000
DTEND;TZID=UTC:20241004T200000
DTSTAMP:20260421T112025
CREATED:20240205T224015Z
LAST-MODIFIED:20240205T224015Z
UID:4895-1728066600-1728072000@elmarovineyard.com
SUMMARY:Pumpkin Centerpiece Class
DESCRIPTION:Transition into fall with this pumpkin centerpiece while letting the vibrant dried flowers in this arrangement remind you of the beautiful summer days gone by. This is the perfect project to create while enjoying great conversations\, a glass of wine or snack platter\, and the scenery at the Elmaro. Come as you are\, we will supply all the items to make this centerpiece to be enjoyed indoors all fall season. Friday\, October 4th\, 6:30 p.m.\, $50/person\, reservations at https://www.exploretock.com/elmarovineyard/event/465091/pumpkin-centerpiece-class
URL:https://elmarovineyard.com/event/pumpkin-centerpiece-class/
ATTACH;FMTTYPE=image/png:https://elmarovineyard.com/wp-content/uploads/2024/02/alannas-classes-1.png
END:VEVENT
BEGIN:VEVENT
DTSTART;TZID=UTC:20241005T123000
DTEND;TZID=UTC:20241005T170000
DTSTAMP:20260421T112025
CREATED:20240930T175542Z
LAST-MODIFIED:20240930T175804Z
UID:5578-1728131400-1728147600@elmarovineyard.com
SUMMARY:Reubens & Things\, Tips & Tails Food Truck
DESCRIPTION:This is a spin off version of the Beaver Bottoms Saloon Menu\, which includes reubens\, steak tips\, cheese burgers\, loaded fries\, cheese curds\, onion rings\, and more! Come hungry\, and Elmaro has the wine.
URL:https://elmarovineyard.com/event/reubens-things-tips-tails-food-truck/
ATTACH;FMTTYPE=image/jpeg:https://elmarovineyard.com/wp-content/uploads/2024/09/reubens-scaled.jpg
END:VEVENT
BEGIN:VEVENT
DTSTART;TZID=UTC:20241005T140000
DTEND;TZID=UTC:20241005T170000
DTSTAMP:20260421T112025
CREATED:20240905T143939Z
LAST-MODIFIED:20240905T143939Z
UID:5506-1728136800-1728147600@elmarovineyard.com
SUMMARY:Music by Sampson & Son
DESCRIPTION:Local father/son duo of Rick and Aric will fill the vineyard with tunes from 2-5 p.m.
URL:https://elmarovineyard.com/event/music-by-sampson-son-17/
ATTACH;FMTTYPE=image/jpeg:https://elmarovineyard.com/wp-content/uploads/2024/09/sampson-duo4.jpg
END:VEVENT
BEGIN:VEVENT
DTSTART;TZID=UTC:20241006T130000
DTEND;TZID=UTC:20241006T150000
DTSTAMP:20260421T112025
CREATED:20240905T144115Z
LAST-MODIFIED:20240905T144115Z
UID:5509-1728219600-1728226800@elmarovineyard.com
SUMMARY:Music by Too Darn Hot
DESCRIPTION:Dixieland Jazz by Too Darn Hot pairs perfectly with a glass of wine on a beautiful Sunday.
URL:https://elmarovineyard.com/event/music-by-too-darn-hot-7/
ATTACH;FMTTYPE=image/jpeg:https://elmarovineyard.com/wp-content/uploads/2024/09/Too-Darn-Hot-Band.jpg
END:VEVENT
BEGIN:VEVENT
DTSTART;TZID=UTC:20241006T130000
DTEND;TZID=UTC:20241006T153000
DTSTAMP:20260421T112025
CREATED:20241001T214153Z
LAST-MODIFIED:20241001T214153Z
UID:5621-1728219600-1728228600@elmarovineyard.com
SUMMARY:Grape Stomp
DESCRIPTION:It’s a grape stomp at Elmaro! Try your feet at this time honored tradition and stomp some Elmaro grapes! Teams of two people can participate. One person stomps while the other person catches the juice. After\, stomp your grape stained feet on a t-shirt that you can keep!\n$30/team of two (includes two glasses of wine\, up to 10 minutes of stomping\, and two t-shirts). Participants must be 21 years or older or accompanied by a parent or legal guardian.Reservations at http://www.exploretock.com/elmarovineyard
URL:https://elmarovineyard.com/event/grape-stomp/
ATTACH;FMTTYPE=image/png:https://elmarovineyard.com/wp-content/uploads/2024/10/grape-stomp-1.png
END:VEVENT
BEGIN:VEVENT
DTSTART;TZID=UTC:20241010T110000
DTEND;TZID=UTC:20241010T120000
DTSTAMP:20260421T112025
CREATED:20240905T142401Z
LAST-MODIFIED:20240916T195624Z
UID:5489-1728558000-1728561600@elmarovineyard.com
SUMMARY:Adaptive Yoga
DESCRIPTION:At 11:00 a.m.\, Join Laura (co-owner and winemaker) for a one-hour yoga practice for anyone with a modified range of motion. Chairs are available for sitting or standing prop\, no former yoga training is required\, and please bring your own mat and water bottle\, $2 per person. (We welcome drop-ins!)
URL:https://elmarovineyard.com/event/adaptive-yoga-19/2024-10-10/
ATTACH;FMTTYPE=image/jpeg:https://elmarovineyard.com/wp-content/uploads/2024/09/adaptive1-scaled.jpg
END:VEVENT
BEGIN:VEVENT
DTSTART;TZID=UTC:20241010T180000
DTEND;TZID=UTC:20241010T190000
DTSTAMP:20260421T112025
CREATED:20240930T173636Z
LAST-MODIFIED:20240930T173636Z
UID:5561-1728583200-1728586800@elmarovineyard.com
SUMMARY:Sunset Yoga
DESCRIPTION:Join Laura (co-owner and winemaker) for a one-hour vinyasa yoga flow practice. This class begins at 6:00 p.m.\, includes a complimentary beverage\, and no former yoga training required. Please bring your own mat and water bottle\, $10 per person. (We welcome drop-ins!
URL:https://elmarovineyard.com/event/sunset-yoga-9/2024-10-10/
ATTACH;FMTTYPE=image/jpeg:https://elmarovineyard.com/wp-content/uploads/2024/09/sunset-pic-rotated.jpeg
END:VEVENT
BEGIN:VEVENT
DTSTART;TZID=UTC:20241011T120000
DTEND;TZID=UTC:20241011T190000
DTSTAMP:20260421T112025
CREATED:20240930T174641Z
LAST-MODIFIED:20240930T175222Z
UID:5572-1728648000-1728673200@elmarovineyard.com
SUMMARY:Flannel Fridays
DESCRIPTION:It’s fall and time to break out the flannel! Wear your favorite flannel to Elmaro on Fridays in October and receive $1 off glasses of wine\, 12-7 p.m.
URL:https://elmarovineyard.com/event/flannel-fridays/2024-10-11/
ATTACH;FMTTYPE=image/png:https://elmarovineyard.com/wp-content/uploads/2024/09/Flannel-Fridays-in-October-Wear-flannel-and-receive-1-off-glasses-of-wine.-2.png
END:VEVENT
BEGIN:VEVENT
DTSTART;TZID=UTC:20241011T150000
DTEND;TZID=UTC:20241011T180000
DTSTAMP:20260421T112025
CREATED:20240930T180105Z
LAST-MODIFIED:20240930T180105Z
UID:5582-1728658800-1728669600@elmarovineyard.com
SUMMARY:Music by Jeani & The Dreamers
DESCRIPTION:Jeani & The Dreamers are at Elmaro on a Friday!  Talk about getting your weekend going on the right note\, and Elmaro has the wine to pair with the dancing.
URL:https://elmarovineyard.com/event/music-by-jeani-the-dreamers-8/
ATTACH;FMTTYPE=image/jpeg:https://elmarovineyard.com/wp-content/uploads/2024/09/Jeaniandthedreamers.jpg
END:VEVENT
BEGIN:VEVENT
DTSTART;TZID=UTC:20241012T140000
DTEND;TZID=UTC:20241012T170000
DTSTAMP:20260421T112025
CREATED:20240905T144343Z
LAST-MODIFIED:20240905T144343Z
UID:5512-1728741600-1728752400@elmarovineyard.com
SUMMARY:Music by Ryan Howe
DESCRIPTION:Ryan is a pianist/singer/songwriter from the La Crosse area. He has a huge array of covers including but not limited to Elton John\, Jackson Browne\, James Taylor\, Stevie Wonder\, John Mayer\, Doobie Brothers\, Bruce Hornsby\, and much more! Ryan also performs some of his original tunes.
URL:https://elmarovineyard.com/event/music-by-ryan-howe-3/
ATTACH;FMTTYPE=image/jpeg:https://elmarovineyard.com/wp-content/uploads/2024/09/ryan-howe-scaled.jpg
END:VEVENT
BEGIN:VEVENT
DTSTART;TZID=UTC:20241013T120000
DTEND;TZID=UTC:20241013T163000
DTSTAMP:20260421T112025
CREATED:20241001T161017Z
LAST-MODIFIED:20241001T161017Z
UID:5618-1728820800-1728837000@elmarovineyard.com
SUMMARY:Dog Walk in the Vineyard
DESCRIPTION:Pssst….this is for the dogs! Humans\, bring your dogs to Elmaro on October 13th for a self-guided dog walk through the vineyard! There will be dog treat stops along the way\, and there’s no fee or registration. Maps and info are available upon arrival.
URL:https://elmarovineyard.com/event/dog-walk-in-the-vineyard/
ATTACH;FMTTYPE=image/jpeg:https://elmarovineyard.com/wp-content/uploads/2024/10/rogi-tongue-1-scaled.jpg
END:VEVENT
BEGIN:VEVENT
DTSTART;TZID=UTC:20241013T130000
DTEND;TZID=UTC:20241013T160000
DTSTAMP:20260421T112025
CREATED:20240905T144649Z
LAST-MODIFIED:20240905T144649Z
UID:5515-1728824400-1728835200@elmarovineyard.com
SUMMARY:Music by James Grant
DESCRIPTION:James Grant covers 60s and 70s easy rock\, and he’s filling the vineyard with music from 1-4 p.m.
URL:https://elmarovineyard.com/event/music-by-james-grant-23/
ATTACH;FMTTYPE=image/jpeg:https://elmarovineyard.com/wp-content/uploads/2024/09/James-Grant6.jpg
END:VEVENT
BEGIN:VEVENT
DTSTART;TZID=UTC:20241017T110000
DTEND;TZID=UTC:20241017T120000
DTSTAMP:20260421T112025
CREATED:20240905T142401Z
LAST-MODIFIED:20240916T195624Z
UID:5490-1729162800-1729166400@elmarovineyard.com
SUMMARY:Adaptive Yoga
DESCRIPTION:At 11:00 a.m.\, Join Laura (co-owner and winemaker) for a one-hour yoga practice for anyone with a modified range of motion. Chairs are available for sitting or standing prop\, no former yoga training is required\, and please bring your own mat and water bottle\, $2 per person. (We welcome drop-ins!)
URL:https://elmarovineyard.com/event/adaptive-yoga-19/2024-10-17/
ATTACH;FMTTYPE=image/jpeg:https://elmarovineyard.com/wp-content/uploads/2024/09/adaptive1-scaled.jpg
END:VEVENT
BEGIN:VEVENT
DTSTART;TZID=UTC:20241018T120000
DTEND;TZID=UTC:20241018T190000
DTSTAMP:20260421T112025
CREATED:20240930T174641Z
LAST-MODIFIED:20240930T175234Z
UID:5573-1729252800-1729278000@elmarovineyard.com
SUMMARY:Flannel Fridays
DESCRIPTION:It’s fall and time to break out the flannel! Wear your favorite flannel to Elmaro on Fridays in October and receive $1 off glasses of wine\, 12-7 p.m.
URL:https://elmarovineyard.com/event/flannel-fridays/2024-10-18/
ATTACH;FMTTYPE=image/png:https://elmarovineyard.com/wp-content/uploads/2024/09/Flannel-Fridays-in-October-Wear-flannel-and-receive-1-off-glasses-of-wine.-2.png
END:VEVENT
BEGIN:VEVENT
DTSTART;TZID=UTC:20241018T150000
DTEND;TZID=UTC:20241018T180000
DTSTAMP:20260421T112025
CREATED:20240905T144932Z
LAST-MODIFIED:20240905T144932Z
UID:5518-1729263600-1729274400@elmarovineyard.com
SUMMARY:Music by Bradford Loomis
DESCRIPTION:Bradford marries grit and melody to dig to the roots of American folklore and speak of the raw reality of the human condition with soul\, passion\, and hope. Brad’s stories span a lifetime of relatable emotions\, be it the bitterness of loss\, the deep longing of regret\, the enduring hope of love\, or the elation of joy.
URL:https://elmarovineyard.com/event/music-by-bradford-loomis-4/
ATTACH;FMTTYPE=image/jpeg:https://elmarovineyard.com/wp-content/uploads/2024/09/bradford-loomis2.jpg
END:VEVENT
BEGIN:VEVENT
DTSTART;TZID=UTC:20241019T140000
DTEND;TZID=UTC:20241019T170000
DTSTAMP:20260421T112025
CREATED:20240930T181847Z
LAST-MODIFIED:20240930T181847Z
UID:5585-1729346400-1729357200@elmarovineyard.com
SUMMARY:Music by the Coulee Region Steel Drum Band
DESCRIPTION:It might be fall but the sounds of the tropics are still at Elmaro!  Come on out in your favorite flannel or Hawaiian shirt.
URL:https://elmarovineyard.com/event/music-by-the-coulee-region-steel-drum-band-5/
ATTACH;FMTTYPE=image/jpeg:https://elmarovineyard.com/wp-content/uploads/2024/09/coulee-rsdb.jpg
END:VEVENT
BEGIN:VEVENT
DTSTART;TZID=UTC:20241020T130000
DTEND;TZID=UTC:20241020T160000
DTSTAMP:20260421T112025
CREATED:20240905T145340Z
LAST-MODIFIED:20240905T145340Z
UID:5524-1729429200-1729440000@elmarovineyard.com
SUMMARY:Music by Tyler Herwig
DESCRIPTION:One voice and six strings in the back of his truck is all it took to launch Tyler Herwig into one of the Mid-West’s favorite acoustic artists. Prepare to be entertained as Tyler takes the stage and share’s his incredible talent through original music and stylings of songs from all genres. You will be captivated by his soulful voice and energizing performance.
URL:https://elmarovineyard.com/event/music-by-tyler-herwig-4/
ATTACH;FMTTYPE=image/jpeg:https://elmarovineyard.com/wp-content/uploads/2024/09/tyler-herwig.jpg
END:VEVENT
BEGIN:VEVENT
DTSTART;TZID=UTC:20241024T110000
DTEND;TZID=UTC:20241024T120000
DTSTAMP:20260421T112025
CREATED:20240905T142401Z
LAST-MODIFIED:20240916T195624Z
UID:5491-1729767600-1729771200@elmarovineyard.com
SUMMARY:Adaptive Yoga
DESCRIPTION:At 11:00 a.m.\, Join Laura (co-owner and winemaker) for a one-hour yoga practice for anyone with a modified range of motion. Chairs are available for sitting or standing prop\, no former yoga training is required\, and please bring your own mat and water bottle\, $2 per person. (We welcome drop-ins!)
URL:https://elmarovineyard.com/event/adaptive-yoga-19/2024-10-24/
ATTACH;FMTTYPE=image/jpeg:https://elmarovineyard.com/wp-content/uploads/2024/09/adaptive1-scaled.jpg
END:VEVENT
BEGIN:VEVENT
DTSTART;TZID=UTC:20241025T120000
DTEND;TZID=UTC:20241025T190000
DTSTAMP:20260421T112025
CREATED:20240930T183038Z
LAST-MODIFIED:20240930T183038Z
UID:5594-1729857600-1729882800@elmarovineyard.com
SUMMARY:Flannel Friday
DESCRIPTION:It’s fall and time to break out the flannel! Wear your favorite flannel to Elmaro on Fridays in October and receive $1 off glasses of wine\, 12-7 p.m.
URL:https://elmarovineyard.com/event/flannel-friday-5/
ATTACH;FMTTYPE=image/png:https://elmarovineyard.com/wp-content/uploads/2024/09/Flannel-Fridays-in-October-Wear-flannel-and-receive-1-off-glasses-of-wine.-2-1.png
END:VEVENT
BEGIN:VEVENT
DTSTART;TZID=UTC:20241026T140000
DTEND;TZID=UTC:20241026T170000
DTSTAMP:20260421T112025
CREATED:20240930T182312Z
LAST-MODIFIED:20240930T182312Z
UID:5588-1729951200-1729962000@elmarovineyard.com
SUMMARY:Music by Doug Mahlum
DESCRIPTION:Doug Mahlum is a veteran musician in this area with over 40 years of experience. He can easily draw from over 60 years of songs in a number of different genres including Rock\, Pop\, Country\, Folk\, Show tunes\, and Jazz standards. Doug likes to have fun and interact with the group and will encourage sing-a-longs (if it’s okay with your neighbors).
URL:https://elmarovineyard.com/event/music-by-doug-mahlum-15/
ATTACH;FMTTYPE=image/jpeg:https://elmarovineyard.com/wp-content/uploads/2024/09/Doug-Mahlum3.jpg
END:VEVENT
BEGIN:VEVENT
DTSTART;TZID=UTC:20241027T130000
DTEND;TZID=UTC:20241027T160000
DTSTAMP:20260421T112025
CREATED:20240930T182929Z
LAST-MODIFIED:20240930T182929Z
UID:5591-1730034000-1730044800@elmarovineyard.com
SUMMARY:Classical guitar by Chris Rude
DESCRIPTION:Classical guitar is timeless\, relaxing\, and stunning\, and Chris Rude is performing live at Elmaro from 1-4 p.m.
URL:https://elmarovineyard.com/event/classical-guitar-by-chris-rude-8/
ATTACH;FMTTYPE=image/jpeg:https://elmarovineyard.com/wp-content/uploads/2024/09/Chris-Rude-2.jpg
END:VEVENT
BEGIN:VEVENT
DTSTART;TZID=UTC:20241027T130000
DTEND;TZID=UTC:20241027T160000
DTSTAMP:20260421T112025
CREATED:20240930T185227Z
LAST-MODIFIED:20240930T185227Z
UID:5597-1730034000-1730044800@elmarovineyard.com
SUMMARY:Meet Jeff Nelson\, October Artist of the Month
DESCRIPTION:Jeff Nelson is a practicing artist living in the Eau Claire area. Jeff’s art involves representing the natural world through personal experiences. His works will reflect scenes from our great outdoors showing the quiet serenity and moods of nature.  Spend some time with Jeff today and find out what drives his art.
URL:https://elmarovineyard.com/event/meet-jeff-nelson-october-artist-of-the-month/
ATTACH;FMTTYPE=image/png:https://elmarovineyard.com/wp-content/uploads/2024/09/Untitled-design-50.png
END:VEVENT
BEGIN:VEVENT
DTSTART;TZID=UTC:20241031T110000
DTEND;TZID=UTC:20241031T120000
DTSTAMP:20260421T112025
CREATED:20240905T142401Z
LAST-MODIFIED:20240916T195624Z
UID:5492-1730372400-1730376000@elmarovineyard.com
SUMMARY:Adaptive Yoga
DESCRIPTION:At 11:00 a.m.\, Join Laura (co-owner and winemaker) for a one-hour yoga practice for anyone with a modified range of motion. Chairs are available for sitting or standing prop\, no former yoga training is required\, and please bring your own mat and water bottle\, $2 per person. (We welcome drop-ins!)
URL:https://elmarovineyard.com/event/adaptive-yoga-19/2024-10-31/
ATTACH;FMTTYPE=image/jpeg:https://elmarovineyard.com/wp-content/uploads/2024/09/adaptive1-scaled.jpg
END:VEVENT
END:VCALENDAR