BEGIN:VCALENDAR
VERSION:2.0
PRODID:-//Elmaro Vineyard - ECPv6.15.20//NONSGML v1.0//EN
CALSCALE:GREGORIAN
METHOD:PUBLISH
X-ORIGINAL-URL:https://elmarovineyard.com
X-WR-CALDESC:Events for Elmaro Vineyard
REFRESH-INTERVAL;VALUE=DURATION:PT1H
X-Robots-Tag:noindex
X-PUBLISHED-TTL:PT1H
BEGIN:VTIMEZONE
TZID:UTC
BEGIN:STANDARD
TZOFFSETFROM:+0000
TZOFFSETTO:+0000
TZNAME:UTC
DTSTART:20230101T000000
END:STANDARD
END:VTIMEZONE
BEGIN:VEVENT
DTSTART;TZID=UTC:20240914T130000
DTEND;TZID=UTC:20240914T160000
DTSTAMP:20260421T112024
CREATED:20240709T223947Z
LAST-MODIFIED:20240709T223947Z
UID:5383-1726318800-1726329600@elmarovineyard.com
SUMMARY:Music by Tyler Herwig
DESCRIPTION:One voice and six strings in the back of his truck is all it took to launch Tyler Herwig into one of the Mid-West’s favorite acoustic artists. Prepare to be entertained as Tyler takes the stage and share’s his incredible talent through original music and stylings of songs from all genres. You will be captivated by his soulful voice and energizing performance.\nGrab some friends and come on out to and enjoy a fantastic afternoon at Elmaro Vineyard in Trempealeau\, WI\, filled with great food\, amazing wine\, and a music filled vineyard that will be the delight of your day!
URL:https://elmarovineyard.com/event/music-by-tyler-herwig-3/
ATTACH;FMTTYPE=image/jpeg:https://elmarovineyard.com/wp-content/uploads/2024/07/tyler-herwig.jpg
END:VEVENT
BEGIN:VEVENT
DTSTART;TZID=UTC:20240914T123000
DTEND;TZID=UTC:20240914T170000
DTSTAMP:20260421T112024
CREATED:20240709T224224Z
LAST-MODIFIED:20240709T224224Z
UID:5386-1726317000-1726333200@elmarovineyard.com
SUMMARY:Chef's Table Food Truck
DESCRIPTION:Chef’s Table food truck is a little bistro-on-wheels\, bringing Douglas’ 20 years of fine-dining experience to the street. From art gallery to camground\, music festival to your own dining room\, every dish for every guest is artfully created and lovingly served. \nDelight in the amazing tastes of Chef’s Table nosh from 12:30-5:00.
URL:https://elmarovineyard.com/event/chefs-table-food-truck-3/
ATTACH;FMTTYPE=image/jpeg:https://elmarovineyard.com/wp-content/uploads/2024/07/chefs-table3.jpg
END:VEVENT
BEGIN:VEVENT
DTSTART;TZID=UTC:20240913T150000
DTEND;TZID=UTC:20240913T180000
DTSTAMP:20260421T112024
CREATED:20240709T223527Z
LAST-MODIFIED:20240709T223527Z
UID:5380-1726239600-1726250400@elmarovineyard.com
SUMMARY:Music by Curt Glenna
DESCRIPTION:Friday the 13th is nothing but luck with the sounds of Curt Glenna\, 3-6 p.m.
URL:https://elmarovineyard.com/event/music-by-curt-glenna-6/
ATTACH;FMTTYPE=image/jpeg:https://elmarovineyard.com/wp-content/uploads/2024/07/curt-glenna3.jpg
END:VEVENT
BEGIN:VEVENT
DTSTART;TZID=UTC:20240912T180000
DTEND;TZID=UTC:20240912T190000
DTSTAMP:20260421T112024
CREATED:20240905T143300Z
LAST-MODIFIED:20240905T143300Z
UID:5553-1726164000-1726167600@elmarovineyard.com
SUMMARY:Sunset Yoga
DESCRIPTION:Join Laura (co-owner and winemaker) for a one-hour vinyasa yoga flow practice. This class begins at 6:00 p.m.\, includes a complimentary beverage\, and no former yoga training required. Please bring your own mat and water bottle\, $10 per person. (We welcome drop-ins!
URL:https://elmarovineyard.com/event/sunset-yoga-8/2024-09-12/
ATTACH;FMTTYPE=image/jpeg:https://elmarovineyard.com/wp-content/uploads/2024/09/tent-pad-yoga.jpg
END:VEVENT
BEGIN:VEVENT
DTSTART;TZID=UTC:20240912T160000
DTEND;TZID=UTC:20240912T183000
DTSTAMP:20260421T112024
CREATED:20240812T173442Z
LAST-MODIFIED:20240812T173442Z
UID:5460-1726156800-1726165800@elmarovineyard.com
SUMMARY:Dog Photos in the Vines
DESCRIPTION:Dog photos in the vines at Elmaro Vineyard by Sage River Studios! Thursday\, September 12th\, 19th\, and 26\, 4:00-6:30 p.m. $55+tax/session\, each session is 20 minutes long\, maximum of 2 dogs/session. It’s dogs only in the pictures\, with their humans behind the scenes. When registering\, please enter the dogs’ names\, and the number of dogs you are bringing (2 maximum!)\, and bring your dogs’ favorite toy or treat. Register at http://www.exploretock.com/elmarovineyard
URL:https://elmarovineyard.com/event/dog-photos-in-the-vines-2/2024-09-12/
ATTACH;FMTTYPE=image/png:https://elmarovineyard.com/wp-content/uploads/2024/08/dog-photos-in-the-vines.png
END:VEVENT
BEGIN:VEVENT
DTSTART;TZID=UTC:20240912T110000
DTEND;TZID=UTC:20240912T120000
DTSTAMP:20260421T112024
CREATED:20240905T142401Z
LAST-MODIFIED:20240916T195616Z
UID:5485-1726138800-1726142400@elmarovineyard.com
SUMMARY:Adaptive Yoga
DESCRIPTION:At 11:00 a.m.\, Join Laura (co-owner and winemaker) for a one-hour yoga practice for anyone with a modified range of motion. Chairs are available for sitting or standing prop\, no former yoga training is required\, and please bring your own mat and water bottle\, $2 per person. (We welcome drop-ins!)
URL:https://elmarovineyard.com/event/adaptive-yoga-19/2024-09-12/
ATTACH;FMTTYPE=image/jpeg:https://elmarovineyard.com/wp-content/uploads/2024/09/adaptive1-scaled.jpg
END:VEVENT
BEGIN:VEVENT
DTSTART;TZID=UTC:20240908T120000
DTEND;TZID=UTC:20240908T160000
DTSTAMP:20260421T112024
CREATED:20240812T173151Z
LAST-MODIFIED:20240812T173151Z
UID:5457-1725796800-1725811200@elmarovineyard.com
SUMMARY:Wines\, Steins\, & Vines
DESCRIPTION:Elmaro’s wine\, sangria\, and beer tasting event! Wines\, Steins\, & Vines\, September 8th\, 12-4 p.m. Sample wine\, beer\, and exclusive sangria creations; Artisan vendors; music by Double Take\, crepes by Jean Luc\, Taco Town\, Waddles Bakery\, and all the fun one day can have! Ticket price includes 10 tastings and a souvenir wine glass. $18/person\, reservations at https://www.exploretock.com/elmarovineyard/event/495763/wines-steins-vines
URL:https://elmarovineyard.com/event/wines-steins-vines-2/
ATTACH;FMTTYPE=image/png:https://elmarovineyard.com/wp-content/uploads/2024/08/Wines-Stiens-Vines-fb-event-6.png
END:VEVENT
BEGIN:VEVENT
DTSTART;TZID=UTC:20240907T140000
DTEND;TZID=UTC:20240907T170000
DTSTAMP:20260421T112024
CREATED:20240709T223035Z
LAST-MODIFIED:20240709T223035Z
UID:5374-1725717600-1725728400@elmarovineyard.com
SUMMARY:Music by Sampson & Son
DESCRIPTION:Local father/son duo of Rick and Aric will fill the vineyard with tunes from 2-5 p.m.
URL:https://elmarovineyard.com/event/music-by-sampson-son-16/
ATTACH;FMTTYPE=image/jpeg:https://elmarovineyard.com/wp-content/uploads/2024/07/sampson-duo4.jpg
END:VEVENT
BEGIN:VEVENT
DTSTART;TZID=UTC:20240907T123000
DTEND;TZID=UTC:20240907T170000
DTSTAMP:20260421T112024
CREATED:20240709T223215Z
LAST-MODIFIED:20240709T223215Z
UID:5377-1725712200-1725728400@elmarovineyard.com
SUMMARY:Monkey Business Food Truck
DESCRIPTION:Grilled sourdough melts and savory apps will be the talk of the vineyard!  It’ll be a delicious day.
URL:https://elmarovineyard.com/event/monkey-business-food-truck-2/
ATTACH;FMTTYPE=image/jpeg:https://elmarovineyard.com/wp-content/uploads/2024/07/monkey-business-scaled.jpg
END:VEVENT
BEGIN:VEVENT
DTSTART;TZID=UTC:20240906T150000
DTEND;TZID=UTC:20240906T180000
DTSTAMP:20260421T112024
CREATED:20240812T180042Z
LAST-MODIFIED:20240812T180042Z
UID:5474-1725634800-1725645600@elmarovineyard.com
SUMMARY:Music by Tim Dallman
DESCRIPTION:Tim is a rock/pop/Americana singer-songwriter who also performs a wide range of cover songs.
URL:https://elmarovineyard.com/event/music-by-tim-dallman-13/
ATTACH;FMTTYPE=image/jpeg:https://elmarovineyard.com/wp-content/uploads/2024/08/tim-dallman4.jpg
END:VEVENT
BEGIN:VEVENT
DTSTART;TZID=UTC:20240905T180000
DTEND;TZID=UTC:20240905T190000
DTSTAMP:20260421T112024
CREATED:20240905T143300Z
LAST-MODIFIED:20240916T201007Z
UID:5497-1725559200-1725562800@elmarovineyard.com
SUMMARY:Sunset Yoga
DESCRIPTION:Join Laura (co-owner and winemaker) for a one-hour vinyasa yoga flow practice. This class begins at 6:00 p.m.\, includes a complimentary beverage\, and no former yoga training required. Please bring your own mat and water bottle\, $10 per person. (We welcome drop-ins!
URL:https://elmarovineyard.com/event/sunset-yoga-8/2024-09-05/
ATTACH;FMTTYPE=image/jpeg:https://elmarovineyard.com/wp-content/uploads/2024/09/tent-pad-yoga.jpg
END:VEVENT
BEGIN:VEVENT
DTSTART;TZID=UTC:20240905T110000
DTEND;TZID=UTC:20240905T120000
DTSTAMP:20260421T112024
CREATED:20240905T142401Z
LAST-MODIFIED:20240916T195616Z
UID:5483-1725534000-1725537600@elmarovineyard.com
SUMMARY:Adaptive Yoga
DESCRIPTION:At 11:00 a.m.\, Join Laura (co-owner and winemaker) for a one-hour yoga practice for anyone with a modified range of motion. Chairs are available for sitting or standing prop\, no former yoga training is required\, and please bring your own mat and water bottle\, $2 per person. (We welcome drop-ins!)
URL:https://elmarovineyard.com/event/adaptive-yoga-19/2024-09-05/
ATTACH;FMTTYPE=image/jpeg:https://elmarovineyard.com/wp-content/uploads/2024/09/adaptive1-scaled.jpg
END:VEVENT
BEGIN:VEVENT
DTSTART;TZID=UTC:20240902T120000
DTEND;TZID=UTC:20240902T180000
DTSTAMP:20260421T112024
CREATED:20240709T222632Z
LAST-MODIFIED:20240709T222632Z
UID:5368-1725278400-1725300000@elmarovineyard.com
SUMMARY:Closed for Labor Day
DESCRIPTION:Elmaro Vineyard is closed to observe Labor Day.  We will see you on the 3rd at noon.
URL:https://elmarovineyard.com/event/closed-for-labor-day/
END:VEVENT
BEGIN:VEVENT
DTSTART;TZID=UTC:20240901T130000
DTEND;TZID=UTC:20240901T160000
DTSTAMP:20260421T112024
CREATED:20240709T222903Z
LAST-MODIFIED:20240709T222903Z
UID:5371-1725195600-1725206400@elmarovineyard.com
SUMMARY:Music by Jeani & The Dreamers
DESCRIPTION:Keep the holiday weekend rockin’ with Jeani & The Dreamers!
URL:https://elmarovineyard.com/event/music-by-jeani-the-dreamers-7/
ATTACH;FMTTYPE=image/jpeg:https://elmarovineyard.com/wp-content/uploads/2024/07/jeaniethe-dreamers.jpg
END:VEVENT
BEGIN:VEVENT
DTSTART;TZID=UTC:20240901T123000
DTEND;TZID=UTC:20240901T163000
DTSTAMP:20260421T112024
CREATED:20240812T172857Z
LAST-MODIFIED:20240812T172857Z
UID:5454-1725193800-1725208200@elmarovineyard.com
SUMMARY:Chili Revolution Food Truck
DESCRIPTION:Chili\, hot dogs\, chili dogs\, crunch wraps\, and nachos! Bring your appetite\, and yes\, it pairs perfectly with wine.
URL:https://elmarovineyard.com/event/chili-revolution-food-truck-2/
ATTACH;FMTTYPE=image/jpeg:https://elmarovineyard.com/wp-content/uploads/2024/08/Chili-Revolution-1.jpg
END:VEVENT
BEGIN:VEVENT
DTSTART;TZID=UTC:20240831T140000
DTEND;TZID=UTC:20240831T170000
DTSTAMP:20260421T112024
CREATED:20240724T190303Z
LAST-MODIFIED:20240724T190303Z
UID:5434-1725112800-1725123600@elmarovineyard.com
SUMMARY:Music by Family Matters
DESCRIPTION:Family Matters\, created in Holmen\, WI\, is a musical group led by dad Doug Mahlum and his grown up children! They will be performing from 2-5 p.m. at Elmaro Vineyard.
URL:https://elmarovineyard.com/event/music-by-family-matters-3/
ATTACH;FMTTYPE=image/jpeg:https://elmarovineyard.com/wp-content/uploads/2024/07/family-matters2-scaled.jpg
END:VEVENT
BEGIN:VEVENT
DTSTART;TZID=UTC:20240831T123000
DTEND;TZID=UTC:20240831T170000
DTSTAMP:20260421T112024
CREATED:20240724T185359Z
LAST-MODIFIED:20240724T185359Z
UID:5428-1725107400-1725123600@elmarovineyard.com
SUMMARY:Taco Town Food Cart
DESCRIPTION:They’re some of the best tacos in the area\, and they’re at Elmaro on the 31st!
URL:https://elmarovineyard.com/event/taco-town-food-cart-8/
ATTACH;FMTTYPE=image/jpeg:https://elmarovineyard.com/wp-content/uploads/2024/07/taco-town-taco.jpg
END:VEVENT
BEGIN:VEVENT
DTSTART;TZID=UTC:20240830T170000
DTEND;TZID=UTC:20240830T183000
DTSTAMP:20260421T112024
CREATED:20240729T192037Z
LAST-MODIFIED:20240729T192037Z
UID:5450-1725037200-1725042600@elmarovineyard.com
SUMMARY:Free Bingo on the Patio!
DESCRIPTION:It’s free bingo on the patio at Elmaro!  First call is at 5:00 p.m.\, there’s no registration\, it’s first-come\, first-served.
URL:https://elmarovineyard.com/event/free-bingo-on-the-patio/
ATTACH;FMTTYPE=image/jpeg:https://elmarovineyard.com/wp-content/uploads/2024/07/CAM-use-this-BINGO-facebook-event-cover-10.jpg
END:VEVENT
BEGIN:VEVENT
DTSTART;TZID=UTC:20240829T180000
DTEND;TZID=UTC:20240829T190000
DTSTAMP:20260421T112024
CREATED:20240611T205810Z
LAST-MODIFIED:20240611T205810Z
UID:5311-1724954400-1724958000@elmarovineyard.com
SUMMARY:Sunset Yoga
DESCRIPTION:Join Laura (co-owner and winemaker) for a one-hour vinyasa yoga flow practice. This class begins at 6:00 p.m.\, includes a complimentary beverage\, and no former yoga training required. Please bring your own mat and water bottle\, $10 per person. (We welcome drop-ins!)
URL:https://elmarovineyard.com/event/sunset-yoga-7/2024-08-29/
ATTACH;FMTTYPE=image/jpeg:https://elmarovineyard.com/wp-content/uploads/2024/06/tent-pad-yoga.jpg
END:VEVENT
BEGIN:VEVENT
DTSTART;TZID=UTC:20240829T110000
DTEND;TZID=UTC:20240829T120000
DTSTAMP:20260421T112024
CREATED:20240611T205613Z
LAST-MODIFIED:20240611T205613Z
UID:5301-1724929200-1724932800@elmarovineyard.com
SUMMARY:Adaptive Yoga
DESCRIPTION:At 11:00 a.m.\, Join Laura (co-owner and winemaker) for a one-hour yoga practice for anyone with a modified range of motion.  Chairs are available for sitting or standing prop\, no former yoga training is required\, and please bring your own mat and water bottle\, $2 per person.  (We welcome drop-ins!)
URL:https://elmarovineyard.com/event/adaptive-yoga-18/2024-08-29/
ATTACH;FMTTYPE=image/jpeg:https://elmarovineyard.com/wp-content/uploads/2024/06/adaptive1-scaled.jpg
END:VEVENT
BEGIN:VEVENT
DTSTART;TZID=UTC:20240828T120000
DTEND;TZID=UTC:20240828T180000
DTSTAMP:20260421T112024
CREATED:20240724T185657Z
LAST-MODIFIED:20240724T185657Z
UID:5431-1724846400-1724868000@elmarovineyard.com
SUMMARY:National Red Wine Day
DESCRIPTION:It’s National Red Wine Day\, and you get to celebrate at Elmaro.  Enjoy two glasses of any of Elmaro’s red wine and an artisan cheese plate for $23.
URL:https://elmarovineyard.com/event/national-red-wine-day/
ATTACH;FMTTYPE=image/jpeg:https://elmarovineyard.com/wp-content/uploads/2024/07/pour3.jpg
END:VEVENT
BEGIN:VEVENT
DTSTART;TZID=UTC:20240825T130000
DTEND;TZID=UTC:20240825T160000
DTSTAMP:20260421T112024
CREATED:20240724T193659Z
LAST-MODIFIED:20240726T143221Z
UID:5442-1724590800-1724601600@elmarovineyard.com
SUMMARY:Winona Symphony Orchestra Summer Social
DESCRIPTION:The most amazing chamber music with a beautiful view\, topped with wine and a personal cheese board. It’s the Winona Symphony Orchestra Summer Social at Elmaro\, Sunday\, August 25th\, 1-4 p.m. Tickets are $35\, available at http://www.winonasymphony.org
URL:https://elmarovineyard.com/event/winona-symphony-orchestra-summer-social-4/
ATTACH;FMTTYPE=image/png:https://elmarovineyard.com/wp-content/uploads/2024/07/WSO-Poster-1.png
END:VEVENT
BEGIN:VEVENT
DTSTART;TZID=UTC:20240824T140000
DTEND;TZID=UTC:20240824T170000
DTSTAMP:20260421T112024
CREATED:20240709T210930Z
LAST-MODIFIED:20240709T210930Z
UID:5365-1724508000-1724518800@elmarovineyard.com
SUMMARY:Music by The Coulee Region Steel Drum Band
DESCRIPTION:The Coulee Region Steel Drum Band is the region’s premiere group for relaxing steel drum music and will provide an island vibe to the vineyard.
URL:https://elmarovineyard.com/event/music-by-the-coulee-region-steel-drum-band-3/
ATTACH;FMTTYPE=image/jpeg:https://elmarovineyard.com/wp-content/uploads/2024/07/coulee-rsdb.jpg
END:VEVENT
BEGIN:VEVENT
DTSTART;TZID=UTC:20240824T123000
DTEND;TZID=UTC:20240824T170000
DTSTAMP:20260421T112024
CREATED:20240724T185234Z
LAST-MODIFIED:20240724T185234Z
UID:5425-1724502600-1724518800@elmarovineyard.com
SUMMARY:Chili Revolution Food Truck
DESCRIPTION:Chili\, hot dogs\, chili dogs\, crunch wraps\, and nachos!  Bring your appetite\, and yes\, it pairs perfectly with wine.
URL:https://elmarovineyard.com/event/chili-revolution-food-truck/
ATTACH;FMTTYPE=image/jpeg:https://elmarovineyard.com/wp-content/uploads/2024/07/chili-revolution-scaled.jpg
END:VEVENT
BEGIN:VEVENT
DTSTART;TZID=UTC:20240823T170000
DTEND;TZID=UTC:20240823T183000
DTSTAMP:20260421T112024
CREATED:20240724T175301Z
LAST-MODIFIED:20240724T181749Z
UID:5407-1724432400-1724437800@elmarovineyard.com
SUMMARY:Trivia Night
DESCRIPTION:Questions: How many colors are in a rainbow? What three planets in our solar system have rings?\nDo you know these answers? Then get your team registered for Trivia Night at Elmaro on Friday\, August 23rd at 5:00 p.m. There’s no fee\, and registration is recommended\, and walk-ins are also welcome. When registering\, select tickets for everyone on your team (i.e. a team of 6 will need 6 tickets) Team sizes of up to 6 people only\, and prizes awarded for 1st\, 2nd\, and 3rd place teams.  Tickets available at https://www.exploretock.com/elmarovineyard/event/496144/trivia-night
URL:https://elmarovineyard.com/event/trivia-night-5/
ATTACH;FMTTYPE=image/jpeg:https://elmarovineyard.com/wp-content/uploads/2024/07/trivia-night-10.jpg
END:VEVENT
BEGIN:VEVENT
DTSTART;TZID=UTC:20240822T180000
DTEND;TZID=UTC:20240822T190000
DTSTAMP:20260421T112024
CREATED:20240611T205810Z
LAST-MODIFIED:20240611T205810Z
UID:5310-1724349600-1724353200@elmarovineyard.com
SUMMARY:Sunset Yoga
DESCRIPTION:Join Laura (co-owner and winemaker) for a one-hour vinyasa yoga flow practice. This class begins at 6:00 p.m.\, includes a complimentary beverage\, and no former yoga training required. Please bring your own mat and water bottle\, $10 per person. (We welcome drop-ins!)
URL:https://elmarovineyard.com/event/sunset-yoga-7/2024-08-22/
ATTACH;FMTTYPE=image/jpeg:https://elmarovineyard.com/wp-content/uploads/2024/06/tent-pad-yoga.jpg
END:VEVENT
BEGIN:VEVENT
DTSTART;TZID=UTC:20240822T120000
DTEND;TZID=UTC:20240822T200000
DTSTAMP:20260421T112024
CREATED:20240724T183115Z
LAST-MODIFIED:20240724T183115Z
UID:5418-1724328000-1724356800@elmarovineyard.com
SUMMARY:National Pecan Torte Day
DESCRIPTION:It’s not quite a pecan torte\, but Elmaro is celebrating the pecan today!  Enjoy a candied pecan\, honey\, and chèvre bread and spread\, today only!
URL:https://elmarovineyard.com/event/national-pecan-torte-day/
ATTACH;FMTTYPE=image/jpeg:https://elmarovineyard.com/wp-content/uploads/2024/07/pecan-and-bread2.jpg
END:VEVENT
BEGIN:VEVENT
DTSTART;TZID=UTC:20240822T110000
DTEND;TZID=UTC:20240822T120000
DTSTAMP:20260421T112024
CREATED:20240611T205613Z
LAST-MODIFIED:20240611T205613Z
UID:5300-1724324400-1724328000@elmarovineyard.com
SUMMARY:Adaptive Yoga
DESCRIPTION:At 11:00 a.m.\, Join Laura (co-owner and winemaker) for a one-hour yoga practice for anyone with a modified range of motion.  Chairs are available for sitting or standing prop\, no former yoga training is required\, and please bring your own mat and water bottle\, $2 per person.  (We welcome drop-ins!)
URL:https://elmarovineyard.com/event/adaptive-yoga-18/2024-08-22/
ATTACH;FMTTYPE=image/jpeg:https://elmarovineyard.com/wp-content/uploads/2024/06/adaptive1-scaled.jpg
END:VEVENT
BEGIN:VEVENT
DTSTART;TZID=UTC:20240818T130000
DTEND;TZID=UTC:20240818T160000
DTSTAMP:20260421T112024
CREATED:20240613T214756Z
LAST-MODIFIED:20240613T214756Z
UID:5331-1723986000-1723996800@elmarovineyard.com
SUMMARY:Music by Hildur Hoglind
DESCRIPTION:Hildur Höglind is a musician and songwriter from Blekinge\, Sweden\, who has received both the STIM grant\, the Blekinge culture grant and a grant from The Royal Swedish Academy of Music. It is clear that the lyrics are the focal point of Hildur’s work\, but the melodies are not far behind; sometimes ethereal and serene\, sometimes intense and fierce. Ideas\, death and art inspire her songwriting. 
URL:https://elmarovineyard.com/event/music-by-hildur-hoglind/
ATTACH;FMTTYPE=image/jpeg:https://elmarovineyard.com/wp-content/uploads/2024/06/Hildur-scaled.jpg
END:VEVENT
BEGIN:VEVENT
DTSTART;TZID=UTC:20240817T140000
DTEND;TZID=UTC:20240817T170000
DTSTAMP:20260421T112024
CREATED:20240613T214147Z
LAST-MODIFIED:20240613T214147Z
UID:5328-1723903200-1723914000@elmarovineyard.com
SUMMARY:Music by Saner & Gibbons
DESCRIPTION:More music\, please! Saner & Gibbons are guaranteed to hit on a few of your favorite tunes when they perform on August 17th\, 2-5 p.m.
URL:https://elmarovineyard.com/event/music-by-saner-gibbons-3/
ATTACH;FMTTYPE=image/jpeg:https://elmarovineyard.com/wp-content/uploads/2024/06/saner-and-gibbons-1.jpg
END:VEVENT
END:VCALENDAR