BEGIN:VCALENDAR
VERSION:2.0
PRODID:-//Elmaro Vineyard - ECPv6.15.20//NONSGML v1.0//EN
CALSCALE:GREGORIAN
METHOD:PUBLISH
X-WR-CALNAME:Elmaro Vineyard
X-ORIGINAL-URL:https://elmarovineyard.com
X-WR-CALDESC:Events for Elmaro Vineyard
REFRESH-INTERVAL;VALUE=DURATION:PT1H
X-Robots-Tag:noindex
X-PUBLISHED-TTL:PT1H
BEGIN:VTIMEZONE
TZID:UTC
BEGIN:STANDARD
TZOFFSETFROM:+0000
TZOFFSETTO:+0000
TZNAME:UTC
DTSTART:20240101T000000
END:STANDARD
END:VTIMEZONE
BEGIN:VEVENT
DTSTART;TZID=UTC:20250228T190000
DTEND;TZID=UTC:20250228T210000
DTSTAMP:20260424T160037
CREATED:20250128T192112Z
LAST-MODIFIED:20250128T192112Z
UID:5857-1740769200-1740776400@elmarovineyard.com
SUMMARY:Bingo Night
DESCRIPTION:Bingo Night at Elmaro Vineyard\, Friday\, February 28th\, 7:00 p.m.! No registration fee\, but required reservations are at https://www.exploretock.com/elmarovineyard/event/527736/bingo-night\nTwo complimentary bingo cards for each guest and assorted prizes.  Bingo will begin promptly at 7:00 p.m.
URL:https://elmarovineyard.com/event/bingo-night-10/
ATTACH;FMTTYPE=image/png:https://elmarovineyard.com/wp-content/uploads/2025/01/BINGO-facebook-event-cover-1.png
END:VEVENT
BEGIN:VEVENT
DTSTART;TZID=UTC:20250301T140000
DTEND;TZID=UTC:20250301T170000
DTSTAMP:20260424T160037
CREATED:20250210T225324Z
LAST-MODIFIED:20250210T225324Z
UID:5894-1740837600-1740848400@elmarovineyard.com
SUMMARY:Music by Sal & Dean
DESCRIPTION:Sal and Dean are an acoustic/vocal rock and country duo\, covering over 5 decades of music.
URL:https://elmarovineyard.com/event/music-by-sal-dean-3/
ATTACH;FMTTYPE=image/jpeg:https://elmarovineyard.com/wp-content/uploads/2025/02/Sal-Dean-2.jpg
END:VEVENT
BEGIN:VEVENT
DTSTART;TZID=UTC:20250302T130000
DTEND;TZID=UTC:20250302T160000
DTSTAMP:20260424T160037
CREATED:20250210T230832Z
LAST-MODIFIED:20250210T230832Z
UID:5897-1740920400-1740931200@elmarovineyard.com
SUMMARY:Music by Joe Cody
DESCRIPTION:Joe Cody will fill the winery with music from 1-4 p.m.
URL:https://elmarovineyard.com/event/music-by-joe-cody-3/
ATTACH;FMTTYPE=image/jpeg:https://elmarovineyard.com/wp-content/uploads/2025/02/Joe-Cody.jpg
END:VEVENT
BEGIN:VEVENT
DTSTART;TZID=UTC:20250306T110000
DTEND;TZID=UTC:20250306T120000
DTSTAMP:20260424T160037
CREATED:20241230T193139Z
LAST-MODIFIED:20241230T193139Z
UID:5800-1741258800-1741262400@elmarovineyard.com
SUMMARY:Adaptive Yoga
DESCRIPTION:At 11:00 a.m.\, Join Laura (co-owner and winemaker) for a one-hour yoga practice for anyone with a modified range of motion. Chairs are available for sitting or standing prop\, no former yoga training is required\, and please bring your own mat and water bottle\, $2 per person. (We welcome drop-ins!)
URL:https://elmarovineyard.com/event/adaptive-yoga-22/2025-03-06/
ATTACH;FMTTYPE=image/jpeg:https://elmarovineyard.com/wp-content/uploads/2024/12/adaptive1-scaled.jpg
END:VEVENT
BEGIN:VEVENT
DTSTART;TZID=UTC:20250306T160000
DTEND;TZID=UTC:20250306T200000
DTSTAMP:20260424T160037
CREATED:20250211T172959Z
LAST-MODIFIED:20250211T172959Z
UID:5940-1741276800-1741291200@elmarovineyard.com
SUMMARY:Pick Your Own Charcuterie Night
DESCRIPTION:You’ll select seven options from cheeses\, salami\, summer sausage\, sweet treats\, and crackers to fit your mood and cravings for $19\, and you can add on two glasses of wine for only $6 more\, no registration needed.
URL:https://elmarovineyard.com/event/pick-your-own-charcuterie-night/
ATTACH;FMTTYPE=image/png:https://elmarovineyard.com/wp-content/uploads/2025/02/build-your-own-5.png
END:VEVENT
BEGIN:VEVENT
DTSTART;TZID=UTC:20250307T120000
DTEND;TZID=UTC:20250307T190000
DTSTAMP:20260424T160037
CREATED:20250210T155715Z
LAST-MODIFIED:20250210T155715Z
UID:5885-1741348800-1741374000@elmarovineyard.com
SUMMARY:Tinned Fish Fridays
DESCRIPTION:Pick your own SeaCuterie adventure at Elmaro on Fridays in March\, 12-7 p.m. Select your favorite tinned fish\, and for $3 more\, Elmaro will add the accoutrements of baguette and exciting flavors. Or\, pick two tinned fish\, and the added accoutrements for both is only $5. No reservations needed.
URL:https://elmarovineyard.com/event/tinned-fish-fridays/2025-03-07/
ATTACH;FMTTYPE=image/png:https://elmarovineyard.com/wp-content/uploads/2025/02/SeaCuterie.png
END:VEVENT
BEGIN:VEVENT
DTSTART;TZID=UTC:20250307T150000
DTEND;TZID=UTC:20250307T180000
DTSTAMP:20260424T160037
CREATED:20250211T154744Z
LAST-MODIFIED:20250211T154744Z
UID:5916-1741359600-1741370400@elmarovineyard.com
SUMMARY:Music by Curt Glenna
DESCRIPTION:Curt performs a mix of 70s covers and light tunes\, and his music will fill the winery from 3-6 p.m.
URL:https://elmarovineyard.com/event/music-by-curt-glenna-9/
ATTACH;FMTTYPE=image/jpeg:https://elmarovineyard.com/wp-content/uploads/2025/02/Curt-Glenna2.jpg
END:VEVENT
BEGIN:VEVENT
DTSTART;TZID=UTC:20250308T140000
DTEND;TZID=UTC:20250308T170000
DTSTAMP:20260424T160037
CREATED:20250211T170855Z
LAST-MODIFIED:20250211T170855Z
UID:5928-1741442400-1741453200@elmarovineyard.com
SUMMARY:Music by Greg Gall and His Sisters from Another Mother
DESCRIPTION:Acoustic Folk/Rock from the 70’s and beyond.
URL:https://elmarovineyard.com/event/music-by-greg-gall-and-his-sisters-from-another-mother-4/
ATTACH;FMTTYPE=image/jpeg:https://elmarovineyard.com/wp-content/uploads/2025/02/Greg-Gall-scaled.jpg
END:VEVENT
BEGIN:VEVENT
DTSTART;TZID=UTC:20250309T080000
DTEND;TZID=UTC:20250309T170000
DTSTAMP:20260424T160037
CREATED:20250309T194659Z
LAST-MODIFIED:20250309T194659Z
UID:5970-1741507200-1741539600@elmarovineyard.com
SUMMARY:Bingo Night!
DESCRIPTION:Bingo Night at Elmaro Vineyard\, Friday\, March 28th\, 7:00 p.m.! No registration fee\, but required reservations are at https://www.exploretock.com/elmarovineyard/event/539773/bingo-night  Two complimentary bingo cards for each guest and assorted prizes.  Bingo will begin promptly at 7:00 p.m.
URL:https://elmarovineyard.com/event/bingo-night-11/
ATTACH;FMTTYPE=image/png:https://elmarovineyard.com/wp-content/uploads/2025/03/BINGO-facebook-event-cover-2.png
END:VEVENT
BEGIN:VEVENT
DTSTART;TZID=UTC:20250309T120000
DTEND;TZID=UTC:20250309T170000
DTSTAMP:20260424T160037
CREATED:20250211T153045Z
LAST-MODIFIED:20250211T153045Z
UID:5901-1741521600-1741539600@elmarovineyard.com
SUMMARY:National Barbie Day
DESCRIPTION:Celebrate all things pink on National Barbie Day!  We are bringing back the Elmaro Sangria Mimosa today\, and wear pink and receive $1 off all glasses of wine.
URL:https://elmarovineyard.com/event/national-barbie-day-2/
ATTACH;FMTTYPE=image/jpeg:https://elmarovineyard.com/wp-content/uploads/2025/02/National-Barbie-Day-3.jpg
END:VEVENT
BEGIN:VEVENT
DTSTART;TZID=UTC:20250309T130000
DTEND;TZID=UTC:20250309T160000
DTSTAMP:20260424T160037
CREATED:20250211T155530Z
LAST-MODIFIED:20250211T155530Z
UID:5919-1741525200-1741536000@elmarovineyard.com
SUMMARY:Music by Don D. Harvey
DESCRIPTION:A musician\, songwriter\, performer\, school teacher\, and man about town.  It’s always a good time when Don Harvey is in the house!
URL:https://elmarovineyard.com/event/music-by-don-d-harvey-6/
ATTACH;FMTTYPE=image/jpeg:https://elmarovineyard.com/wp-content/uploads/2025/02/Don-D-Harvey3.jpg
END:VEVENT
BEGIN:VEVENT
DTSTART;TZID=UTC:20250313T110000
DTEND;TZID=UTC:20250313T120000
DTSTAMP:20260424T160037
CREATED:20241230T193139Z
LAST-MODIFIED:20241230T193139Z
UID:5801-1741863600-1741867200@elmarovineyard.com
SUMMARY:Adaptive Yoga
DESCRIPTION:At 11:00 a.m.\, Join Laura (co-owner and winemaker) for a one-hour yoga practice for anyone with a modified range of motion. Chairs are available for sitting or standing prop\, no former yoga training is required\, and please bring your own mat and water bottle\, $2 per person. (We welcome drop-ins!)
URL:https://elmarovineyard.com/event/adaptive-yoga-22/2025-03-13/
ATTACH;FMTTYPE=image/jpeg:https://elmarovineyard.com/wp-content/uploads/2024/12/adaptive1-scaled.jpg
END:VEVENT
BEGIN:VEVENT
DTSTART;TZID=UTC:20250314T120000
DTEND;TZID=UTC:20250314T190000
DTSTAMP:20260424T160037
CREATED:20250210T155715Z
LAST-MODIFIED:20250210T155715Z
UID:5887-1741953600-1741978800@elmarovineyard.com
SUMMARY:Tinned Fish Fridays
DESCRIPTION:Pick your own SeaCuterie adventure at Elmaro on Fridays in March\, 12-7 p.m. Select your favorite tinned fish\, and for $3 more\, Elmaro will add the accoutrements of baguette and exciting flavors. Or\, pick two tinned fish\, and the added accoutrements for both is only $5. No reservations needed.
URL:https://elmarovineyard.com/event/tinned-fish-fridays/2025-03-14/
ATTACH;FMTTYPE=image/png:https://elmarovineyard.com/wp-content/uploads/2025/02/SeaCuterie.png
END:VEVENT
BEGIN:VEVENT
DTSTART;TZID=UTC:20250314T120000
DTEND;TZID=UTC:20250314T190000
DTSTAMP:20260424T160037
CREATED:20250314T055908Z
LAST-MODIFIED:20250314T145829Z
UID:5922-1741953600-1741978800@elmarovineyard.com
SUMMARY:PI (Pie) Day!
DESCRIPTION:Celebrate the circle with PI (Pie) Day at Elmaro!  We are showcasing some new pies this year\, and rolling with some past favorites.  Enjoy $1 off glasses of wine with the purchase of a piece of pie\, and it’s the day to eat dessert first!
URL:https://elmarovineyard.com/event/pi-pie-day/
ATTACH;FMTTYPE=image/jpeg:https://elmarovineyard.com/wp-content/uploads/2025/02/rasp-creme2-scaled.jpeg
END:VEVENT
BEGIN:VEVENT
DTSTART;TZID=UTC:20250314T140000
DTEND;TZID=UTC:20250314T170000
DTSTAMP:20260424T160037
CREATED:20250211T160115Z
LAST-MODIFIED:20250211T160115Z
UID:5925-1741960800-1741971600@elmarovineyard.com
SUMMARY:Music by David Hartman
DESCRIPTION:Pie and music!  It’s the perfect start to the weekend. \nDavid plays 6 and 12 string guitar for soft rock\, country\, folk\, and modern music primarily from the 60’s and 70’s. It’s a little something for everyone!
URL:https://elmarovineyard.com/event/music-by-david-hartman-17/
ATTACH;FMTTYPE=image/jpeg:https://elmarovineyard.com/wp-content/uploads/2025/02/david-hartman4.jpg
END:VEVENT
BEGIN:VEVENT
DTSTART;TZID=UTC:20250315T100000
DTEND;TZID=UTC:20250315T113000
DTSTAMP:20260424T160037
CREATED:20250217T221931Z
LAST-MODIFIED:20250217T221931Z
UID:5947-1742032800-1742038200@elmarovineyard.com
SUMMARY:Yoga & Brunch
DESCRIPTION:Join Laura (co-owner and winemaker) for a relaxing hour of vinyasa flow yoga practice\, followed by a continental brunch and a mimosa. $23/person\, registration at https://www.exploretock.com/elmarovineyard/event/535827/march-yoga-brunch
URL:https://elmarovineyard.com/event/yoga-brunch-20/
ATTACH;FMTTYPE=image/png:https://elmarovineyard.com/wp-content/uploads/2025/02/New-Years-Eve-Yoga-Brunch-10-a.m.-1920-x-1080-px-6.png
END:VEVENT
BEGIN:VEVENT
DTSTART;TZID=UTC:20250315T140000
DTEND;TZID=UTC:20250315T170000
DTSTAMP:20260424T160037
CREATED:20250211T171041Z
LAST-MODIFIED:20250211T171041Z
UID:5931-1742047200-1742058000@elmarovineyard.com
SUMMARY:Music by The Coulee Region Steel Drum Band
DESCRIPTION:It’s only March\, but it’s a tropical Saturday in the Crush Pad at Elmaro with the Coulee Region Steel Drum Band!
URL:https://elmarovineyard.com/event/music-by-the-coulee-region-steel-drum-band-6/
ATTACH;FMTTYPE=image/jpeg:https://elmarovineyard.com/wp-content/uploads/2025/02/coulee-rsdb.jpg
END:VEVENT
BEGIN:VEVENT
DTSTART;TZID=UTC:20250316T120000
DTEND;TZID=UTC:20250316T170000
DTSTAMP:20260424T160037
CREATED:20250214T225509Z
LAST-MODIFIED:20250214T225509Z
UID:5944-1742126400-1742144400@elmarovineyard.com
SUMMARY:St. Patrick's Day Celebration
DESCRIPTION:Today\, everyone is Irish!  Elmaro has music by Patina\, Green Wine\, Guiness Chocolate Cupcakes\, and Guiness Beer.
URL:https://elmarovineyard.com/event/st-patricks-day-celebration-2/
ATTACH;FMTTYPE=image/jpeg:https://elmarovineyard.com/wp-content/uploads/2025/02/St.-Patricks-Day-at-Elmaro-US-Letter-Landscape-1.jpg
END:VEVENT
BEGIN:VEVENT
DTSTART;TZID=UTC:20250316T130000
DTEND;TZID=UTC:20250316T160000
DTSTAMP:20260424T160037
CREATED:20250211T154048Z
LAST-MODIFIED:20250211T154048Z
UID:5913-1742130000-1742140800@elmarovineyard.com
SUMMARY:Music by Patina
DESCRIPTION:It’s St. Patrick’s Day at its finest at Elmaro!  Patina is filling the Crush Pad with upbeat Celtic music to make everyone Irish for a day.  And yes\, dancing is encouraged!
URL:https://elmarovineyard.com/event/music-by-patina-7/
ATTACH;FMTTYPE=image/jpeg:https://elmarovineyard.com/wp-content/uploads/2025/02/patina3.jpg
END:VEVENT
BEGIN:VEVENT
DTSTART;TZID=UTC:20250320T110000
DTEND;TZID=UTC:20250320T120000
DTSTAMP:20260424T160037
CREATED:20241230T193139Z
LAST-MODIFIED:20241230T193139Z
UID:5802-1742468400-1742472000@elmarovineyard.com
SUMMARY:Adaptive Yoga
DESCRIPTION:At 11:00 a.m.\, Join Laura (co-owner and winemaker) for a one-hour yoga practice for anyone with a modified range of motion. Chairs are available for sitting or standing prop\, no former yoga training is required\, and please bring your own mat and water bottle\, $2 per person. (We welcome drop-ins!)
URL:https://elmarovineyard.com/event/adaptive-yoga-22/2025-03-20/
ATTACH;FMTTYPE=image/jpeg:https://elmarovineyard.com/wp-content/uploads/2024/12/adaptive1-scaled.jpg
END:VEVENT
BEGIN:VEVENT
DTSTART;TZID=UTC:20250320T180000
DTEND;TZID=UTC:20250320T190000
DTSTAMP:20260424T160037
CREATED:20250210T225032Z
LAST-MODIFIED:20250210T225032Z
UID:5891-1742493600-1742497200@elmarovineyard.com
SUMMARY:Candlelight Yoga
DESCRIPTION:Embrace the joy of candlelight\, and join Laura (co-owner and winemaker) for a one-hour vinyasa yoga flow practice at 6:00 p.m. This class includes a complimentary beverage\, and no former yoga training required. Please bring your own mat and water bottle\, $10 per person\, registration at https://www.exploretock.com/elmarovineyard/event/533461/candlelight-yoga
URL:https://elmarovineyard.com/event/candlelight-yoga-6/
ATTACH;FMTTYPE=image/jpeg:https://elmarovineyard.com/wp-content/uploads/2025/02/indoor-pose6-scaled.jpeg
END:VEVENT
BEGIN:VEVENT
DTSTART;TZID=UTC:20250321T120000
DTEND;TZID=UTC:20250321T190000
DTSTAMP:20260424T160037
CREATED:20250210T155715Z
LAST-MODIFIED:20250210T155715Z
UID:5888-1742558400-1742583600@elmarovineyard.com
SUMMARY:Tinned Fish Fridays
DESCRIPTION:Pick your own SeaCuterie adventure at Elmaro on Fridays in March\, 12-7 p.m. Select your favorite tinned fish\, and for $3 more\, Elmaro will add the accoutrements of baguette and exciting flavors. Or\, pick two tinned fish\, and the added accoutrements for both is only $5. No reservations needed.
URL:https://elmarovineyard.com/event/tinned-fish-fridays/2025-03-21/
ATTACH;FMTTYPE=image/png:https://elmarovineyard.com/wp-content/uploads/2025/02/SeaCuterie.png
END:VEVENT
BEGIN:VEVENT
DTSTART;TZID=UTC:20250321T150000
DTEND;TZID=UTC:20250321T180000
DTSTAMP:20260424T160037
CREATED:20250211T171816Z
LAST-MODIFIED:20250211T171816Z
UID:5934-1742569200-1742580000@elmarovineyard.com
SUMMARY:Music by Mike Nanstad
DESCRIPTION:Mike Nanstad is a Central Wisconsin native whose singing and acoustic guitar playing of classic country and rock has captivated friends\, family\, and local audiences at a variety of venues.  Mike’s song list ranges from legends like Tom Petty\, Eric Clapton\, and Jimmy Buffet to the outlaw country of Waylon Jennings\, Willie Nelson\, and Jonhhy Cash.
URL:https://elmarovineyard.com/event/music-by-mike-nanstad/
ATTACH;FMTTYPE=image/jpeg:https://elmarovineyard.com/wp-content/uploads/2025/02/mike-nanstad2-scaled.jpg
END:VEVENT
BEGIN:VEVENT
DTSTART;TZID=UTC:20250322T090000
DTEND;TZID=UTC:20250322T110000
DTSTAMP:20260424T160037
CREATED:20250129T184809Z
LAST-MODIFIED:20250129T184809Z
UID:5875-1742634000-1742641200@elmarovineyard.com
SUMMARY:Eucalyptus Swag or Wreath Class
DESCRIPTION:Welcome spring energy and scents into your home with a eucalyptus swag or wreath (select at checkout). This workshop comes with a variety of eucalyptus greens\, fresh spring florals\, and selection of dried accents to create a piece that fits your style. Looks stunningly fresh as it dries\, and can easily be kept for many months in the dried state. Embellished with a ribbon\, many options to choose from\, or leave simple.  Swag\, $52\, Wreath $52+$10 upgrade.  Full descriptions and registration is at  https://www.exploretock.com/elmarovineyard/event/531604/spring-eucalyptus-wreath-or-swag \n 
URL:https://elmarovineyard.com/event/eucalyptus-swag-or-wreath-class/
ATTACH;FMTTYPE=image/jpeg:https://elmarovineyard.com/wp-content/uploads/2025/01/Springtime-Bird-Wreath-3.jpg
END:VEVENT
BEGIN:VEVENT
DTSTART;TZID=UTC:20250322T140000
DTEND;TZID=UTC:20250322T170000
DTSTAMP:20260424T160037
CREATED:20250211T153407Z
LAST-MODIFIED:20250211T153407Z
UID:5904-1742652000-1742662800@elmarovineyard.com
SUMMARY:Music by James Grant
DESCRIPTION:James Grant covers 60s and 70s easy rock\, and he’s filling the winery with music from 2-5 p.m.
URL:https://elmarovineyard.com/event/music-by-james-grant-28/
ATTACH;FMTTYPE=image/jpeg:https://elmarovineyard.com/wp-content/uploads/2025/02/James-Grant6.jpg
END:VEVENT
BEGIN:VEVENT
DTSTART;TZID=UTC:20250323T130000
DTEND;TZID=UTC:20250323T160000
DTSTAMP:20260424T160037
CREATED:20250211T153534Z
LAST-MODIFIED:20250211T153534Z
UID:5907-1742734800-1742745600@elmarovineyard.com
SUMMARY:Music by Jeani & The Dreamers
DESCRIPTION:Jeani & The Dreamers are at Elmaro! Keep the weekend vibes going and start a dance party in the crush pad!
URL:https://elmarovineyard.com/event/music-by-jeani-the-dreamers-12/
ATTACH;FMTTYPE=image/jpeg:https://elmarovineyard.com/wp-content/uploads/2025/02/Jeaniandthedreamers.jpg
END:VEVENT
BEGIN:VEVENT
DTSTART;TZID=UTC:20250328T120000
DTEND;TZID=UTC:20250328T190000
DTSTAMP:20260424T160037
CREATED:20250210T155715Z
LAST-MODIFIED:20250210T155715Z
UID:5889-1743163200-1743188400@elmarovineyard.com
SUMMARY:Tinned Fish Fridays
DESCRIPTION:Pick your own SeaCuterie adventure at Elmaro on Fridays in March\, 12-7 p.m. Select your favorite tinned fish\, and for $3 more\, Elmaro will add the accoutrements of baguette and exciting flavors. Or\, pick two tinned fish\, and the added accoutrements for both is only $5. No reservations needed.
URL:https://elmarovineyard.com/event/tinned-fish-fridays/2025-03-28/
ATTACH;FMTTYPE=image/png:https://elmarovineyard.com/wp-content/uploads/2025/02/SeaCuterie.png
END:VEVENT
BEGIN:VEVENT
DTSTART;TZID=UTC:20250329T140000
DTEND;TZID=UTC:20250329T170000
DTSTAMP:20260424T160037
CREATED:20250211T153700Z
LAST-MODIFIED:20250211T153700Z
UID:5910-1743256800-1743267600@elmarovineyard.com
SUMMARY:Music by Doug Mahlum
DESCRIPTION:Doug Mahlum is a veteran musician in this area with over 40 years of experience. He can easily draw from over 60 years of songs in a number of different genres including Rock\, Pop\, Country\, Folk\, Show tunes\, and Jazz standards. Doug likes to have fun and interact with the group and will encourage sing-a-longs (if it’s okay with your neighbors).
URL:https://elmarovineyard.com/event/music-by-doug-mahlum-20/
ATTACH;FMTTYPE=image/jpeg:https://elmarovineyard.com/wp-content/uploads/2025/02/Doug-Mahlum3.jpg
END:VEVENT
BEGIN:VEVENT
DTSTART;TZID=UTC:20250330T130000
DTEND;TZID=UTC:20250330T160000
DTSTAMP:20260424T160037
CREATED:20250211T172451Z
LAST-MODIFIED:20250211T172451Z
UID:5937-1743339600-1743350400@elmarovineyard.com
SUMMARY:Music by Jaggedease
DESCRIPTION:Jaggedease performs rock\, blues\, jazz\, & fold style jam\, playing originals and covers. \nwww.jaggedease.com
URL:https://elmarovineyard.com/event/music-by-jaggedease/
ATTACH;FMTTYPE=image/webp:https://elmarovineyard.com/wp-content/uploads/2025/02/jaggedease.webp
END:VEVENT
BEGIN:VEVENT
DTSTART;TZID=UTC:20250403T110000
DTEND;TZID=UTC:20250403T120000
DTSTAMP:20260424T160037
CREATED:20250309T194117Z
LAST-MODIFIED:20250309T194117Z
UID:5956-1743678000-1743681600@elmarovineyard.com
SUMMARY:Adaptive Yoga
DESCRIPTION:At 11:00 a.m.\, Join Laura (co-owner and winemaker) for a one-hour yoga practice for anyone with a modified range of motion. Chairs are available for sitting or standing prop\, no former yoga training is required\, and please bring your own mat and water bottle\, $2 per person. (We welcome drop-ins!)
URL:https://elmarovineyard.com/event/adaptive-yoga-23/2025-04-03/
ATTACH;FMTTYPE=image/jpeg:https://elmarovineyard.com/wp-content/uploads/2024/10/adaptive1-1-scaled.jpg
END:VEVENT
END:VCALENDAR