BEGIN:VCALENDAR
VERSION:2.0
PRODID:-//Elmaro Vineyard - ECPv6.15.20//NONSGML v1.0//EN
CALSCALE:GREGORIAN
METHOD:PUBLISH
X-WR-CALNAME:Elmaro Vineyard
X-ORIGINAL-URL:https://elmarovineyard.com
X-WR-CALDESC:Events for Elmaro Vineyard
REFRESH-INTERVAL;VALUE=DURATION:PT1H
X-Robots-Tag:noindex
X-PUBLISHED-TTL:PT1H
BEGIN:VTIMEZONE
TZID:UTC
BEGIN:STANDARD
TZOFFSETFROM:+0000
TZOFFSETTO:+0000
TZNAME:UTC
DTSTART:20240101T000000
END:STANDARD
END:VTIMEZONE
BEGIN:VEVENT
DTSTART;TZID=UTC:20250123T110000
DTEND;TZID=UTC:20250123T120000
DTSTAMP:20260424T065102
CREATED:20241021T203508Z
LAST-MODIFIED:20241021T203508Z
UID:5654-1737630000-1737633600@elmarovineyard.com
SUMMARY:Adaptive Yoga
DESCRIPTION:At 11:00 a.m.\, Join Laura (co-owner and winemaker) for a one-hour yoga practice for anyone with a modified range of motion. Chairs are available for sitting or standing prop\, no former yoga training is required\, and please bring your own mat and water bottle\, $2 per person. (We welcome drop-ins!)
URL:https://elmarovineyard.com/event/adaptive-yoga-21/2025-01-23/
ATTACH;FMTTYPE=image/jpeg:https://elmarovineyard.com/wp-content/uploads/2024/10/adaptive1-1-scaled.jpg
END:VEVENT
BEGIN:VEVENT
DTSTART;TZID=UTC:20250123T180000
DTEND;TZID=UTC:20250123T193000
DTSTAMP:20260424T065102
CREATED:20241219T212357Z
LAST-MODIFIED:20241219T212357Z
UID:5781-1737655200-1737660600@elmarovineyard.com
SUMMARY:Trivia Night
DESCRIPTION:Is cabin fever hitting? Get your team registered for January Trivia Night at Elmaro! Thursday\, January 23rd\, 6:00-7:30 p.m. There’s no fee\, but registration of teams is required. Team sizes of up to 6 people only\, and prizes awarded for 1st\, 2nd\, and 3rd place teams. When registering\, please register the total number of guests on your team.  Registration at https://www.exploretock.com/elmarovineyard/event/523663/january-trivia-night
URL:https://elmarovineyard.com/event/trivia-night-8/
ATTACH;FMTTYPE=image/jpeg:https://elmarovineyard.com/wp-content/uploads/2024/12/trivia-night-14.jpg
END:VEVENT
BEGIN:VEVENT
DTSTART;TZID=UTC:20250124T190000
DTEND;TZID=UTC:20250124T210000
DTSTAMP:20260424T065102
CREATED:20241223T194336Z
LAST-MODIFIED:20241223T194336Z
UID:5791-1737745200-1737752400@elmarovineyard.com
SUMMARY:Bingo Night
DESCRIPTION:Bingo Night at Elmaro Vineyard\,Friday\, January 24th\, 7:00 p.m.! No registration fee\, but required reservations are at https://www.exploretock.com/elmarovineyard/event/523631/bingo-night\nTwo complimentary bingo cards for each guest and assorted prizes.  Bingo will begin promptly at 7:00 p.m.
URL:https://elmarovineyard.com/event/bingo-night-9/
ATTACH;FMTTYPE=image/png:https://elmarovineyard.com/wp-content/uploads/2024/12/BINGO-facebook-event-cover.png
END:VEVENT
BEGIN:VEVENT
DTSTART;TZID=UTC:20250125T120000
DTEND;TZID=UTC:20250125T180000
DTSTAMP:20260424T065102
CREATED:20241230T222046Z
LAST-MODIFIED:20241230T222046Z
UID:5805-1737806400-1737828000@elmarovineyard.com
SUMMARY:Nachos & Sangria
DESCRIPTION:Nachos and sangria\, warm up to this yummy treat!
URL:https://elmarovineyard.com/event/nachos-sangria/
ATTACH;FMTTYPE=image/jpeg:https://elmarovineyard.com/wp-content/uploads/2024/12/IMG_9598-scaled.jpg
END:VEVENT
BEGIN:VEVENT
DTSTART;TZID=UTC:20250125T140000
DTEND;TZID=UTC:20250125T170000
DTSTAMP:20260424T065102
CREATED:20250113T215935Z
LAST-MODIFIED:20250113T215935Z
UID:5831-1737813600-1737824400@elmarovineyard.com
SUMMARY:Music by Josie Legler
DESCRIPTION:Josie is a local\, one-woman show. She plays guitar and puts her own spin on modern tunes.
URL:https://elmarovineyard.com/event/music-by-josie-legler-5/
ATTACH;FMTTYPE=image/jpeg:https://elmarovineyard.com/wp-content/uploads/2025/01/josie-legler2.jpg
END:VEVENT
BEGIN:VEVENT
DTSTART;TZID=UTC:20250130T110000
DTEND;TZID=UTC:20250130T120000
DTSTAMP:20260424T065102
CREATED:20241021T203508Z
LAST-MODIFIED:20241021T203508Z
UID:5655-1738234800-1738238400@elmarovineyard.com
SUMMARY:Adaptive Yoga
DESCRIPTION:At 11:00 a.m.\, Join Laura (co-owner and winemaker) for a one-hour yoga practice for anyone with a modified range of motion. Chairs are available for sitting or standing prop\, no former yoga training is required\, and please bring your own mat and water bottle\, $2 per person. (We welcome drop-ins!)
URL:https://elmarovineyard.com/event/adaptive-yoga-21/2025-01-30/
ATTACH;FMTTYPE=image/jpeg:https://elmarovineyard.com/wp-content/uploads/2024/10/adaptive1-1-scaled.jpg
END:VEVENT
BEGIN:VEVENT
DTSTART;TZID=UTC:20250130T180000
DTEND;TZID=UTC:20250130T190000
DTSTAMP:20260424T065102
CREATED:20241218T204213Z
LAST-MODIFIED:20241218T204213Z
UID:5774-1738260000-1738263600@elmarovineyard.com
SUMMARY:Candlelight Yoga
DESCRIPTION:Embrace the joy of candlelight\, and join Laura (co-owner and winemaker) for a one-hour vinyasa yoga flow practice at 6:00 p.m. This class includes a complimentary beverage\, and no former yoga training required. Please bring your own mat and water bottle\, $10 per person. (We welcome drop-ins!)
URL:https://elmarovineyard.com/event/candlelight-yoga-4/
ATTACH;FMTTYPE=image/jpeg:https://elmarovineyard.com/wp-content/uploads/2024/12/candlelight-yoga-3.jpg
END:VEVENT
BEGIN:VEVENT
DTSTART;TZID=UTC:20250201T130000
DTEND;TZID=UTC:20250201T160000
DTSTAMP:20260424T065102
CREATED:20250113T213057Z
LAST-MODIFIED:20250127T210100Z
UID:5815-1738414800-1738425600@elmarovineyard.com
SUMMARY:Music by Doug Mahlum
DESCRIPTION:Doug Mahlum is a veteran musician in this area with over 40 years of experience. He can easily draw from over 60 years of songs in a number of different genres including Rock\, Pop\, Country\, Folk\, Show tunes\, and Jazz standards. Doug likes to have fun and interact with the group and will encourage sing-a-longs (if it’s okay with your neighbors).
URL:https://elmarovineyard.com/event/music-by-doug-mahlum-18/
ATTACH;FMTTYPE=image/jpeg:https://elmarovineyard.com/wp-content/uploads/2024/10/Doug-Mahlum3.jpg
END:VEVENT
BEGIN:VEVENT
DTSTART;TZID=UTC:20250202T120000
DTEND;TZID=UTC:20250202T170000
DTSTAMP:20260424T065102
CREATED:20250113T225014Z
LAST-MODIFIED:20250113T225014Z
UID:5835-1738497600-1738515600@elmarovineyard.com
SUMMARY:Cellar Club Sunday
DESCRIPTION:Cheers to our Cellar Club Members\, and today they receive $1 off all cheese plates.
URL:https://elmarovineyard.com/event/cellar-club-sunday/
ATTACH;FMTTYPE=image/png:https://elmarovineyard.com/wp-content/uploads/2025/01/Cellar-Club-Sunday.png
END:VEVENT
BEGIN:VEVENT
DTSTART;TZID=UTC:20250202T130000
DTEND;TZID=UTC:20250202T160000
DTSTAMP:20260424T065102
CREATED:20250113T213453Z
LAST-MODIFIED:20250129T153226Z
UID:5817-1738501200-1738512000@elmarovineyard.com
SUMMARY:Music by Curt Glenna
DESCRIPTION:Curt’s back to play all the songs you remember from the 60s\, 70s\, & 80s. Join him 1-4pm for a glass of wine and some toe tapping sing-a-long time.
URL:https://elmarovineyard.com/event/music-by-david-hartman-16/
ATTACH;FMTTYPE=image/jpeg:https://elmarovineyard.com/wp-content/uploads/2024/10/david-hartman4-1.jpg
END:VEVENT
BEGIN:VEVENT
DTSTART;TZID=UTC:20250206T110000
DTEND;TZID=UTC:20250206T120000
DTSTAMP:20260424T065102
CREATED:20241230T193139Z
LAST-MODIFIED:20241230T193139Z
UID:5795-1738839600-1738843200@elmarovineyard.com
SUMMARY:Adaptive Yoga
DESCRIPTION:At 11:00 a.m.\, Join Laura (co-owner and winemaker) for a one-hour yoga practice for anyone with a modified range of motion. Chairs are available for sitting or standing prop\, no former yoga training is required\, and please bring your own mat and water bottle\, $2 per person. (We welcome drop-ins!)
URL:https://elmarovineyard.com/event/adaptive-yoga-22/2025-02-06/
ATTACH;FMTTYPE=image/jpeg:https://elmarovineyard.com/wp-content/uploads/2024/12/adaptive1-scaled.jpg
END:VEVENT
BEGIN:VEVENT
DTSTART;TZID=UTC:20250206T160000
DTEND;TZID=UTC:20250206T200000
DTSTAMP:20260424T065102
CREATED:20250113T213804Z
LAST-MODIFIED:20250127T192555Z
UID:5819-1738857600-1738872000@elmarovineyard.com
SUMMARY:Pick Your Own Charcuterie Night
DESCRIPTION:You’ll select seven options from cheeses\, salami\, summer sausage\, sweet treats\, and crackers to fit your mood and cravings for $19\, and you can add on two glasses of wine for only $6 more\, no registration needed.
URL:https://elmarovineyard.com/event/date-night-17/
ATTACH;FMTTYPE=image/png:https://elmarovineyard.com/wp-content/uploads/2025/01/build-your-own-3.png
END:VEVENT
BEGIN:VEVENT
DTSTART;TZID=UTC:20250208T140000
DTEND;TZID=UTC:20250208T170000
DTSTAMP:20260424T065102
CREATED:20250113T214315Z
LAST-MODIFIED:20250113T214315Z
UID:5821-1739023200-1739034000@elmarovineyard.com
SUMMARY:Music by James Grant
DESCRIPTION:James Grant covers 60s and 70s easy rock\, and he’s filling the winery with music from 2-5 p.m.
URL:https://elmarovineyard.com/event/music-by-james-grant-27/
ATTACH;FMTTYPE=image/jpeg:https://elmarovineyard.com/wp-content/uploads/2024/09/James-Grant6.jpg
END:VEVENT
BEGIN:VEVENT
DTSTART;TZID=UTC:20250209T130000
DTEND;TZID=UTC:20250209T160000
DTSTAMP:20260424T065102
CREATED:20250113T214814Z
LAST-MODIFIED:20250113T214814Z
UID:5823-1739106000-1739116800@elmarovineyard.com
SUMMARY:Music by Jeani & The Dreamers
DESCRIPTION:Jeani & The Dreamers are at Elmaro! Keep the weekend vibes going and dance with Jeani & The Dreamers.
URL:https://elmarovineyard.com/event/music-by-jeani-the-dreamers-11/
ATTACH;FMTTYPE=image/jpeg:https://elmarovineyard.com/wp-content/uploads/2024/10/Jeaniandthedreamers.jpg
END:VEVENT
BEGIN:VEVENT
DTSTART;TZID=UTC:20250213T110000
DTEND;TZID=UTC:20250213T120000
DTSTAMP:20260424T065102
CREATED:20241230T193139Z
LAST-MODIFIED:20241230T193139Z
UID:5797-1739444400-1739448000@elmarovineyard.com
SUMMARY:Adaptive Yoga
DESCRIPTION:At 11:00 a.m.\, Join Laura (co-owner and winemaker) for a one-hour yoga practice for anyone with a modified range of motion. Chairs are available for sitting or standing prop\, no former yoga training is required\, and please bring your own mat and water bottle\, $2 per person. (We welcome drop-ins!)
URL:https://elmarovineyard.com/event/adaptive-yoga-22/2025-02-13/
ATTACH;FMTTYPE=image/jpeg:https://elmarovineyard.com/wp-content/uploads/2024/12/adaptive1-scaled.jpg
END:VEVENT
BEGIN:VEVENT
DTSTART;TZID=UTC:20250213T120000
DTEND;TZID=UTC:20250213T180000
DTSTAMP:20260424T065102
CREATED:20250128T192816Z
LAST-MODIFIED:20250128T192951Z
UID:5860-1739448000-1739469600@elmarovineyard.com
SUMMARY:Choc-uterie Plate is back!
DESCRIPTION:Elmaro’s Choc-uterie plate is back for Valentine’s Weekend!  It’s full of chocolate\, fruit\, cookies\, cheese\, and nuts.  Its delectable sweetness pairs perfectly with friends\, wine\, and your favorite valentine.  $23\, no reservation needed.
URL:https://elmarovineyard.com/event/choc-uterie-plate-is-back/2025-02-13/
ATTACH;FMTTYPE=image/png:https://elmarovineyard.com/wp-content/uploads/2025/01/Choc-cuterie-Plate-Special-1.png
END:VEVENT
BEGIN:VEVENT
DTSTART;TZID=UTC:20250213T180000
DTEND;TZID=UTC:20250213T190000
DTSTAMP:20260424T065102
CREATED:20250113T215220Z
LAST-MODIFIED:20250113T215220Z
UID:5825-1739469600-1739473200@elmarovineyard.com
SUMMARY:Candlelight Yoga
DESCRIPTION:Embrace the joy of candlelight\, and join Laura (co-owner and winemaker) for a one-hour vinyasa yoga flow practice at 6:00 p.m. This class includes a complimentary beverage\, and no former yoga training required. Please bring your own mat and water bottle\, $10 per person. (We welcome drop-ins!)
URL:https://elmarovineyard.com/event/candlelight-yoga-5/
ATTACH;FMTTYPE=image/jpeg:https://elmarovineyard.com/wp-content/uploads/2025/01/candlelight-yoga.jpg
END:VEVENT
BEGIN:VEVENT
DTSTART;TZID=UTC:20250214T120000
DTEND;TZID=UTC:20250214T180000
DTSTAMP:20260424T065102
CREATED:20250128T192816Z
LAST-MODIFIED:20250128T192951Z
UID:5862-1739534400-1739556000@elmarovineyard.com
SUMMARY:Choc-uterie Plate is back!
DESCRIPTION:Elmaro’s Choc-uterie plate is back for Valentine’s Weekend!  It’s full of chocolate\, fruit\, cookies\, cheese\, and nuts.  Its delectable sweetness pairs perfectly with friends\, wine\, and your favorite valentine.  $23\, no reservation needed.
URL:https://elmarovineyard.com/event/choc-uterie-plate-is-back/2025-02-14/
ATTACH;FMTTYPE=image/png:https://elmarovineyard.com/wp-content/uploads/2025/01/Choc-cuterie-Plate-Special-1.png
END:VEVENT
BEGIN:VEVENT
DTSTART;TZID=UTC:20250214T150000
DTEND;TZID=UTC:20250214T180000
DTSTAMP:20260424T065102
CREATED:20250129T223457Z
LAST-MODIFIED:20250129T223457Z
UID:5878-1739545200-1739556000@elmarovineyard.com
SUMMARY:Music by Doug Mahlum
DESCRIPTION:Valentine’s Day tunes by Doug Mahlum\, chocolate\, wine\, and cheese\, all make for a delectable afternoon.
URL:https://elmarovineyard.com/event/music-by-doug-mahlum-19/
ATTACH;FMTTYPE=image/jpeg:https://elmarovineyard.com/wp-content/uploads/2024/10/Doug-Mahlum3.jpg
END:VEVENT
BEGIN:VEVENT
DTSTART;TZID=UTC:20250215T100000
DTEND;TZID=UTC:20250215T113000
DTSTAMP:20260424T065102
CREATED:20250120T231443Z
LAST-MODIFIED:20250120T231443Z
UID:5844-1739613600-1739619000@elmarovineyard.com
SUMMARY:Yoga & Brunch
DESCRIPTION:Join Laura (co-owner and winemaker) for a relaxing hour of vinyasa flow yoga practice\, followed by a continental brunch and a mimosa. $23/person\, registration at https://www.exploretock.com/elmarovineyard/event/527739/yoga-brunch
URL:https://elmarovineyard.com/event/yoga-brunch-19/
ATTACH;FMTTYPE=image/jpeg:https://elmarovineyard.com/wp-content/uploads/2025/01/New-Years-Eve-Yoga-Brunch-10-a.m.-1920-x-1080-px-2.jpg
END:VEVENT
BEGIN:VEVENT
DTSTART;TZID=UTC:20250215T120000
DTEND;TZID=UTC:20250215T180000
DTSTAMP:20260424T065102
CREATED:20250128T192816Z
LAST-MODIFIED:20250128T192951Z
UID:5863-1739620800-1739642400@elmarovineyard.com
SUMMARY:Choc-uterie Plate is back!
DESCRIPTION:Elmaro’s Choc-uterie plate is back for Valentine’s Weekend!  It’s full of chocolate\, fruit\, cookies\, cheese\, and nuts.  Its delectable sweetness pairs perfectly with friends\, wine\, and your favorite valentine.  $23\, no reservation needed.
URL:https://elmarovineyard.com/event/choc-uterie-plate-is-back/2025-02-15/
ATTACH;FMTTYPE=image/png:https://elmarovineyard.com/wp-content/uploads/2025/01/Choc-cuterie-Plate-Special-1.png
END:VEVENT
BEGIN:VEVENT
DTSTART;TZID=UTC:20250215T140000
DTEND;TZID=UTC:20250215T170000
DTSTAMP:20260424T065102
CREATED:20250113T215720Z
LAST-MODIFIED:20250113T215720Z
UID:5828-1739628000-1739638800@elmarovineyard.com
SUMMARY:Music by Josie Legler
DESCRIPTION:Josie is a local\, one-woman show. She plays guitar and puts her own spin on modern tunes.
URL:https://elmarovineyard.com/event/music-by-josie-legler-4/
ATTACH;FMTTYPE=image/jpeg:https://elmarovineyard.com/wp-content/uploads/2025/01/josie-legler2.jpg
END:VEVENT
BEGIN:VEVENT
DTSTART;TZID=UTC:20250216T120000
DTEND;TZID=UTC:20250216T180000
DTSTAMP:20260424T065102
CREATED:20250128T192816Z
LAST-MODIFIED:20250128T192952Z
UID:5864-1739707200-1739728800@elmarovineyard.com
SUMMARY:Choc-uterie Plate is back!
DESCRIPTION:Elmaro’s Choc-uterie plate is back for Valentine’s Weekend!  It’s full of chocolate\, fruit\, cookies\, cheese\, and nuts.  Its delectable sweetness pairs perfectly with friends\, wine\, and your favorite valentine.  $23\, no reservation needed.
URL:https://elmarovineyard.com/event/choc-uterie-plate-is-back/2025-02-16/
ATTACH;FMTTYPE=image/png:https://elmarovineyard.com/wp-content/uploads/2025/01/Choc-cuterie-Plate-Special-1.png
END:VEVENT
BEGIN:VEVENT
DTSTART;TZID=UTC:20250216T130000
DTEND;TZID=UTC:20250216T160000
DTSTAMP:20260424T065102
CREATED:20250113T220218Z
LAST-MODIFIED:20250113T220218Z
UID:5833-1739710800-1739721600@elmarovineyard.com
SUMMARY:Music by Tim Dallman
DESCRIPTION:Tim is a rock/pop/Americana singer-songwriter who also performs a wide range of cover songs.  Tim also has a library of his original songs.
URL:https://elmarovineyard.com/event/music-by-tim-dallman-15/
ATTACH;FMTTYPE=image/jpeg:https://elmarovineyard.com/wp-content/uploads/2024/09/tim-dallman4.jpg
END:VEVENT
BEGIN:VEVENT
DTSTART;TZID=UTC:20250220T123000
DTEND;TZID=UTC:20250220T200000
DTSTAMP:20260424T065102
CREATED:20250114T173140Z
LAST-MODIFIED:20250128T185520Z
UID:5838-1740054600-1740081600@elmarovineyard.com
SUMMARY:Puzzle Day!
DESCRIPTION:Get piece of mind at Elmaro’s Puzzle Day!\nRegister your team of up to 6 guests ($15/team of up to 6 people)\, and come to Elmaro and assemble our pre-selected 300 piece puzzle. Elmaro supplies the puzzle\, and the team keeps the puzzle after assembly. Teams are not timed\, instead all finishing teams will be entered into a drawing for the grand prize.\nPuzzles\, wine\, and cheese make for a perfect day!\nWalk-ins are welcome as supplies last\, and register at http://www.exploretock.com/elmarovineyard
URL:https://elmarovineyard.com/event/puzzle-day-5/
ATTACH;FMTTYPE=image/png:https://elmarovineyard.com/wp-content/uploads/2025/01/Puzzle-Day-Thursday-April-18th-1920-x-1080-px-4.png
END:VEVENT
BEGIN:VEVENT
DTSTART;TZID=UTC:20250222T110000
DTEND;TZID=UTC:20250222T120000
DTSTAMP:20260424T065102
CREATED:20250120T231950Z
LAST-MODIFIED:20250120T231950Z
UID:5847-1740222000-1740225600@elmarovineyard.com
SUMMARY:Bloedow's Donut and Wine Pairing
DESCRIPTION:Elmaro wines paired with Bloedow’s donuts! On Saturday\, February 22nd at 11:00 a.m.\, $20/person\, you’ll sip and savor five donut and wine samples. Stroll through the pairings at your own pace\, and come hungry\, and required registration is at https://www.exploretock.com/elmarovineyard/event/527796/bloedows-donut-and-wine-pairing
URL:https://elmarovineyard.com/event/bloedows-donut-and-wine-pairing-2/
ATTACH;FMTTYPE=image/png:https://elmarovineyard.com/wp-content/uploads/2025/01/Donut-and-Wine-Pairing-5.png
END:VEVENT
BEGIN:VEVENT
DTSTART;TZID=UTC:20250223T130000
DTEND;TZID=UTC:20250223T160000
DTSTAMP:20260424T065102
CREATED:20250114T173309Z
LAST-MODIFIED:20250114T173309Z
UID:5841-1740315600-1740326400@elmarovineyard.com
SUMMARY:Classical guitar by Chris Rude
DESCRIPTION:Classical guitar fill the winery today\, it’s perfect for a relaxing Sunday afternoon.
URL:https://elmarovineyard.com/event/classical-guitar-by-chris-rude-11/
ATTACH;FMTTYPE=image/jpeg:https://elmarovineyard.com/wp-content/uploads/2024/11/Chris-Rude.jpg
END:VEVENT
BEGIN:VEVENT
DTSTART;TZID=UTC:20250223T130000
DTEND;TZID=UTC:20250223T160000
DTSTAMP:20260424T065102
CREATED:20250128T194318Z
LAST-MODIFIED:20250128T194318Z
UID:5869-1740315600-1740326400@elmarovineyard.com
SUMMARY:Meet the Artists\, the 5th Grade Prairie View Elementary Students
DESCRIPTION:The February Art Display at Elmaro is by the 5th grade students at Prairie View Elementary in Holmen\, WI\, and it’s all about “Wildlife Art.” These tempera paintings were originally inspired by a student selected photograph. Students first drew the image through using a “gridding” technique. This helps the artist focus on line\, shape\, size\, proportion\, and placement of objects in the photograph. In painting\, students learned a variety of skills; such as color mixing\, overlapping\, and ways of working with different brushes and sponges to create texture. Some artists worked further into their piece with colored pencils for details\, outlining\, and / or textures.Meet the 5th grade students at their Meet and Greet on February 23rd from 1-4 p.m.
URL:https://elmarovineyard.com/event/meet-the-artists-the-5th-grade-prairie-view-elementary-students/
ATTACH;FMTTYPE=image/png:https://elmarovineyard.com/wp-content/uploads/2025/01/5th-Grade-Wildlife-Art-Prairie-View-Elementary-School-Holmen-WI.png
END:VEVENT
BEGIN:VEVENT
DTSTART;TZID=UTC:20250227T110000
DTEND;TZID=UTC:20250227T120000
DTSTAMP:20260424T065102
CREATED:20241230T193139Z
LAST-MODIFIED:20241230T193139Z
UID:5799-1740654000-1740657600@elmarovineyard.com
SUMMARY:Adaptive Yoga
DESCRIPTION:At 11:00 a.m.\, Join Laura (co-owner and winemaker) for a one-hour yoga practice for anyone with a modified range of motion. Chairs are available for sitting or standing prop\, no former yoga training is required\, and please bring your own mat and water bottle\, $2 per person. (We welcome drop-ins!)
URL:https://elmarovineyard.com/event/adaptive-yoga-22/2025-02-27/
ATTACH;FMTTYPE=image/jpeg:https://elmarovineyard.com/wp-content/uploads/2024/12/adaptive1-scaled.jpg
END:VEVENT
BEGIN:VEVENT
DTSTART;TZID=UTC:20250227T180000
DTEND;TZID=UTC:20250227T193000
DTSTAMP:20260424T065102
CREATED:20250127T152012Z
LAST-MODIFIED:20250127T152012Z
UID:5851-1740679200-1740684600@elmarovineyard.com
SUMMARY:Trivia Night
DESCRIPTION:It’s Trivia Time! Get your team registered for February Trivia Night at Elmaro! Thursday\, February 27th\, 6:00-7:30 p.m. There’s no fee\, but registration of teams is required. Team sizes of up to 6 people only\, and prizes awarded for 1st\, 2nd\, and 3rd place teams. When registering\, please register the total number of guests on your team\, registration at https://www.exploretock.com/elmarovineyard/event/527732/february-trivia-night
URL:https://elmarovineyard.com/event/trivia-night-9/
ATTACH;FMTTYPE=image/jpeg:https://elmarovineyard.com/wp-content/uploads/2025/01/trivia-night-15.jpg
END:VEVENT
END:VCALENDAR