BEGIN:VCALENDAR
VERSION:2.0
PRODID:-//Elmaro Vineyard - ECPv6.15.20//NONSGML v1.0//EN
CALSCALE:GREGORIAN
METHOD:PUBLISH
X-WR-CALNAME:Elmaro Vineyard
X-ORIGINAL-URL:https://elmarovineyard.com
X-WR-CALDESC:Events for Elmaro Vineyard
REFRESH-INTERVAL;VALUE=DURATION:PT1H
X-Robots-Tag:noindex
X-PUBLISHED-TTL:PT1H
BEGIN:VTIMEZONE
TZID:UTC
BEGIN:STANDARD
TZOFFSETFROM:+0000
TZOFFSETTO:+0000
TZNAME:UTC
DTSTART:20230101T000000
END:STANDARD
END:VTIMEZONE
BEGIN:VEVENT
DTSTART;TZID=UTC:20240317T130000
DTEND;TZID=UTC:20240317T160000
DTSTAMP:20260421T033951
CREATED:20240226T214014Z
LAST-MODIFIED:20240226T214014Z
UID:4971-1710680400-1710691200@elmarovineyard.com
SUMMARY:St. Patrick's Day at Elmaro
DESCRIPTION:Everyone’s a bit Irish on St. Patrick’s Day. Elmaro will be serving green wine\, chocolate Guiness cupcakes\, and music by Patina\, 1-4 p.m.
URL:https://elmarovineyard.com/event/st-patricks-day-at-elmaro/
ATTACH;FMTTYPE=image/png:https://elmarovineyard.com/wp-content/uploads/2024/02/St.-Patricks-Day-at-Elmaro-1920-x-1080-px.png
END:VEVENT
BEGIN:VEVENT
DTSTART;TZID=UTC:20240321T110000
DTEND;TZID=UTC:20240321T120000
DTSTAMP:20260421T033951
CREATED:20240213T164104Z
LAST-MODIFIED:20240213T164104Z
UID:4952-1711018800-1711022400@elmarovineyard.com
SUMMARY:Adaptive Yoga
DESCRIPTION:At 11:00 a.m.\, Join Laura (co-owner and winemaker) for a one-hour yoga practice for anyone with a modified range of motion.  Chairs are available for sitting or standing prop\, no former yoga training is required\, and please bring your own mat and water bottle\, $2 per person.  (We welcome drop-ins!)
URL:https://elmarovineyard.com/event/adaptive-yoga-15/
ATTACH;FMTTYPE=image/jpeg:https://elmarovineyard.com/wp-content/uploads/2024/02/adaptive1-1-scaled.jpg
END:VEVENT
BEGIN:VEVENT
DTSTART;TZID=UTC:20240321T180000
DTEND;TZID=UTC:20240321T193000
DTSTAMP:20260421T033951
CREATED:20240226T222802Z
LAST-MODIFIED:20240226T222802Z
UID:4977-1711044000-1711049400@elmarovineyard.com
SUMMARY:Trivia Night
DESCRIPTION:Do you carry all kinds of useful (or useless) information in your head? Do you love to stump people with this knowledge? Or if you just like to hang out with your friends\, then get your team registered for Trivia Night\, Decades Theme at Elmaro on Thursday\, February 8th\, 6:00-7:30 p.m. There’s no fee\, but registration of teams is required. Team sizes of up to 6 people only\, and prizes awarded for 1st\, 2nd\, and 3rd place teams.  Required reservations at http://www.exploretock.com/elmarovineyard and scroll down to Trivia Night.
URL:https://elmarovineyard.com/event/trivia-night-2/
ATTACH;FMTTYPE=image/png:https://elmarovineyard.com/wp-content/uploads/2024/02/trivia-night-2.png
END:VEVENT
BEGIN:VEVENT
DTSTART;TZID=UTC:20240321T180000
DTEND;TZID=UTC:20240321T193000
DTSTAMP:20260421T033951
CREATED:20240229T153534Z
LAST-MODIFIED:20240229T153534Z
UID:4983-1711044000-1711049400@elmarovineyard.com
SUMMARY:Trivia Night
DESCRIPTION:Do you carry all kinds of useful (or useless) information in your head? Do you love to stump people with this knowledge? Or if you just like to hang out with your friends\, then get your team registered for Trivia Night at Elmaro on Thursday\, March 21st\, 6:00-7:30 p.m. There’s no fee\, but registration of teams is required. Team sizes of up to 6 people only\, and prizes awarded for 1st\, 2nd\, and 3rd place teams.  Register at https://www.exploretock.com/elmarovineyard/event/470024/trivia-night
URL:https://elmarovineyard.com/event/trivia-night-3/
ATTACH;FMTTYPE=image/png:https://elmarovineyard.com/wp-content/uploads/2024/02/trivia-night-3.png
END:VEVENT
BEGIN:VEVENT
DTSTART;TZID=UTC:20240322T130000
DTEND;TZID=UTC:20240322T160000
DTSTAMP:20260421T033951
CREATED:20240320T181742Z
LAST-MODIFIED:20240320T181742Z
UID:5035-1711112400-1711123200@elmarovineyard.com
SUMMARY:Music by Doug Mahlum
DESCRIPTION:Doug is the start of a trio of music to fill the weekend.  He will be performing 1-4 p.m.
URL:https://elmarovineyard.com/event/music-by-doug-mahlum-12/
ATTACH;FMTTYPE=image/jpeg:https://elmarovineyard.com/wp-content/uploads/2024/03/Doug-Mahlum3.jpg
END:VEVENT
BEGIN:VEVENT
DTSTART;TZID=UTC:20240323T120000
DTEND;TZID=UTC:20240323T180000
DTSTAMP:20260421T033951
CREATED:20240206T225330Z
LAST-MODIFIED:20240206T225330Z
UID:4937-1711195200-1711216800@elmarovineyard.com
SUMMARY:Nachos and Sangria
DESCRIPTION:It’s National Chip and Dip Day\, which of course means that Elmaro will celebrate with Nachos and Sangria!
URL:https://elmarovineyard.com/event/nachos-and-sangria-4/
ATTACH;FMTTYPE=image/png:https://elmarovineyard.com/wp-content/uploads/2024/02/nachos-and-sangria-11-x-8.5-in-1.png
END:VEVENT
BEGIN:VEVENT
DTSTART;TZID=UTC:20240323T140000
DTEND;TZID=UTC:20240323T170000
DTSTAMP:20260421T033951
CREATED:20240206T170125Z
LAST-MODIFIED:20240206T170125Z
UID:4919-1711202400-1711213200@elmarovineyard.com
SUMMARY:Music by James Grant
DESCRIPTION:James Grant covers 60s and 70s easy rock\, and he’s filling the winery with music from 2-5 p.m.
URL:https://elmarovineyard.com/event/music-by-james-grant-19/
ATTACH;FMTTYPE=image/jpeg:https://elmarovineyard.com/wp-content/uploads/2024/02/James-Grant-2.jpg
END:VEVENT
BEGIN:VEVENT
DTSTART;TZID=UTC:20240324T120000
DTEND;TZID=UTC:20240324T170000
DTSTAMP:20260421T033951
CREATED:20240207T153605Z
LAST-MODIFIED:20240207T153605Z
UID:4943-1711281600-1711299600@elmarovineyard.com
SUMMARY:National Cocktail Day
DESCRIPTION:It’s the prime day to treat yourself to a wine cocktail at Elmaro.  On National Cocktail Day\, we will serve our Kir Royale and Kir Cocktail\, both made with our Big River Currant.
URL:https://elmarovineyard.com/event/national-cocktail-day/
ATTACH;FMTTYPE=image/png:https://elmarovineyard.com/wp-content/uploads/2024/02/wine-cocktails-8-x-8-in-11-x-8.5-in-Real-Estate-Flyer-2.png
END:VEVENT
BEGIN:VEVENT
DTSTART;TZID=UTC:20240324T130000
DTEND;TZID=UTC:20240324T160000
DTSTAMP:20260421T033951
CREATED:20240206T170245Z
LAST-MODIFIED:20240206T170245Z
UID:4922-1711285200-1711296000@elmarovineyard.com
SUMMARY:Classical Guitar by Chris Rude
DESCRIPTION:Classical guitar and a glass of wine make for a perfect Saturday afternoon.
URL:https://elmarovineyard.com/event/classical-guitar-by-chris-rude-5/
ATTACH;FMTTYPE=image/jpeg:https://elmarovineyard.com/wp-content/uploads/2024/02/Chris-Rude-2.jpg
END:VEVENT
BEGIN:VEVENT
DTSTART;TZID=UTC:20240328T120000
DTEND;TZID=UTC:20240328T200000
DTSTAMP:20260421T033951
CREATED:20240207T152405Z
LAST-MODIFIED:20240207T152405Z
UID:4940-1711627200-1711656000@elmarovineyard.com
SUMMARY:Puzzle Day
DESCRIPTION:Are you puzzled? Do you want piece of mind? Then you need Elmaro’s Puzzle Day!\nRegister your team of up to 4 guests ($20/team of 4 people)\, and come to Elmaro and assemble our pre-selected 300 piece puzzle. Elmaro supplies the puzzle\, and the team keeps the puzzle after assembly. Teams are timed by Elmaro staff on the puzzle assembly\, and the fastest two teams win Elmaro gift cards.\nFor the winning prizes\, $5 from each team registration goes to the payout in a 60/40 split for 1st and 2nd place\, so the more teams\, the bigger the Elmaro gift cards. Winners will be notified at the end of the day.  Registrations at http://www.exploretock.com/elmarovineyard
URL:https://elmarovineyard.com/event/puzzle-day-2/
ATTACH;FMTTYPE=image/png:https://elmarovineyard.com/wp-content/uploads/2024/02/Puzzle-Day-Thursday-February-1st-1230-p.m.-700-p.m.-1.png
END:VEVENT
BEGIN:VEVENT
DTSTART;TZID=UTC:20240330T093000
DTEND;TZID=UTC:20240330T120000
DTSTAMP:20260421T033951
CREATED:20240227T190559Z
LAST-MODIFIED:20240227T190559Z
UID:4980-1711791000-1711800000@elmarovineyard.com
SUMMARY:Easter Egg Hunt
DESCRIPTION:It’s Elmaro’s annual Easter Egg Hunt on Saturday\, March 30th! No cost event\, but registration is required. To register\, go to  http://www.exploretock.com/elmarovineyard and scroll down to the Easter Egg Hunt.  Select your desired time\, 9:45\, 10:45\, or 11:45\, and then only register the number of children that will be participating. You can bring as many grown ups as you like!\nRemember: bring a basket for each child\, come dressed for the weather\, and Elmaro will also have treats for the kids and grown ups available for purchase.
URL:https://elmarovineyard.com/event/easter-egg-hunt/
ATTACH;FMTTYPE=image/png:https://elmarovineyard.com/wp-content/uploads/2024/02/Easter-Eggs-Brunch-Party-Facebook-Post-Facebook-Cover-3.png
END:VEVENT
BEGIN:VEVENT
DTSTART;TZID=UTC:20240330T140000
DTEND;TZID=UTC:20240330T170000
DTSTAMP:20260421T033951
CREATED:20240226T222312Z
LAST-MODIFIED:20240226T222312Z
UID:4974-1711807200-1711818000@elmarovineyard.com
SUMMARY:Music by Doug Mahlum
DESCRIPTION:Doug Mahlum is a veteran musician in this area with over 40 years of experience. He can easily draw from over 60 years of songs in a number of different genres including Rock\, Pop\, Country\, Folk\, Show tunes\, and Jazz standards. Doug likes to have fun and interact with the group and will encourage sing-a-longs (if it’s okay with your neighbors).
URL:https://elmarovineyard.com/event/music-by-doug-mahlum-11/
ATTACH;FMTTYPE=image/jpeg:https://elmarovineyard.com/wp-content/uploads/2024/02/Doug-Mahlum3.jpg
END:VEVENT
BEGIN:VEVENT
DTSTART;TZID=UTC:20240331T120000
DTEND;TZID=UTC:20240331T170000
DTSTAMP:20260421T033951
CREATED:20240206T170616Z
LAST-MODIFIED:20240206T170616Z
UID:4925-1711886400-1711904400@elmarovineyard.com
SUMMARY:Closed for Easter
DESCRIPTION:We are closed today\, March 31st\, to celebrate Easter\, and we wish you all a beautiful day.
URL:https://elmarovineyard.com/event/closed-for-easter-3/
ATTACH;FMTTYPE=image/png:https://elmarovineyard.com/wp-content/uploads/2024/02/Happy-Easter-Facebook-Post-11-×-6-in-1.png
END:VEVENT
BEGIN:VEVENT
DTSTART;TZID=UTC:20240404T110000
DTEND;TZID=UTC:20240404T120000
DTSTAMP:20260421T033951
CREATED:20240319T203912Z
LAST-MODIFIED:20240319T203912Z
UID:5020-1712228400-1712232000@elmarovineyard.com
SUMMARY:Adaptive Yoga
DESCRIPTION:At 11:00 a.m.\, Join Laura (co-owner and winemaker) for a one-hour yoga practice for anyone with a modified range of motion.  Chairs are available for sitting or standing prop\, no former yoga training is required\, and please bring your own mat and water bottle\, $2 per person.  (We welcome drop-ins!)
URL:https://elmarovineyard.com/event/adaptive-yoga-16/2024-04-04/
ATTACH;FMTTYPE=image/jpeg:https://elmarovineyard.com/wp-content/uploads/2024/03/adaptive1-scaled.jpg
END:VEVENT
BEGIN:VEVENT
DTSTART;TZID=UTC:20240404T160000
DTEND;TZID=UTC:20240404T200000
DTSTAMP:20260421T033951
CREATED:20240319T204225Z
LAST-MODIFIED:20240319T204225Z
UID:5026-1712246400-1712260800@elmarovineyard.com
SUMMARY:Date Night!
DESCRIPTION:Your favorite person wants to go to Elmaro with you for Date Night on Thursday\, April 4th\, 4-8 p.m.  Enjoy a Local Cheese Plate and 2 glasses of wine\, $20
URL:https://elmarovineyard.com/event/date-night-11/
ATTACH;FMTTYPE=image/png:https://elmarovineyard.com/wp-content/uploads/2024/03/Date-Night-1.png
END:VEVENT
BEGIN:VEVENT
DTSTART;TZID=UTC:20240406T140000
DTEND;TZID=UTC:20240406T170000
DTSTAMP:20260421T033951
CREATED:20240313T215643Z
LAST-MODIFIED:20240313T215643Z
UID:4997-1712412000-1712422800@elmarovineyard.com
SUMMARY:Music by Douce Ambiance
DESCRIPTION:Douce Ambience is the lighter side of Under Paris Skies\, with accordion and guitar. Enjoy an afternoon of music by Ron & Steve!
URL:https://elmarovineyard.com/event/music-by-douce-ambiance-3/
ATTACH;FMTTYPE=image/png:https://elmarovineyard.com/wp-content/uploads/2024/03/Douce-Ambiance-photo-no-words.png
END:VEVENT
BEGIN:VEVENT
DTSTART;TZID=UTC:20240407T130000
DTEND;TZID=UTC:20240407T160000
DTSTAMP:20260421T033951
CREATED:20240319T204506Z
LAST-MODIFIED:20240319T204506Z
UID:5029-1712494800-1712505600@elmarovineyard.com
SUMMARY:Music by Greg Gall and His Sisters from Another Mother
DESCRIPTION:Acoustic Folk/Rock from the 70’s and beyond.
URL:https://elmarovineyard.com/event/music-by-greg-gall-and-his-sisters-from-another-mother-2/
ATTACH;FMTTYPE=image/jpeg:https://elmarovineyard.com/wp-content/uploads/2024/03/Greg-Gall-scaled.jpg
END:VEVENT
BEGIN:VEVENT
DTSTART;TZID=UTC:20240411T120000
DTEND;TZID=UTC:20240411T200000
DTSTAMP:20260421T033951
CREATED:20240409T172559Z
LAST-MODIFIED:20240409T172559Z
UID:5067-1712836800-1712865600@elmarovineyard.com
SUMMARY:Marquette Vertical Tasting
DESCRIPTION:It’s National Library Week\, and that means Elmaro’s Wine Library is open this week only! Try a flight of five rare Marquette vintages (2012\, 2013\, 2015\, 2017\, 2020) for only $19. This is available on April 11th\, 12th\, and 14th\, and no reservations are needed.
URL:https://elmarovineyard.com/event/marquette-vertical-tasting/
ATTACH;FMTTYPE=image/png:https://elmarovineyard.com/wp-content/uploads/2024/04/Marquette-Vertical-Tasting-April-11th-12th-and-14th.png
END:VEVENT
BEGIN:VEVENT
DTSTART;TZID=UTC:20240411T160000
DTEND;TZID=UTC:20240411T200000
DTSTAMP:20260421T033951
CREATED:20240403T212138Z
LAST-MODIFIED:20240403T212138Z
UID:5047-1712851200-1712865600@elmarovineyard.com
SUMMARY:Date Night
DESCRIPTION:Your favorite person wants to go to Elmaro with you for Date Night on Thursday\, April 11th\, 4-8 p.m.  Enjoy a Local Cheese Plate and 2 glasses of wine\, $20
URL:https://elmarovineyard.com/event/date-night-12/
ATTACH;FMTTYPE=image/png:https://elmarovineyard.com/wp-content/uploads/2024/04/Date-Night-2.png
END:VEVENT
BEGIN:VEVENT
DTSTART;TZID=UTC:20240412T120000
DTEND;TZID=UTC:20240412T190000
DTSTAMP:20260421T033951
CREATED:20240409T172642Z
LAST-MODIFIED:20240409T172642Z
UID:5070-1712923200-1712948400@elmarovineyard.com
SUMMARY:Marquette Vertical Tasting
DESCRIPTION:It’s National Library Week\, and that means Elmaro’s Wine Library is open this week only! Try a flight of five rare Marquette vintages (2012\, 2013\, 2015\, 2017\, 2020) for only $19. This is available on April 11th\, 12th\, and 14th\, and no reservations are needed.
URL:https://elmarovineyard.com/event/marquette-vertical-tasting-2/
ATTACH;FMTTYPE=image/png:https://elmarovineyard.com/wp-content/uploads/2024/04/Marquette-Vertical-Tasting-April-11th-12th-and-14th-1.png
END:VEVENT
BEGIN:VEVENT
DTSTART;TZID=UTC:20240412T190000
DTEND;TZID=UTC:20240412T210000
DTSTAMP:20260421T033951
CREATED:20240403T220529Z
LAST-MODIFIED:20240403T220529Z
UID:5060-1712948400-1712955600@elmarovineyard.com
SUMMARY:Bingo Night
DESCRIPTION:Bingo night at Elmaro Vineyard\, Friday\, April 12th\, 7:00 p.m.! No registration fee\, but reservations are required. Two complimentary bingo cards for each guest\, and assorted prizes! Bingo will begin promptly at 7:00 p.m\, reservations at https://www.exploretock.com/elmarovineyard/event/475978/bingo-night
URL:https://elmarovineyard.com/event/bingo-night-8/
ATTACH;FMTTYPE=image/png:https://elmarovineyard.com/wp-content/uploads/2024/04/CAM-use-this-BINGO-facebook-event-cover-7.png
END:VEVENT
BEGIN:VEVENT
DTSTART;TZID=UTC:20240413T100000
DTEND;TZID=UTC:20240413T110000
DTSTAMP:20260421T033951
CREATED:20240313T161424Z
LAST-MODIFIED:20240313T161424Z
UID:4988-1713002400-1713006000@elmarovineyard.com
SUMMARY:Yoga & Brunch
DESCRIPTION:Join Laura (co-owner and winemaker) for a relaxing hour of vinyasa flow yoga practice\, followed by a continental brunch and a mimosa. $23/person\, reservations at https://www.exploretock.com/elmarovineyard/event/473396/yoga-brunch
URL:https://elmarovineyard.com/event/yoga-brunch-15/
ATTACH;FMTTYPE=image/png:https://elmarovineyard.com/wp-content/uploads/2024/03/65152668_2209855956011054_183850610590744576_n.png
END:VEVENT
BEGIN:VEVENT
DTSTART;TZID=UTC:20240413T120000
DTEND;TZID=UTC:20240413T170000
DTSTAMP:20260421T033951
CREATED:20240410T161055Z
LAST-MODIFIED:20240410T161055Z
UID:5076-1713009600-1713027600@elmarovineyard.com
SUMMARY:Woodshed Pizza
DESCRIPTION:Pizza and wine!  Serving 12-5\, as supplies last.
URL:https://elmarovineyard.com/event/woodshed-pizza-2/
ATTACH;FMTTYPE=image/png:https://elmarovineyard.com/wp-content/uploads/2024/04/Woodshed-pizza.png
END:VEVENT
BEGIN:VEVENT
DTSTART;TZID=UTC:20240413T140000
DTEND;TZID=UTC:20240413T170000
DTSTAMP:20260421T033951
CREATED:20240313T220124Z
LAST-MODIFIED:20240313T220124Z
UID:5003-1713016800-1713027600@elmarovineyard.com
SUMMARY:Music by Curt Glenna
DESCRIPTION:Get your Saturday up and going with the tunes of Curt Glenna from 2-5 p.m.
URL:https://elmarovineyard.com/event/music-by-curt-glenna-4/
ATTACH;FMTTYPE=image/jpeg:https://elmarovineyard.com/wp-content/uploads/2024/03/Curt-Glenna2.jpg
END:VEVENT
BEGIN:VEVENT
DTSTART;TZID=UTC:20240414T120000
DTEND;TZID=UTC:20240414T170000
DTSTAMP:20260421T033951
CREATED:20240409T172743Z
LAST-MODIFIED:20240409T172743Z
UID:5073-1713096000-1713114000@elmarovineyard.com
SUMMARY:Marquette Vertical Tasting
DESCRIPTION:It’s National Library Week\, and that means Elmaro’s Wine Library is open this week only! Try a flight of five rare Marquette vintages (2012\, 2013\, 2015\, 2017\, 2020) for only $19. This is available on April 11th\, 12th\, and 14th\, and no reservations are needed.
URL:https://elmarovineyard.com/event/marquette-vertical-tasting-3/
ATTACH;FMTTYPE=image/png:https://elmarovineyard.com/wp-content/uploads/2024/04/Marquette-Vertical-Tasting-April-11th-12th-and-14th-2.png
END:VEVENT
BEGIN:VEVENT
DTSTART;TZID=UTC:20240414T130000
DTEND;TZID=UTC:20240414T160000
DTSTAMP:20260421T033951
CREATED:20240313T220354Z
LAST-MODIFIED:20240313T220354Z
UID:5006-1713099600-1713110400@elmarovineyard.com
SUMMARY:Music by Mac Cherry
DESCRIPTION:Spend your Sunday at Elmaro with a glass of wine and the tunes of Mac Cherry.
URL:https://elmarovineyard.com/event/music-by-mac-cherry-2/
ATTACH;FMTTYPE=image/jpeg:https://elmarovineyard.com/wp-content/uploads/2024/03/mac-cherry.jpg
END:VEVENT
BEGIN:VEVENT
DTSTART;TZID=UTC:20240418T120000
DTEND;TZID=UTC:20240418T200000
DTSTAMP:20260421T033951
CREATED:20240403T220050Z
LAST-MODIFIED:20240403T220050Z
UID:5056-1713441600-1713470400@elmarovineyard.com
SUMMARY:Puzzle Day
DESCRIPTION:Find piece of mind at Elmaro’s Puzzle Day\, Thursday\, March 18th\, 12-8 p.m.\nRegister your team of up to 4 guests ($20/team of 4 people)\, and come to Elmaro and assemble our pre-selected 300 piece puzzle. Elmaro supplies the puzzle\, and the team keeps the puzzle after assembly. Teams are timed by Elmaro staff on the puzzle assembly\, and the fastest two teams win Elmaro gift cards.\nFor the winning prizes\, $5 from each team registration goes to the payout in a 60/40 split for 1st and 2nd place\, so the more teams\, the bigger the Elmaro gift cards. Winners will be notified at the end of the day.  Registration at http://www.exploretock.com/elmarovineyard and scroll down to Puzzle Day.
URL:https://elmarovineyard.com/event/puzzle-day-3/
ATTACH;FMTTYPE=image/png:https://elmarovineyard.com/wp-content/uploads/2024/04/Puzzle-Day-Thursday-April-18th-1920-x-1080-px.png
END:VEVENT
BEGIN:VEVENT
DTSTART;TZID=UTC:20240419T183000
DTEND;TZID=UTC:20240419T200000
DTSTAMP:20260421T033951
CREATED:20240205T222222Z
LAST-MODIFIED:20240205T222222Z
UID:4883-1713551400-1713556800@elmarovineyard.com
SUMMARY:Friday Spring Succulent Class
DESCRIPTION:Are you eager to get your hands in the dirt and start gardening and planting? We sure are! As we wait for the soil to warm it’s the perfect time to plant a succulent container that you can enjoy inside until the weather permits it to be added to your outside decorations\, or continue to enjoy it year-round in the  house. Bring a container of your choice 12 inches or less in size\, or two or more smaller containers – if it will hold soil (pail\, metal can\, boots) you can plant it so be creative! We will supply instruction\, soil\, and succulents for you to create the perfect reflection of your style and personality. Friday\, April 19th\, 6:30 p.m.\, $48/person\, reservations at https://www.exploretock.com/elmarovineyard/event/463727/friday-spring-succulent-class
URL:https://elmarovineyard.com/event/friday-spring-succulent-class-2/
ATTACH;FMTTYPE=image/png:https://elmarovineyard.com/wp-content/uploads/2024/02/Friday-Succulent-Class-April-19th-630-p.m.-5.png
END:VEVENT
BEGIN:VEVENT
DTSTART;TZID=UTC:20240420T093000
DTEND;TZID=UTC:20240420T110000
DTSTAMP:20260421T033951
CREATED:20240205T222507Z
LAST-MODIFIED:20240205T222507Z
UID:4886-1713605400-1713610800@elmarovineyard.com
SUMMARY:Saturday Succulent Class
DESCRIPTION:Are you eager to get your hands in the dirt and start gardening and planting? We sure are! As we wait for the soil to warm it’s the perfect time to plant a succulent container that you can enjoy inside until the weather permits it to be added to your outside decorations\, or continue to enjoy it year-round in the house. Bring a container of your choice 12 inches or less in size\, or two or more smaller containers – if it will hold soil (pail\, metal can\, boots) you can plant it so be creative! We will supply instruction\, soil\, and succulents for you to create the perfect reflection of your style and\npersonality. SATURDAY\, April 20th\, 9:30 a.m.\, $48/person\, reservations at https://www.exploretock.com/elmarovineyard/event/463734/saturday-succulent-class
URL:https://elmarovineyard.com/event/saturday-succulent-class-2/
ATTACH;FMTTYPE=image/png:https://elmarovineyard.com/wp-content/uploads/2024/02/Friday-Succulent-Class-April-19th-630-p.m.-6.png
END:VEVENT
BEGIN:VEVENT
DTSTART;TZID=UTC:20240420T140000
DTEND;TZID=UTC:20240420T170000
DTSTAMP:20260421T033951
CREATED:20240313T220659Z
LAST-MODIFIED:20240313T220659Z
UID:5009-1713621600-1713632400@elmarovineyard.com
SUMMARY:Music by Quenten Brown
DESCRIPTION:Quenten is a singer\, songwriter\, art teacher\, artist\, and landscaper\, and he celebrates the past music that carved him into the person he is today\, while cultivating the memories that those tunes invoke deep inside him.
URL:https://elmarovineyard.com/event/music-by-quenten-brown-3/
ATTACH;FMTTYPE=image/jpeg:https://elmarovineyard.com/wp-content/uploads/2024/03/quenten-brown.jpg
END:VEVENT
END:VCALENDAR