BEGIN:VCALENDAR
VERSION:2.0
PRODID:-//Elmaro Vineyard - ECPv6.15.20//NONSGML v1.0//EN
CALSCALE:GREGORIAN
METHOD:PUBLISH
X-ORIGINAL-URL:https://elmarovineyard.com
X-WR-CALDESC:Events for Elmaro Vineyard
REFRESH-INTERVAL;VALUE=DURATION:PT1H
X-Robots-Tag:noindex
X-PUBLISHED-TTL:PT1H
BEGIN:VTIMEZONE
TZID:UTC
BEGIN:STANDARD
TZOFFSETFROM:+0000
TZOFFSETTO:+0000
TZNAME:UTC
DTSTART:20210101T000000
END:STANDARD
END:VTIMEZONE
BEGIN:VEVENT
DTSTART;TZID=UTC:20221211T130000
DTEND;TZID=UTC:20221211T160000
DTSTAMP:20260421T172357
CREATED:20221122T172755Z
LAST-MODIFIED:20221122T172755Z
UID:3477-1670763600-1670774400@elmarovineyard.com
SUMMARY:Music in the crush pad by Doug Mahlum
DESCRIPTION:Let yourself relax into the sounds of Doug Mahlum on this beautiful December afternoon!
URL:https://elmarovineyard.com/event/music-in-the-crush-pad-by-doug-mahlum-2/
ATTACH;FMTTYPE=image/jpeg:https://elmarovineyard.com/wp-content/uploads/2022/11/Doug-Mahlum3.jpg
END:VEVENT
BEGIN:VEVENT
DTSTART;TZID=UTC:20221210T130000
DTEND;TZID=UTC:20221210T160000
DTSTAMP:20260421T172357
CREATED:20221122T193053Z
LAST-MODIFIED:20221122T193053Z
UID:3486-1670677200-1670688000@elmarovineyard.com
SUMMARY:Music at the market by Ron Reimer
DESCRIPTION:Ron will be performing in the crush pad\, and you can relax to his music before or after you shop the vendors in the Kris Kringle Market!
URL:https://elmarovineyard.com/event/music-at-the-market-by-ron-reimer/
ATTACH;FMTTYPE=image/jpeg:https://elmarovineyard.com/wp-content/uploads/2022/11/ron-reimer-scaled.jpg
END:VEVENT
BEGIN:VEVENT
DTSTART;TZID=UTC:20221210T130000
DTEND;TZID=UTC:20221210T160000
DTSTAMP:20260421T172357
CREATED:20221108T192032Z
LAST-MODIFIED:20230120T054348Z
UID:3446-1670677200-1670688000@elmarovineyard.com
SUMMARY:Outdoor Kris Kringle Market
DESCRIPTION:Shop\, sip\, and stroll the Outdoor Kris Kringle Market from 1-4 p.m.! Over 20 artisan vendors with hand-made items will fill the market\, and Elmaro will have hot cocoa\, mulled wine\, and warm treats.
URL:https://elmarovineyard.com/event/outdoor-kris-kringle-market-2/
ATTACH;FMTTYPE=image/jpeg:https://elmarovineyard.com/wp-content/uploads/2022/11/Red-Christmas-Decor-Christmas-Thank-You-Card.jpg
END:VEVENT
BEGIN:VEVENT
DTSTART;TZID=UTC:20221204T130000
DTEND;TZID=UTC:20221204T160000
DTSTAMP:20260421T172357
CREATED:20221108T192353Z
LAST-MODIFIED:20221108T192353Z
UID:3449-1670158800-1670169600@elmarovineyard.com
SUMMARY:Music at the winery by Tim Dallman
DESCRIPTION:Tim Dallman is a guitarist/vocalist who writes and performs his own rock\, blues\, jazz and folk-infused original material\, as well as a variety of classic and contemporary rock and pop cover songs.
URL:https://elmarovineyard.com/event/music-at-the-winery-by-tim-dallman/
ATTACH;FMTTYPE=image/jpeg:https://elmarovineyard.com/wp-content/uploads/2022/11/tim-dallman5.jpg
END:VEVENT
BEGIN:VEVENT
DTSTART;TZID=UTC:20221204T120000
DTEND;TZID=UTC:20221204T170000
DTSTAMP:20260421T172357
CREATED:20221129T215403Z
LAST-MODIFIED:20221129T215403Z
UID:3540-1670155200-1670173200@elmarovineyard.com
SUMMARY:Sumptuous Sundays
DESCRIPTION:Bring a friend and you can sip and savor holiday-themed truffles with 2 glasses of wine\, all for $18.
URL:https://elmarovineyard.com/event/sumptuous-sundays/2022-12-04/
ATTACH;FMTTYPE=image/jpeg:https://elmarovineyard.com/wp-content/uploads/2022/11/wine-and-truffles2.jpg
END:VEVENT
BEGIN:VEVENT
DTSTART;TZID=UTC:20221203T140000
DTEND;TZID=UTC:20221203T170000
DTSTAMP:20260421T172357
CREATED:20221108T192514Z
LAST-MODIFIED:20221108T201314Z
UID:3452-1670076000-1670086800@elmarovineyard.com
SUMMARY:Music in the Crush Pad by Jeani and the Dreamers
DESCRIPTION:Guaranteed\, Jeani and the Dreamers will get you up and dancing!
URL:https://elmarovineyard.com/event/music-in-the-crush-pad-by-jeani-and-the-dreamers/
ATTACH;FMTTYPE=image/jpeg:https://elmarovineyard.com/wp-content/uploads/2022/11/Jeaniandthedreamers.jpg
END:VEVENT
BEGIN:VEVENT
DTSTART;TZID=UTC:20221203T090000
DTEND;TZID=UTC:20221203T110000
DTSTAMP:20260421T172357
CREATED:20221019T152514Z
LAST-MODIFIED:20230120T054226Z
UID:3377-1670058000-1670065200@elmarovineyard.com
SUMMARY:Create a Christmas Wreath Saturday Class
DESCRIPTION:It’s a busy season\, take some time to relax and spend time with your friends at Elmaro’s “Create a Christmas Wreath” class (reservations required). Alanna Koshollek will lead the class in creating a 22-inch wreath\, made with a mix of balsam and white pine boughs. You will be able to add bows\, berries\, or pinecones to personalize your wreath. The cost is $50 plus tax per person\, and pre-paid reservations are required by calling the tasting room at 608-534-6456. The class starts at 9:00a.m. and will last for about 2 hours
URL:https://elmarovineyard.com/event/create-a-christmas-wreath-saturday-class/
ATTACH;FMTTYPE=image/jpeg:https://elmarovineyard.com/wp-content/uploads/2022/10/wreath3-scaled-2.jpg
END:VEVENT
BEGIN:VEVENT
DTSTART;TZID=UTC:20221202T190000
DTEND;TZID=UTC:20221202T210000
DTSTAMP:20260421T172357
CREATED:20221019T152325Z
LAST-MODIFIED:20230120T054128Z
UID:3374-1670007600-1670014800@elmarovineyard.com
SUMMARY:Create a Christmas Wreath Friday Class
DESCRIPTION:It’s a busy season\, take some time to relax and spend time with your friends at Elmaro’s “Create a Christmas Wreath” class (reservations required). Alanna Koshollek will lead the class in creating a 22-inch wreath\, made with a mix of balsam and white pine boughs. You will be able to add bows\, berries\, or pinecones to personalize your wreath. The cost is $50 plus tax per person\, and pre-paid reservations are required by calling the tasting room at 608-534-6456. The class starts at 7:00 p.m. and will last for about 2 hours
URL:https://elmarovineyard.com/event/create-a-christmas-wreath-friday-class/
ATTACH;FMTTYPE=image/jpeg:https://elmarovineyard.com/wp-content/uploads/2022/10/wreath1-scaled-1.jpg
END:VEVENT
BEGIN:VEVENT
DTSTART;TZID=UTC:20221201T170000
DTEND;TZID=UTC:20221201T200000
DTSTAMP:20260421T172357
CREATED:20221129T214627Z
LAST-MODIFIED:20221129T214627Z
UID:3530-1669914000-1669924800@elmarovineyard.com
SUMMARY:Date Night at Elmaro
DESCRIPTION:Thursday nights are date night with your bestie at Elmaro! From 5-8 p.m.\, bring your friends to Elmaro and you’ll enjoy a local cheese plate and two glasses of wine\, all for $20.
URL:https://elmarovineyard.com/event/date-night-at-elmaro/2022-12-01/
ATTACH;FMTTYPE=image/jpeg:https://elmarovineyard.com/wp-content/uploads/2022/11/local-and-wine-scaled.jpg
END:VEVENT
BEGIN:VEVENT
DTSTART;TZID=UTC:20221201T110000
DTEND;TZID=UTC:20221201T120000
DTSTAMP:20260421T172357
CREATED:20221108T190027Z
LAST-MODIFIED:20221108T221944Z
UID:3411-1669892400-1669896000@elmarovineyard.com
SUMMARY:Adaptive Yoga
DESCRIPTION:At 11:00 a.m.\, Join Laura (co-owner and winemaker) for a one-hour yoga practice for anyone with a modified range of motion.  Chairs are available for sitting or standing prop\, no former yoga training is required\, and please bring your own mat and water bottle\, $2 per person.  (We welcome drop-ins!)
URL:https://elmarovineyard.com/event/adaptive-yoga-7/2022-12-01/
ATTACH;FMTTYPE=image/jpeg:https://elmarovineyard.com/wp-content/uploads/2022/11/adaptive1-scaled.jpg
END:VEVENT
BEGIN:VEVENT
DTSTART;TZID=UTC:20221127T130000
DTEND;TZID=UTC:20221127T140000
DTSTAMP:20260421T172357
CREATED:20221019T214040Z
LAST-MODIFIED:20221019T214040Z
UID:3386-1669554000-1669557600@elmarovineyard.com
SUMMARY:Wine and Cookie Walk
DESCRIPTION:Wine\, cookies\, friends\, and a beautiful walk through the vineyard are all a part of the wine and cookie walk at Elmaro! Three Elmaro wines will be expertly paired with top-notch cookies. $15 plus tax per person\, call the tasting room at 608-534-6456 for required reservations.
URL:https://elmarovineyard.com/event/wine-and-cookie-walk/
ATTACH;FMTTYPE=image/jpeg:https://elmarovineyard.com/wp-content/uploads/2022/10/thank-goodness-cookie.jpg
END:VEVENT
BEGIN:VEVENT
DTSTART;TZID=UTC:20221126T140000
DTEND;TZID=UTC:20221126T170000
DTSTAMP:20260421T172357
CREATED:20221019T194120Z
LAST-MODIFIED:20221019T194120Z
UID:3383-1669471200-1669482000@elmarovineyard.com
SUMMARY:Music at the winery by Right Side Up
DESCRIPTION:Right Side Up is an acoustic duo based in Winona\, Minnesota. From folk to rock\, Ward and Terry provide the rhythm to get your foot a tapping and your heart a beatin’.
URL:https://elmarovineyard.com/event/music-at-the-winery-by-right-side-up/
ATTACH;FMTTYPE=image/jpeg:https://elmarovineyard.com/wp-content/uploads/2022/10/right-side-up-fb-post.jpg
END:VEVENT
BEGIN:VEVENT
DTSTART;TZID=UTC:20221125T120000
DTEND;TZID=UTC:20221125T180000
DTSTAMP:20260421T172357
CREATED:20221122T195132Z
LAST-MODIFIED:20221122T195132Z
UID:3489-1669377600-1669399200@elmarovineyard.com
SUMMARY:Open 12-6 p.m.
DESCRIPTION:Elmaro Vineyard will be open 12-6 p.m. on Friday\, November 25th.  Thank you!
URL:https://elmarovineyard.com/event/open-12-6-p-m-4/
ATTACH;FMTTYPE=image/png:https://elmarovineyard.com/wp-content/uploads/2022/11/Orange-and-Gold-Simple-Greeting-Facebook-Post-1.png
END:VEVENT
BEGIN:VEVENT
DTSTART;TZID=UTC:20221124T120000
DTEND;TZID=UTC:20221124T200000
DTSTAMP:20260421T172357
CREATED:20221018T154755Z
LAST-MODIFIED:20221018T154755Z
UID:3362-1669291200-1669320000@elmarovineyard.com
SUMMARY:Closed for Thanksgiving
DESCRIPTION:Elmaro Vineyard will be closed on Thursday\, November 24th\, so we can spend time with our families and friends.
URL:https://elmarovineyard.com/event/closed-for-thanksgiving-2/
ATTACH;FMTTYPE=image/jpeg:https://elmarovineyard.com/wp-content/uploads/2022/10/Thanksgiving-Closed-2018-640x320-1.jpg
END:VEVENT
BEGIN:VEVENT
DTSTART;TZID=UTC:20221122T080000
DTEND;TZID=UTC:20221122T170000
DTSTAMP:20260421T172357
CREATED:20221122T174127Z
LAST-MODIFIED:20221122T174127Z
UID:3483-1669104000-1669136400@elmarovineyard.com
SUMMARY:Music at the winery by James Grant
DESCRIPTION:Join James at the winery with family and friends as he performs from 1-4 p.m.
URL:https://elmarovineyard.com/event/music-at-the-winery-by-james-grant-2/
ATTACH;FMTTYPE=image/png:https://elmarovineyard.com/wp-content/uploads/2022/11/James-Grant-2.png
END:VEVENT
BEGIN:VEVENT
DTSTART;TZID=UTC:20221120T130000
DTEND;TZID=UTC:20221120T160000
DTSTAMP:20260421T172357
CREATED:20221018T154548Z
LAST-MODIFIED:20221018T154548Z
UID:3359-1668949200-1668960000@elmarovineyard.com
SUMMARY:Meet the November artist\, Jeff Nelson
DESCRIPTION:Jeff Nelson is an artist living in Eau Claire\, Wisconsin. His work is primarily watercolor and oil Nature is a recurring theme in his art. There are original paintings as well as prints available. Visit with Jeff on the 24th and learn what drives the artist to create his life-like images.
URL:https://elmarovineyard.com/event/meet-the-november-artist-jeff-nelson/
ATTACH;FMTTYPE=image/jpeg:https://elmarovineyard.com/wp-content/uploads/2022/10/Nelson-2021.jpg
END:VEVENT
BEGIN:VEVENT
DTSTART;TZID=UTC:20221120T130000
DTEND;TZID=UTC:20221120T160000
DTSTAMP:20260421T172357
CREATED:20221018T154357Z
LAST-MODIFIED:20221018T154357Z
UID:3356-1668949200-1668960000@elmarovineyard.com
SUMMARY:Classical guitar by Chris Rude
DESCRIPTION:Feeling classy? Join us for classical guitar music by Chris Rude today\, 1-4pm!
URL:https://elmarovineyard.com/event/classical-guitar-by-chris-rude/
ATTACH;FMTTYPE=image/jpeg:https://elmarovineyard.com/wp-content/uploads/2022/10/Chris-Rude.jpg
END:VEVENT
BEGIN:VEVENT
DTSTART;TZID=UTC:20221119T130000
DTEND;TZID=UTC:20221119T160000
DTSTAMP:20260421T172357
CREATED:20221018T190126Z
LAST-MODIFIED:20221018T190126Z
UID:3365-1668862800-1668873600@elmarovineyard.com
SUMMARY:Outdoor Blaze Orange Bazaar
DESCRIPTION:Elmaro Vineyard’s Outdoor Blaze Orange Bazaar offers wine\, shopping\, and fun! All vendors are outdoors\, and feature artisan\, hand-crafted items from 1-4 p.m. Elmaro Vineyard will have hot mulled wine\, outdoor seating\, and a complimentary gift when you wear blaze orange!
URL:https://elmarovineyard.com/event/outdoor-blaze-orange-bazaar/
ATTACH;FMTTYPE=image/png:https://elmarovineyard.com/wp-content/uploads/2022/10/Blaze-orange-fb-post-4.png
END:VEVENT
BEGIN:VEVENT
DTSTART;TZID=UTC:20221118T120000
DTEND;TZID=UTC:20221118T190000
DTSTAMP:20260421T172357
CREATED:20221108T190755Z
LAST-MODIFIED:20221108T190755Z
UID:3440-1668772800-1668798000@elmarovineyard.com
SUMMARY:Elmaro's 11th Anniversary!
DESCRIPTION:It’s Elmaro Vineyard’s 11th Anniversary\, and celebrate with us! There will be cotton candy all around\, and a 25% off case special on Wild Spice.
URL:https://elmarovineyard.com/event/elmaros-11th-anniversary/
ATTACH;FMTTYPE=image/jpeg:https://elmarovineyard.com/wp-content/uploads/2022/11/428896_365729300159833_653312297_n.jpg
END:VEVENT
BEGIN:VEVENT
DTSTART;TZID=UTC:20221116T180000
DTEND;TZID=UTC:20221116T193000
DTSTAMP:20260421T172357
CREATED:20221108T190611Z
LAST-MODIFIED:20221108T190611Z
UID:3437-1668621600-1668627000@elmarovineyard.com
SUMMARY:Pie Crust Making Class with Lynita
DESCRIPTION:Holiday pies might be a daunting task\, but our winemaker\, Lynita\, will take us through the steps to create a perfect pie crust! $15+tax/person\, and required reservations are made by calling the tasting room at 608-534-6456
URL:https://elmarovineyard.com/event/pie-crust-making-class-with-lynita/
ATTACH;FMTTYPE=image/jpeg:https://elmarovineyard.com/wp-content/uploads/2022/11/pie-crust.jpg
END:VEVENT
BEGIN:VEVENT
DTSTART;TZID=UTC:20221113T130000
DTEND;TZID=UTC:20221113T160000
DTSTAMP:20260421T172357
CREATED:20221018T153939Z
LAST-MODIFIED:20221018T153939Z
UID:3350-1668344400-1668355200@elmarovineyard.com
SUMMARY:Music in the winery by Jeani and the Dreamers
DESCRIPTION:Jeani and the Dreamers always create a rockin’ good time at Elmaro!
URL:https://elmarovineyard.com/event/music-in-the-winery-by-jeani-and-the-dreamers/
ATTACH;FMTTYPE=image/jpeg:https://elmarovineyard.com/wp-content/uploads/2022/10/Jeaniandthedreamers.jpg
END:VEVENT
BEGIN:VEVENT
DTSTART;TZID=UTC:20221112T140000
DTEND;TZID=UTC:20221112T170000
DTSTAMP:20260421T172357
CREATED:20221018T193558Z
LAST-MODIFIED:20221018T193558Z
UID:3371-1668261600-1668272400@elmarovineyard.com
SUMMARY:Music in the Crush Pad by Doug Mahlum
DESCRIPTION:Doug is a local favorite\, and will be a rockin’ good time!
URL:https://elmarovineyard.com/event/music-in-the-crush-pad-by-doug-mahlum/
ATTACH;FMTTYPE=image/jpeg:https://elmarovineyard.com/wp-content/uploads/2022/10/Doug-Mahlum3.jpg
END:VEVENT
BEGIN:VEVENT
DTSTART;TZID=UTC:20221112T120000
DTEND;TZID=UTC:20221113T170000
DTSTAMP:20260421T172357
CREATED:20221108T190424Z
LAST-MODIFIED:20221108T190424Z
UID:3434-1668254400-1668358800@elmarovineyard.com
SUMMARY:Gold St. Pepin Release
DESCRIPTION:Elmaro Vineyard is celebrating the release of Gold St. Pepin! Stop in on the 12th and 13th for a complimentary wine sample\, paired with a candied pecan. This estate-grown\, dry white\, is made in the style of a French dry reisling.
URL:https://elmarovineyard.com/event/gold-st-pepin-release/
ATTACH;FMTTYPE=image/jpeg:https://elmarovineyard.com/wp-content/uploads/2022/11/gold-st.-pepin2.jpg
END:VEVENT
BEGIN:VEVENT
DTSTART;TZID=UTC:20221111T120000
DTEND;TZID=UTC:20221111T190000
DTSTAMP:20260421T172357
CREATED:20221018T154158Z
LAST-MODIFIED:20221018T154158Z
UID:3353-1668168000-1668193200@elmarovineyard.com
SUMMARY:Veteran's Day Special
DESCRIPTION:Today\, from 12-7 p.m.\, we honor military veterans and active military by offering them $1 off all kitchen menu items\, in addition to Elmaro’s 10% military discount (i.d. required). Thank you for all you have done and continue to do!
URL:https://elmarovineyard.com/event/veterans-day-special/
ATTACH;FMTTYPE=image/jpeg:https://elmarovineyard.com/wp-content/uploads/2022/10/veterans-day.jpg
END:VEVENT
BEGIN:VEVENT
DTSTART;TZID=UTC:20221106T130000
DTEND;TZID=UTC:20221106T160000
DTSTAMP:20260421T172357
CREATED:20221018T153637Z
LAST-MODIFIED:20221018T153637Z
UID:3347-1667739600-1667750400@elmarovineyard.com
SUMMARY:Music in the Crush Pad by Tim Dallman
DESCRIPTION:Tim Dallman is a guitarist/vocalist who writes and performs his own rock\, blues\, jazz and folk-infused original material\, as well as a variety of classic and contemporary rock and pop cover songs.
URL:https://elmarovineyard.com/event/music-in-the-crush-pad-by-tim-dallman/
ATTACH;FMTTYPE=image/png:https://elmarovineyard.com/wp-content/uploads/2022/10/Dog-walk-through-the-vineyard.-Sunday-September-25th-1200-430-p.m.-7.png
END:VEVENT
BEGIN:VEVENT
DTSTART;TZID=UTC:20221106T120000
DTEND;TZID=UTC:20221106T163000
DTSTAMP:20260421T172357
CREATED:20221018T152934Z
LAST-MODIFIED:20221018T152934Z
UID:3344-1667736000-1667752200@elmarovineyard.com
SUMMARY:Dog walk through the vineyard
DESCRIPTION:Take your dog on a self-guided hike through the vineyard\, with dog treat stops along the way! No registration or fee\, maps and info will be available upon arrival.
URL:https://elmarovineyard.com/event/dog-walk-through-the-vineyard/
ATTACH;FMTTYPE=image/png:https://elmarovineyard.com/wp-content/uploads/2022/10/Dog-walk-through-the-vineyard.-Sunday-September-25th-1200-430-p.m.-6.png
END:VEVENT
BEGIN:VEVENT
DTSTART;TZID=UTC:20221105T140000
DTEND;TZID=UTC:20221105T170000
DTSTAMP:20260421T172357
CREATED:20221018T193442Z
LAST-MODIFIED:20221018T193442Z
UID:3368-1667656800-1667667600@elmarovineyard.com
SUMMARY:Music at the winery by James Grant
DESCRIPTION:Saturday afternoon vibes with 60s and 70s covers are at Elmaro with James Grant performing 2-5 p.m
URL:https://elmarovineyard.com/event/music-at-the-winery-by-james-grant/
ATTACH;FMTTYPE=image/jpeg:https://elmarovineyard.com/wp-content/uploads/2022/10/James-Grant.jpg
END:VEVENT
BEGIN:VEVENT
DTSTART;TZID=UTC:20221030T150000
DTEND;TZID=UTC:20221030T170000
DTSTAMP:20260421T172357
CREATED:20220926T194125Z
LAST-MODIFIED:20220926T194125Z
UID:3327-1667142000-1667149200@elmarovineyard.com
SUMMARY:Trick or Treat at Elmaro
DESCRIPTION:Bring the kids to Elmaro from 3-5 p.m. on Sunday\, October 30th for some fun trick-or-treats! This is a great chance to put the costumes on a day early!
URL:https://elmarovineyard.com/event/trick-or-treat-at-elmaro/
ATTACH;FMTTYPE=image/jpeg:https://elmarovineyard.com/wp-content/uploads/2022/09/skull-candy.jpg
END:VEVENT
BEGIN:VEVENT
DTSTART;TZID=UTC:20221030T130000
DTEND;TZID=UTC:20221030T160000
DTSTAMP:20260421T172357
CREATED:20220930T142515Z
LAST-MODIFIED:20220930T142515Z
UID:3330-1667134800-1667145600@elmarovineyard.com
SUMMARY:Music in the Crush Pad by David Hartman
DESCRIPTION:David plays 6 and 12 string guitar for soft rock\, country\, folk\, and modern music primarily from the 60’s and 70’s. It’s a little something for everyone!
URL:https://elmarovineyard.com/event/music-in-the-crush-pad-by-david-hartman/
ATTACH;FMTTYPE=image/jpeg:https://elmarovineyard.com/wp-content/uploads/2022/09/david-hartman4.jpg
END:VEVENT
BEGIN:VEVENT
DTSTART;TZID=UTC:20221029T130000
DTEND;TZID=UTC:20221029T160000
DTSTAMP:20260421T172357
CREATED:20221029T161239Z
LAST-MODIFIED:20221029T161010Z
UID:3333-1667048400-1667059200@elmarovineyard.com
SUMMARY:Music by Right Side Up
DESCRIPTION:Right Side Up is an acoustic duo based in Winona\, Minnesota. From folk to rock\, Ward and Terry provide the rhythm to get your foot a tapping and your heart a beatin’.
URL:https://elmarovineyard.com/event/music-by-right-side-up-8/
ATTACH;FMTTYPE=image/jpeg:https://elmarovineyard.com/wp-content/uploads/2022/09/Right-Side-Up.jpg
END:VEVENT
END:VCALENDAR