BEGIN:VCALENDAR
VERSION:2.0
PRODID:-//Elmaro Vineyard - ECPv6.15.20//NONSGML v1.0//EN
CALSCALE:GREGORIAN
METHOD:PUBLISH
X-ORIGINAL-URL:https://elmarovineyard.com
X-WR-CALDESC:Events for Elmaro Vineyard
REFRESH-INTERVAL;VALUE=DURATION:PT1H
X-Robots-Tag:noindex
X-PUBLISHED-TTL:PT1H
BEGIN:VTIMEZONE
TZID:UTC
BEGIN:STANDARD
TZOFFSETFROM:+0000
TZOFFSETTO:+0000
TZNAME:UTC
DTSTART:20210101T000000
END:STANDARD
END:VTIMEZONE
BEGIN:VEVENT
DTSTART;TZID=UTC:20220916T180000
DTEND;TZID=UTC:20220916T200000
DTSTAMP:20260421T211510
CREATED:20220729T190616Z
LAST-MODIFIED:20220816T173051Z
UID:3195-1663351200-1663358400@elmarovineyard.com
SUMMARY:Sold Out-Macramé Leaf/Feather Wall Hanging Class
DESCRIPTION:Nature inspired wall hangings\, created by you\, will look wonderful in your home this season. In this workshop\, you will be supplied with macramé cord\, stick hanger\, and instruction to create a one of a kind piece of art. You’ll be taught the technique to create either feathers or leaves\, and a variety of colors will be available to select from. Call 608-534-6456 for reservations\, $45+tax/person.
URL:https://elmarovineyard.com/event/macrame-leaf-feather-wall-hanging-class/
ATTACH;FMTTYPE=image/jpeg:https://elmarovineyard.com/wp-content/uploads/2022/07/macrame-leaf.jpg
END:VEVENT
BEGIN:VEVENT
DTSTART;TZID=UTC:20220911T123000
DTEND;TZID=UTC:20220911T163000
DTSTAMP:20260421T211510
CREATED:20220729T192100Z
LAST-MODIFIED:20220729T192100Z
UID:3201-1662899400-1662913800@elmarovineyard.com
SUMMARY:Bistro Day!
DESCRIPTION:The sounds of Under Paris Skies and Jean Luc’s crepes will transport you to a Parisian sidewalk cafe\, complete with a beautiful house red wine.
URL:https://elmarovineyard.com/event/bistro-day/
END:VEVENT
BEGIN:VEVENT
DTSTART;TZID=UTC:20220911T120000
DTEND;TZID=UTC:20220911T160000
DTSTAMP:20260421T211510
CREATED:20220729T175217Z
LAST-MODIFIED:20220729T175217Z
UID:3180-1662897600-1662912000@elmarovineyard.com
SUMMARY:Street Market Sunday
DESCRIPTION:Celebrate the arrival of fall at the Street Market Sunday at Elmaro Vineyard!  Artisan vendors\, all with hand-made items\, will be selling their art in the vineyard.  There will be a wine stop in the vineyard\, as well as music by Under Paris Skies\, and crepes by Jean Luc.
URL:https://elmarovineyard.com/event/street-market-sunday-6/
ATTACH;FMTTYPE=image/jpeg:https://elmarovineyard.com/wp-content/uploads/2022/07/vendors.jpg
END:VEVENT
BEGIN:VEVENT
DTSTART;TZID=UTC:20220910T140000
DTEND;TZID=UTC:20220910T170000
DTSTAMP:20260421T211510
CREATED:20220802T145802Z
LAST-MODIFIED:20220802T145802Z
UID:3211-1662818400-1662829200@elmarovineyard.com
SUMMARY:Music in the vineyard by Ryan Howe
DESCRIPTION:Ryan is a pianist/singer/songwriter from the La Crosse area. He has a huge array of covers including but not limited to Elton John\, Jackson Browne\, James Taylor\, Stevie Wonder\, John Mayer\, Doobie Brothers\, Bruce Hornsby\, and much more! Ryan also performs some of his original tunes.
URL:https://elmarovineyard.com/event/music-in-the-vineyard-by-ryan-howe/
ATTACH;FMTTYPE=image/jpeg:https://elmarovineyard.com/wp-content/uploads/2022/08/ryan-howe.jpg
END:VEVENT
BEGIN:VEVENT
DTSTART;TZID=UTC:20220910T120000
DTEND;TZID=UTC:20220910T170000
DTSTAMP:20260421T211510
CREATED:20220729T175901Z
LAST-MODIFIED:20220729T175901Z
UID:3183-1662811200-1662829200@elmarovineyard.com
SUMMARY:Cheese Curds by the Trempealeau County Fry Shack
DESCRIPTION:Oooohhhh…..fried cheese!  And it pairs perfectly with wine!
URL:https://elmarovineyard.com/event/cheese-curds-by-the-trempealeau-county-fry-shack/
ATTACH;FMTTYPE=image/jpeg:https://elmarovineyard.com/wp-content/uploads/2022/07/cheese-curds-and-wine.jpg
END:VEVENT
BEGIN:VEVENT
DTSTART;TZID=UTC:20220905T120000
DTEND;TZID=UTC:20220905T170000
DTSTAMP:20260421T211510
CREATED:20220729T174133Z
LAST-MODIFIED:20220729T174133Z
UID:3177-1662379200-1662397200@elmarovineyard.com
SUMMARY:Closed on Labor Day
DESCRIPTION:Elmaro Vineyard is closed on Monday\, September 5th.
URL:https://elmarovineyard.com/event/closed-on-labor-day/
ATTACH;FMTTYPE=image/png:https://elmarovineyard.com/wp-content/uploads/2022/07/closed-labor-day.png
END:VEVENT
BEGIN:VEVENT
DTSTART;TZID=UTC:20220904T130000
DTEND;TZID=UTC:20220904T150000
DTSTAMP:20260421T211510
CREATED:20220729T172908Z
LAST-MODIFIED:20220729T172908Z
UID:3174-1662296400-1662303600@elmarovineyard.com
SUMMARY:Music on the stage by Too Darn Hot
DESCRIPTION:This Dixieland Jazz band will fill the vineyard with their hot tunes!
URL:https://elmarovineyard.com/event/music-on-the-stage-by-too-darn-hot-2/
ATTACH;FMTTYPE=image/jpeg:https://elmarovineyard.com/wp-content/uploads/2022/07/Too-Darn-Hot-Band-1.jpg
END:VEVENT
BEGIN:VEVENT
DTSTART;TZID=UTC:20220903T140000
DTEND;TZID=UTC:20220903T170000
DTSTAMP:20260421T211510
CREATED:20220818T181429Z
LAST-MODIFIED:20220818T181429Z
UID:3243-1662213600-1662224400@elmarovineyard.com
SUMMARY:Music on the stage by Doug Mahlum
DESCRIPTION:Doug is a local favorite\, and will be a rockin’ good time on this holiday weekend!
URL:https://elmarovineyard.com/event/music-on-the-stage-by-doug-mahlum/
ATTACH;FMTTYPE=image/jpeg:https://elmarovineyard.com/wp-content/uploads/2022/08/Doug-Mahlum3.jpg
END:VEVENT
BEGIN:VEVENT
DTSTART;TZID=UTC:20220903T123000
DTEND;TZID=UTC:20220903T170000
DTSTAMP:20260421T211510
CREATED:20220729T171649Z
LAST-MODIFIED:20220902T222412Z
UID:3165-1662208200-1662224400@elmarovineyard.com
SUMMARY:Betty's Tacos Food Truck
DESCRIPTION:Authentic Mexican food\, made fresh daily! The menu will include quesadillas\, tacos\, elotes\, tortas\, burritos\, and more!  Serving 12:30-5:00\, or as supplies last.
URL:https://elmarovineyard.com/event/sweet-lou-barbecue-food-truck-3/
ATTACH;FMTTYPE=image/jpeg:https://elmarovineyard.com/wp-content/uploads/2022/07/bettys-tacos.jpg
END:VEVENT
BEGIN:VEVENT
DTSTART;TZID=UTC:20220902T153000
DTEND;TZID=UTC:20220902T183000
DTSTAMP:20260421T211510
CREATED:20220729T172345Z
LAST-MODIFIED:20220729T172345Z
UID:3168-1662132600-1662143400@elmarovineyard.com
SUMMARY:Music by Good To Go
DESCRIPTION:Good to Go is made up of Terry Gray on guitar and Beth Oness on fiddle.  Both live in the Winona area.  Beth is a writer\, teacher\, and musician.  Terry works part-time\, and plays and sings in a duo\, Right Side Up.  Using the fiddle to weave in and out\, accenting the guitar and vocals\, their music includes acoustic folk\, rock\, country/gospel\, and American roots.  They do songs by Mandolin Orange\, Jason Isbell\, Bob Dylan\, Nickel Creek\, and Van Morrison.  It’s a perfect fit for a Friday afternoon!
URL:https://elmarovineyard.com/event/music-by-good-to-go/
ATTACH;FMTTYPE=image/png:https://elmarovineyard.com/wp-content/uploads/2022/07/fiddle.png
END:VEVENT
BEGIN:VEVENT
DTSTART;TZID=UTC:20220902T120000
DTEND;TZID=UTC:20220904T170000
DTSTAMP:20260421T211510
CREATED:20220818T180915Z
LAST-MODIFIED:20220818T180915Z
UID:3240-1662120000-1662310800@elmarovineyard.com
SUMMARY:Scavenger Hunt
DESCRIPTION:The Vine Find Scavenger Hunt is here! Test your detective skills and search for the clues in the vineyard. $10 per team\, up to 6 people\, and one registration includes one complimentary beverage up to $5 value. Guests must be 21 or older to participate\, or be with your parent or guardian. Dress for the weather and wear your walking shoes!  Pre-registration is not needed\, call the tasting room at 608-534-6456 with any questions.
URL:https://elmarovineyard.com/event/scavenger-hunt/
ATTACH;FMTTYPE=image/png:https://elmarovineyard.com/wp-content/uploads/2022/08/Elmaro-Vineyard-Presents.png
END:VEVENT
BEGIN:VEVENT
DTSTART;TZID=UTC:20220901T180000
DTEND;TZID=UTC:20220901T190000
DTSTAMP:20260421T211510
CREATED:20220727T154518Z
LAST-MODIFIED:20220727T154518Z
UID:3147-1662055200-1662058800@elmarovineyard.com
SUMMARY:Sunset Yoga
DESCRIPTION:Join Laura (co-owner and winemaker) for a one-hour vinyasa yoga flow practice.  This class begins at 6:00 p.m.\, includes a complimentary beverage\, and no former yoga training required. Please bring your own mat and water bottle\, $10 per person.  (We welcome drop-ins!)
URL:https://elmarovineyard.com/event/sunset-yoga-2/2022-09-01/
ATTACH;FMTTYPE=image/jpeg:https://elmarovineyard.com/wp-content/uploads/2022/07/laura-yoga-2.jpeg
END:VEVENT
BEGIN:VEVENT
DTSTART;TZID=UTC:20220901T110000
DTEND;TZID=UTC:20220901T120000
DTSTAMP:20260421T211510
CREATED:20220727T154822Z
LAST-MODIFIED:20220727T154822Z
UID:3154-1662030000-1662033600@elmarovineyard.com
SUMMARY:Adaptive Yoga
DESCRIPTION:At 11:00 a.m.\, Join Laura (co-owner and winemaker) for a one-hour yoga practice for anyone with a modified range of motion.  Chairs are available for sitting or standing prop\, no former yoga training is required\, and please bring your own mat and water bottle\, $2 per person.  (We welcome drop-ins!)
URL:https://elmarovineyard.com/event/adaptive-yoga-5/2022-09-01/
ATTACH;FMTTYPE=image/jpeg:https://elmarovineyard.com/wp-content/uploads/2022/07/adaptive1-scaled.jpg
END:VEVENT
BEGIN:VEVENT
DTSTART;TZID=UTC:20220828T130000
DTEND;TZID=UTC:20220828T160000
DTSTAMP:20260421T211510
CREATED:20220824T164758Z
LAST-MODIFIED:20221021T101851Z
UID:3263-1661691600-1661702400@elmarovineyard.com
SUMMARY:Winona Symphony Orchestra Summer Social
DESCRIPTION:The WSO 2022-2023 season commences with the ever-popular fundraising event at Elmaro Vineyard! Whether you come for the music\, the wine\, the company\, or the view\, you’re sure to experience an afternoon of tranquil\, bucolic delight. Relax with a complimentary glass of wine and personal cheese board; enjoy performances by the region’s favorite classical artists; browse the distinctive selections of the Silent Auction. Come with your oldest friends and meet some kindred spirits!  Tickets available at www.winonasymphony.org/events
URL:https://elmarovineyard.com/event/winona-symphony-orchestra-summer-social-2/
ATTACH;FMTTYPE=image/png:https://elmarovineyard.com/wp-content/uploads/2022/08/Winona-Symphony-Orchestra-Summer-Social-1-1.png
END:VEVENT
BEGIN:VEVENT
DTSTART;TZID=UTC:20220827T140000
DTEND;TZID=UTC:20220827T170000
DTSTAMP:20260421T211510
CREATED:20220711T190749Z
LAST-MODIFIED:20220711T190749Z
UID:3103-1661608800-1661619600@elmarovineyard.com
SUMMARY:Music in the vineyard by Jeani and the Dreamers
DESCRIPTION:Jeani and the Dreamers will have you rockin’ and dancing!
URL:https://elmarovineyard.com/event/music-in-the-vineyard-by-jeani-and-the-dreamers-2/
ATTACH;FMTTYPE=image/jpeg:https://elmarovineyard.com/wp-content/uploads/2022/07/jeaniethe-dreamers.jpg
END:VEVENT
BEGIN:VEVENT
DTSTART;TZID=UTC:20220827T120000
DTEND;TZID=UTC:20220827T180000
DTSTAMP:20260421T211510
CREATED:20220822T194628Z
LAST-MODIFIED:20220822T194628Z
UID:3250-1661601600-1661623200@elmarovineyard.com
SUMMARY:Nachos and Sangria
DESCRIPTION:Sangria and nachos; nachos and sangria!  Capture the taste of summer with this delicious treat\, all while listening to the sounds of Jeani and the Dreamers in the vineyard.
URL:https://elmarovineyard.com/event/nachos-and-sangria/
ATTACH;FMTTYPE=image/jpeg:https://elmarovineyard.com/wp-content/uploads/2022/08/SangriaandNachos-scaled.jpg
END:VEVENT
BEGIN:VEVENT
DTSTART;TZID=UTC:20220826T150000
DTEND;TZID=UTC:20220826T180000
DTSTAMP:20260421T211510
CREATED:20220823T141238Z
LAST-MODIFIED:20220823T141238Z
UID:3253-1661526000-1661536800@elmarovineyard.com
SUMMARY:Music by James Grant
DESCRIPTION:Your Friday just got a bit sweeter with James Grant performing\, 3-6 p.m.!
URL:https://elmarovineyard.com/event/music-by-james-grant-9/
ATTACH;FMTTYPE=image/jpeg:https://elmarovineyard.com/wp-content/uploads/2022/08/James-Grant.jpg
END:VEVENT
BEGIN:VEVENT
DTSTART;TZID=UTC:20220825T180000
DTEND;TZID=UTC:20220825T190000
DTSTAMP:20260421T211510
CREATED:20220325T182002Z
LAST-MODIFIED:20220824T153458Z
UID:2882-1661450400-1661454000@elmarovineyard.com
SUMMARY:Sunset Yoga with Tammy Zee
DESCRIPTION:Tammy Zee will be the guest instructor at Sunset Yoga on August 25th at 6:00 p.m. She has been leading yoga practices for more than 25 years\, and she looks forward to welcoming you to Elmaro. Find out more about Tammy at https://omyogaonalaska.com/
URL:https://elmarovineyard.com/event/sunset-yoga-2022-08-25/
ATTACH;FMTTYPE=image/jpeg:https://elmarovineyard.com/wp-content/uploads/2022/03/tammy-zee.jpg
END:VEVENT
BEGIN:VEVENT
DTSTART;TZID=UTC:20220825T110000
DTEND;TZID=UTC:20220825T120000
DTSTAMP:20260421T211510
CREATED:20220325T181448Z
LAST-MODIFIED:20220824T153120Z
UID:2895-1661425200-1661428800@elmarovineyard.com
SUMMARY:Canceled- Adaptive Yoga
DESCRIPTION:Canceled- We will see you all next week for Adaptive Yoga at 11 a.m.   Namaste.
URL:https://elmarovineyard.com/event/adaptive-yoga-4-2022-08-25/
ATTACH;FMTTYPE=image/jpeg:https://elmarovineyard.com/wp-content/uploads/2022/03/adaptive1-scaled.jpg
END:VEVENT
BEGIN:VEVENT
DTSTART;TZID=UTC:20220821T130000
DTEND;TZID=UTC:20220821T160000
DTSTAMP:20260421T211510
CREATED:20220711T173114Z
LAST-MODIFIED:20220711T173114Z
UID:3093-1661086800-1661097600@elmarovineyard.com
SUMMARY:Music on the stage by the Coulee Region Steel Drum Band
DESCRIPTION:The Coulee Region Steel Drum Band is the region’s premiere group for relaxing steel drum music\, and Elmaro has them for a second time this summer!  While soaking in the sounds of the steel drums\, you can also sip on a glass of sangria!
URL:https://elmarovineyard.com/event/music-on-the-stage-by-the-coulee-region-steel-drum-band/
ATTACH;FMTTYPE=image/jpeg:https://elmarovineyard.com/wp-content/uploads/2022/07/coulee-rsdb.jpg
END:VEVENT
BEGIN:VEVENT
DTSTART;TZID=UTC:20220821T120000
DTEND;TZID=UTC:20220821T170000
DTSTAMP:20260421T211510
CREATED:20220711T185747Z
LAST-MODIFIED:20220711T185747Z
UID:3096-1661083200-1661101200@elmarovineyard.com
SUMMARY:Sangria Day!
DESCRIPTION:Sangria Sunday with the Coulee Region Steel Drum Band!  Enjoy a glass while you relax to the sounds of the tropics.
URL:https://elmarovineyard.com/event/sangria-day/
ATTACH;FMTTYPE=image/jpeg:https://elmarovineyard.com/wp-content/uploads/2022/07/homestead-red-sangria.jpg
END:VEVENT
BEGIN:VEVENT
DTSTART;TZID=UTC:20220820T140000
DTEND;TZID=UTC:20220820T170000
DTSTAMP:20260421T211510
CREATED:20220711T191329Z
LAST-MODIFIED:20220711T191329Z
UID:3106-1661004000-1661014800@elmarovineyard.com
SUMMARY:Music under the tent by Anderson Road
DESCRIPTION:Anderson Road will perform from 2-5 p.m.!
URL:https://elmarovineyard.com/event/music-under-the-tent-by-anderson-road/
ATTACH;FMTTYPE=image/jpeg:https://elmarovineyard.com/wp-content/uploads/2022/07/guitar-3.jpg
END:VEVENT
BEGIN:VEVENT
DTSTART;TZID=UTC:20220820T123000
DTEND;TZID=UTC:20220820T170000
DTSTAMP:20260421T211510
CREATED:20220711T172639Z
LAST-MODIFIED:20220711T172639Z
UID:3090-1660998600-1661014800@elmarovineyard.com
SUMMARY:Taco Town Food Cart
DESCRIPTION:Delicious\, authentic\, and brilliant Mexican fare will be served by Taco Town\, 12:30-5:00.
URL:https://elmarovineyard.com/event/taco-town-food-cart-2/
ATTACH;FMTTYPE=image/jpeg:https://elmarovineyard.com/wp-content/uploads/2022/07/taco-town-sauces.jpg
END:VEVENT
BEGIN:VEVENT
DTSTART;TZID=UTC:20220819T190000
DTEND;TZID=UTC:20220819T220000
DTSTAMP:20260421T211510
CREATED:20220711T193000Z
LAST-MODIFIED:20220711T193000Z
UID:3112-1660935600-1660946400@elmarovineyard.com
SUMMARY:Outdoor movie\, "Finding Nemo"
DESCRIPTION:Reservations Required – Outdoor movies are back! On Friday\, August 19th\, Elmaro is featuring “Finding Nemo”!\nWe are selling tables (2 person\, 4 person\, and 5 person tables) as well as up to 6 person BYO-Blanket spots. Call 608-534-6456 for reservations!\n2 person tables for $10\, 4 and 5 person tables for $20\, and picnic blanket sites for $15 (limited availability of each).\nSeating will start at 7:00 pm\, with the movie starting shortly after sunset (8:15ish). Food & Wine served until the movie start time.\nCall 608-534-6456 for reservations
URL:https://elmarovineyard.com/event/outdoor-movie-finding-nemo/
ATTACH;FMTTYPE=image/jpeg:https://elmarovineyard.com/wp-content/uploads/2022/07/Movie-Night-2021-1920-x-1005px-2.jpg
END:VEVENT
BEGIN:VEVENT
DTSTART;TZID=UTC:20220814T130000
DTEND;TZID=UTC:20220814T160000
DTSTAMP:20260421T211510
CREATED:20220711T172222Z
LAST-MODIFIED:20220711T172222Z
UID:3087-1660482000-1660492800@elmarovineyard.com
SUMMARY:Music in the vineyard by Paul Leithold
DESCRIPTION:The talented Paul Leithold will perform from 1-4 p.m. today!
URL:https://elmarovineyard.com/event/music-in-the-vineyard-by-paul-leithold/
ATTACH;FMTTYPE=image/jpeg:https://elmarovineyard.com/wp-content/uploads/2022/07/Paul-Leithold-and-friends.jpeg
END:VEVENT
BEGIN:VEVENT
DTSTART;TZID=UTC:20220814T123000
DTEND;TZID=UTC:20220814T163000
DTSTAMP:20260421T211510
CREATED:20220711T171752Z
LAST-MODIFIED:20220711T171752Z
UID:3084-1660480200-1660494600@elmarovineyard.com
SUMMARY:Crepes by Jean Luc
DESCRIPTION:Crepes and wine on a Sunday!  Jean Luc will have his sweet and savory crepes\, and he may even break out in song and dance.
URL:https://elmarovineyard.com/event/crepes-by-jean-luc-4/
ATTACH;FMTTYPE=image/jpeg:https://elmarovineyard.com/wp-content/uploads/2022/07/Jeanluc.jpg
END:VEVENT
BEGIN:VEVENT
DTSTART;TZID=UTC:20220814T120000
DTEND;TZID=UTC:20220814T170000
DTSTAMP:20260421T211510
CREATED:20220711T190337Z
LAST-MODIFIED:20220711T190337Z
UID:3099-1660478400-1660496400@elmarovineyard.com
SUMMARY:Canines in the Vines Portraits
DESCRIPTION:Dog portraits in the vines by Sage River Studios! Thirty minute sessions\, $20/1 dog\, $35/2 dogs. Sign the waiver\, and your dog will be in the Elmaro Canine in the Vines 2023 Calendar! Call Elmaro at 608-534-6456 to make your photo shoot reservation.
URL:https://elmarovineyard.com/event/canines-in-the-vines-portraits-2/
ATTACH;FMTTYPE=image/jpeg:https://elmarovineyard.com/wp-content/uploads/2022/07/rogi-and-basket.jpg
END:VEVENT
BEGIN:VEVENT
DTSTART;TZID=UTC:20220813T140000
DTEND;TZID=UTC:20220813T170000
DTSTAMP:20260421T211510
CREATED:20220711T171041Z
LAST-MODIFIED:20220711T171041Z
UID:3078-1660399200-1660410000@elmarovineyard.com
SUMMARY:Music on the patio by James Grant
DESCRIPTION:Aahhh….James will be performing his amazing 70s covers on a beautiful Saturday afternoon.
URL:https://elmarovineyard.com/event/music-on-the-patio-by-james-grant/
ATTACH;FMTTYPE=image/jpeg:https://elmarovineyard.com/wp-content/uploads/2022/05/James-Grant-2.jpg
END:VEVENT
BEGIN:VEVENT
DTSTART;TZID=UTC:20220813T123000
DTEND;TZID=UTC:20220813T170000
DTSTAMP:20260421T211510
CREATED:20220711T170636Z
LAST-MODIFIED:20220711T170636Z
UID:3075-1660393800-1660410000@elmarovineyard.com
SUMMARY:Trempealeau Lions Food Stand
DESCRIPTION:The Trempealeau Lions will be at Elmaro\, serving all kinds of yummy treats\, from cheese curds and burgers to a few surprises!
URL:https://elmarovineyard.com/event/trempealeau-lions-food-stand/
ATTACH;FMTTYPE=image/jpeg:https://elmarovineyard.com/wp-content/uploads/2022/07/lions.jpg
END:VEVENT
BEGIN:VEVENT
DTSTART;TZID=UTC:20220813T100000
DTEND;TZID=UTC:20220813T110000
DTSTAMP:20260421T211510
CREATED:20220711T165823Z
LAST-MODIFIED:20220727T153923Z
UID:3066-1660384800-1660388400@elmarovineyard.com
SUMMARY:Vinyasa Yoga & Brunch
DESCRIPTION:Join Laura (co-owner and winemaker) for a relaxing hour of yoga followed by a continental brunch and a mimosa. $23/person\, and reservations can be made by calling 608-534-6456.
URL:https://elmarovineyard.com/event/vinyasa-yoga-brunch-4/
ATTACH;FMTTYPE=image/jpeg:https://elmarovineyard.com/wp-content/uploads/2022/07/Yomosas_1.jpg
END:VEVENT
END:VCALENDAR