BEGIN:VCALENDAR
VERSION:2.0
PRODID:-//Elmaro Vineyard - ECPv6.15.20//NONSGML v1.0//EN
CALSCALE:GREGORIAN
METHOD:PUBLISH
X-ORIGINAL-URL:https://elmarovineyard.com
X-WR-CALDESC:Events for Elmaro Vineyard
REFRESH-INTERVAL;VALUE=DURATION:PT1H
X-Robots-Tag:noindex
X-PUBLISHED-TTL:PT1H
BEGIN:VTIMEZONE
TZID:UTC
BEGIN:STANDARD
TZOFFSETFROM:+0000
TZOFFSETTO:+0000
TZNAME:UTC
DTSTART:20250101T000000
END:STANDARD
END:VTIMEZONE
BEGIN:VEVENT
DTSTART;TZID=UTC:20260405T120000
DTEND;TZID=UTC:20260405T170000
DTSTAMP:20260422T214510
CREATED:20260217T213842Z
LAST-MODIFIED:20260217T213842Z
UID:7082-1775390400-1775408400@elmarovineyard.com
SUMMARY:Closed Sunday\, April 5th
DESCRIPTION:Elmaro Vineyard is closed on Sunday\, April 5th\, so that we can spend time with family and friends on Easter.
URL:https://elmarovineyard.com/event/closed-sunday-april-5th/
ATTACH;FMTTYPE=image/jpeg:https://elmarovineyard.com/wp-content/uploads/2026/02/Happy-Easter-Facebook-Post-11-×-6-in-2-scaled.jpg
END:VEVENT
BEGIN:VEVENT
DTSTART;TZID=UTC:20260409T110000
DTEND;TZID=UTC:20260409T120000
DTSTAMP:20260422T214510
CREATED:20260204T170728Z
LAST-MODIFIED:20260317T181959Z
UID:7015-1775732400-1775736000@elmarovineyard.com
SUMMARY:Adaptive Yoga
DESCRIPTION:At 11:00 a.m.\, Join Laura (co-owner and winemaker) for a one-hour yoga practice for anyone with a modified range of motion. Chairs are available for sitting or standing prop\, no former yoga training is required\, and please bring your own mat and water bottle\, $2 per person. (We welcome drop-ins!)
URL:https://elmarovineyard.com/event/adaptive-yoga-28/2026-04-09/
ATTACH;FMTTYPE=image/jpeg:https://elmarovineyard.com/wp-content/uploads/2025/10/adaptive1-scaled.jpg
END:VEVENT
BEGIN:VEVENT
DTSTART;TZID=UTC:20260410T120000
DTEND;TZID=UTC:20260410T180000
DTSTAMP:20260422T214510
CREATED:20260406T213110Z
LAST-MODIFIED:20260406T213110Z
UID:7234-1775822400-1775844000@elmarovineyard.com
SUMMARY:Pick Your Own Charcuterie
DESCRIPTION:Elmaro loves having you pick the flavors you love for your own charcuterie board.  It’s Pick Your Own Charcuterie at Elmaro\, so come and savor some new flavors.
URL:https://elmarovineyard.com/event/pick-your-own-charcuterie-4/
ATTACH;FMTTYPE=image/jpeg:https://elmarovineyard.com/wp-content/uploads/2026/04/build-your-own-13.jpg
END:VEVENT
BEGIN:VEVENT
DTSTART;TZID=UTC:20260411T100000
DTEND;TZID=UTC:20260411T113000
DTSTAMP:20260422T214510
CREATED:20260406T142233Z
LAST-MODIFIED:20260406T142233Z
UID:7228-1775901600-1775907000@elmarovineyard.com
SUMMARY:Yoga & Brunch
DESCRIPTION:Join Laura (co-owner and winemaker) for a relaxing hour of vinyasa flow yoga practice\, followed by a continental brunch and a mimosa. $23/person\, registration at http://www.exploretock.com/elmarovineyard
URL:https://elmarovineyard.com/event/yoga-brunch-29/
ATTACH;FMTTYPE=image/jpeg:https://elmarovineyard.com/wp-content/uploads/2026/04/New-Years-Eve-Yoga-Brunch-10-a.m.-1920-x-1080-px-28.jpg
END:VEVENT
BEGIN:VEVENT
DTSTART;TZID=UTC:20260411T140000
DTEND;TZID=UTC:20260411T170000
DTSTAMP:20260422T214510
CREATED:20260217T214055Z
LAST-MODIFIED:20260217T214055Z
UID:7085-1775916000-1775926800@elmarovineyard.com
SUMMARY:Music by Tim Dallman
DESCRIPTION:Tim is a rock/pop/Americana singer-songwriter who also performs a wide range of cover songs.
URL:https://elmarovineyard.com/event/music-by-tim-dallman-23/
ATTACH;FMTTYPE=image/jpeg:https://elmarovineyard.com/wp-content/uploads/2026/02/tim-dallman4.jpg
END:VEVENT
BEGIN:VEVENT
DTSTART;TZID=UTC:20260412T130000
DTEND;TZID=UTC:20260412T160000
DTSTAMP:20260422T214510
CREATED:20260217T214234Z
LAST-MODIFIED:20260217T214234Z
UID:7088-1775998800-1776009600@elmarovineyard.com
SUMMARY:Music by Under Paris Skies
DESCRIPTION:UNDER PARIS SKIES features an acoustic blend of gypsy jazz\, vintage swing & Latin-influenced music
URL:https://elmarovineyard.com/event/music-by-under-paris-skies-13/
ATTACH;FMTTYPE=image/jpeg:https://elmarovineyard.com/wp-content/uploads/2026/02/UPS4-scaled.jpg
END:VEVENT
BEGIN:VEVENT
DTSTART;TZID=UTC:20260412T130000
DTEND;TZID=UTC:20260412T160000
DTSTAMP:20260422T214510
CREATED:20260317T194825Z
LAST-MODIFIED:20260317T194825Z
UID:7201-1775998800-1776009600@elmarovineyard.com
SUMMARY:Emmy Lou Macarons
DESCRIPTION:Classic French macarons\, light and airy in a plethora of flavors\, paired perfectly with the sounds of Under Paris Skies\, all 1-4 p.m.
URL:https://elmarovineyard.com/event/emmy-lou-macarons/
ATTACH;FMTTYPE=image/jpeg:https://elmarovineyard.com/wp-content/uploads/2026/03/Emmy-Lou-Macarons.jpg
END:VEVENT
BEGIN:VEVENT
DTSTART;TZID=UTC:20260416T110000
DTEND;TZID=UTC:20260416T120000
DTSTAMP:20260422T214510
CREATED:20260204T170728Z
LAST-MODIFIED:20260317T182000Z
UID:7016-1776337200-1776340800@elmarovineyard.com
SUMMARY:Adaptive Yoga
DESCRIPTION:At 11:00 a.m.\, Join Laura (co-owner and winemaker) for a one-hour yoga practice for anyone with a modified range of motion. Chairs are available for sitting or standing prop\, no former yoga training is required\, and please bring your own mat and water bottle\, $2 per person. (We welcome drop-ins!)
URL:https://elmarovineyard.com/event/adaptive-yoga-28/2026-04-16/
ATTACH;FMTTYPE=image/jpeg:https://elmarovineyard.com/wp-content/uploads/2025/10/adaptive1-scaled.jpg
END:VEVENT
BEGIN:VEVENT
DTSTART;TZID=UTC:20260416T173000
DTEND;TZID=UTC:20260416T183000
DTSTAMP:20260422T214510
CREATED:20260415T183127Z
LAST-MODIFIED:20260415T183127Z
UID:7279-1776360600-1776364200@elmarovineyard.com
SUMMARY:Pop-Up Sunset Yoga
DESCRIPTION:Join Laura (co-owner and winemaker) at 5:30 for a pop-up one-hour vinyasa yoga flow practice on Thursday\, April 16th. This class begins at 5:30 p.m.\, includes a beverage\, and no former yoga training required. Please bring your own mat and water bottle\, $15 per person\, register at http://www.exploretock.com/elmarovineyard (And we welcome drop-ins!)
URL:https://elmarovineyard.com/event/pop-up-sunset-yoga/
ATTACH;FMTTYPE=image/jpeg:https://elmarovineyard.com/wp-content/uploads/2026/04/Sunset-Yoga-Thursdays-600-p.m.-10person-2.jpg
END:VEVENT
BEGIN:VEVENT
DTSTART;TZID=UTC:20260417T120000
DTEND;TZID=UTC:20260417T180000
DTSTAMP:20260422T214510
CREATED:20260406T215243Z
LAST-MODIFIED:20260406T215243Z
UID:7238-1776427200-1776448800@elmarovineyard.com
SUMMARY:Pick Your Own Charcuterie
DESCRIPTION:You are in charge of your cheese plate!
URL:https://elmarovineyard.com/event/pick-your-own-charcuterie-5/
ATTACH;FMTTYPE=image/jpeg:https://elmarovineyard.com/wp-content/uploads/2026/04/build-your-own-13.jpg
END:VEVENT
BEGIN:VEVENT
DTSTART;TZID=UTC:20260417T180000
DTEND;TZID=UTC:20260417T200000
DTSTAMP:20260422T214510
CREATED:20260406T211359Z
LAST-MODIFIED:20260406T211359Z
UID:7231-1776448800-1776456000@elmarovineyard.com
SUMMARY:Bingo!
DESCRIPTION:Join us at Elmaro at 6 p.m. for Bingo Night! There’s no registration fee\, but you must reserve your spots here. Two complimentary bingo cards for each guest and assorted prizes.
URL:https://elmarovineyard.com/event/bingo/
ATTACH;FMTTYPE=image/jpeg:https://elmarovineyard.com/wp-content/uploads/2026/04/BINGO-facebook-event-cover-30.jpg
END:VEVENT
BEGIN:VEVENT
DTSTART;TZID=UTC:20260418T120000
DTEND;TZID=UTC:20260418T180000
DTSTAMP:20260422T214510
CREATED:20260317T195426Z
LAST-MODIFIED:20260317T195426Z
UID:7204-1776513600-1776535200@elmarovineyard.com
SUMMARY:Nachos and Sangria
DESCRIPTION:Nachos and sangria are back\, and it’s even better with the sounds of The Coulee Region Steel Drum Band!
URL:https://elmarovineyard.com/event/nachos-and-sangria-5/
ATTACH;FMTTYPE=image/jpeg:https://elmarovineyard.com/wp-content/uploads/2026/03/Nachos-and-Sangria-3.jpg
END:VEVENT
BEGIN:VEVENT
DTSTART;TZID=UTC:20260418T140000
DTEND;TZID=UTC:20260418T170000
DTSTAMP:20260422T214510
CREATED:20260217T214428Z
LAST-MODIFIED:20260217T214428Z
UID:7091-1776520800-1776531600@elmarovineyard.com
SUMMARY:Music by The Coulee Region Steel Drum Band
DESCRIPTION:The sounds of the tropics will flood the winery and vineyard!
URL:https://elmarovineyard.com/event/music-by-the-coulee-region-steel-drum-band-10/
ATTACH;FMTTYPE=image/jpeg:https://elmarovineyard.com/wp-content/uploads/2026/02/coulee-rsdb.jpg
END:VEVENT
BEGIN:VEVENT
DTSTART;TZID=UTC:20260419T130000
DTEND;TZID=UTC:20260419T160000
DTSTAMP:20260422T214510
CREATED:20260217T214715Z
LAST-MODIFIED:20260217T214715Z
UID:7094-1776603600-1776614400@elmarovineyard.com
SUMMARY:Music by Don D. Harvey
DESCRIPTION:A musician\, songwriter\, performer\, school teacher\, and man about town\, and his music is the perfect accompaniment to a Sunday.
URL:https://elmarovineyard.com/event/music-by-don-d-harvey-9/
ATTACH;FMTTYPE=image/jpeg:https://elmarovineyard.com/wp-content/uploads/2026/02/Don-D-Harvey2.jpg
END:VEVENT
BEGIN:VEVENT
DTSTART;TZID=UTC:20260419T130000
DTEND;TZID=UTC:20260419T160000
DTSTAMP:20260422T214510
CREATED:20260406T220230Z
LAST-MODIFIED:20260406T220230Z
UID:7240-1776603600-1776614400@elmarovineyard.com
SUMMARY:Meet the April Artist\, Connie Helgerson
DESCRIPTION:Connie Helgerson gains much inspiration from the surrounding countryside of Wisconsin\, on road trips\, the Tetons of Wyoming\, and walking amongst elk herds. The wondrous feeling of capturing the beautiful sights surrounding her with pencil or brush has inspired her for as long as she can remember. Connie uses many media\, including pencil\, acrylic\, oil\, and watercolor. Meet Connie on April 19th from 1-4 p.m.!
URL:https://elmarovineyard.com/event/meet-the-april-artist-connie-helgerson-2/
ATTACH;FMTTYPE=image/jpeg:https://elmarovineyard.com/wp-content/uploads/2026/04/March-Artist-of-the-Month-19.jpg
END:VEVENT
BEGIN:VEVENT
DTSTART;TZID=UTC:20260423T110000
DTEND;TZID=UTC:20260423T120000
DTSTAMP:20260422T214510
CREATED:20260204T170728Z
LAST-MODIFIED:20260317T182006Z
UID:7017-1776942000-1776945600@elmarovineyard.com
SUMMARY:Adaptive Yoga
DESCRIPTION:At 11:00 a.m.\, Join Laura (co-owner and winemaker) for a one-hour yoga practice for anyone with a modified range of motion. Chairs are available for sitting or standing prop\, no former yoga training is required\, and please bring your own mat and water bottle\, $2 per person. (We welcome drop-ins!)
URL:https://elmarovineyard.com/event/adaptive-yoga-28/2026-04-23/
ATTACH;FMTTYPE=image/jpeg:https://elmarovineyard.com/wp-content/uploads/2025/10/adaptive1-scaled.jpg
END:VEVENT
BEGIN:VEVENT
DTSTART;TZID=UTC:20260423T120000
DTEND;TZID=UTC:20260423T180000
DTSTAMP:20260422T214510
CREATED:20260407T202659Z
LAST-MODIFIED:20260407T202659Z
UID:7246-1776945600-1776967200@elmarovineyard.com
SUMMARY:Cherry Cheesecake Day
DESCRIPTION:It’s National Cherry Cheesecake Day\, and it deserves attention.  So Elmaro is celebrating with a slice of cherry cheesecake and a glass of wine for $9.
URL:https://elmarovineyard.com/event/cherry-cheesecake-day/
ATTACH;FMTTYPE=image/jpeg:https://elmarovineyard.com/wp-content/uploads/2026/04/Cherry-Cheesecake-Day.jpg
END:VEVENT
BEGIN:VEVENT
DTSTART;TZID=UTC:20260424T120000
DTEND;TZID=UTC:20260424T180000
DTSTAMP:20260422T214510
CREATED:20260408T214542Z
LAST-MODIFIED:20260408T214542Z
UID:7260-1777032000-1777053600@elmarovineyard.com
SUMMARY:White Pine Seedling Giveaway
DESCRIPTION:On this Arbor Day\, April 24th\, a national day to focus on the importance of trees\, Elmaro Vineyard will give away a white pine seedling to our guests\, as supplies last. By planting this seedling\, you can do your part to benefit local communities\, increase wildlife habitat\, and combat climate change.
URL:https://elmarovineyard.com/event/white-pine-seedling-giveaway-4/
ATTACH;FMTTYPE=image/jpeg:https://elmarovineyard.com/wp-content/uploads/2026/04/White-Pine-Seedling-Giveaway-2.jpg
END:VEVENT
BEGIN:VEVENT
DTSTART;TZID=UTC:20260424T140000
DTEND;TZID=UTC:20260424T170000
DTSTAMP:20260422T214510
CREATED:20260317T200710Z
LAST-MODIFIED:20260317T200710Z
UID:7207-1777039200-1777050000@elmarovineyard.com
SUMMARY:Music by Sal & Dean
DESCRIPTION:Sal and Dean have played both together and separately in many Country and Rock bands in the area (as well as New York and Hawaii) for over 30 years! As a duo\, they concentrate on familiar songs with a focus on harmony\, and songs that tell stories. Their primary goal is to share this music with their audiences and hopefully bring back good memories and shared experiences!
URL:https://elmarovineyard.com/event/music-by-sal-dean-7/
ATTACH;FMTTYPE=image/jpeg:https://elmarovineyard.com/wp-content/uploads/2026/03/Sal-Dean-2.jpg
END:VEVENT
BEGIN:VEVENT
DTSTART;TZID=UTC:20260425T140000
DTEND;TZID=UTC:20260425T170000
DTSTAMP:20260422T214510
CREATED:20260406T220523Z
LAST-MODIFIED:20260406T220523Z
UID:7243-1777125600-1777136400@elmarovineyard.com
SUMMARY:Music by Allison Sky
DESCRIPTION:Local singer/songwriter Allison Sky will fill the winery with music while you enjoy a beautiful Saturday afternoon at Elmaro.
URL:https://elmarovineyard.com/event/music-by-allison-sky-5/
ATTACH;FMTTYPE=image/jpeg:https://elmarovineyard.com/wp-content/uploads/2026/04/allison-sky.jpg
END:VEVENT
BEGIN:VEVENT
DTSTART;TZID=UTC:20260426T120000
DTEND;TZID=UTC:20260426T163000
DTSTAMP:20260422T214510
CREATED:20260317T200853Z
LAST-MODIFIED:20260317T200853Z
UID:7210-1777204800-1777221000@elmarovineyard.com
SUMMARY:Self-Guided Dog Walk in the Vineyard
DESCRIPTION:Pssst….this is for the dogs!! Humans\, bring your dogs to Elmaro on April 26th for a self-guided dog walk through the vineyard! There will be dog treat stops along the way\, and there’s no fee or registration. Maps and info are available upon arrival.(Dogs\, please keep your humans connected to your leash\, make sure they are well-behaved\, and have them clean up after you make a dookie).
URL:https://elmarovineyard.com/event/self-guided-dog-walk-in-the-vineyard-6/
ATTACH;FMTTYPE=image/jpeg:https://elmarovineyard.com/wp-content/uploads/2026/03/Pet-Parent-Day-Dog-Walk-at-Elmaro-5.jpg
END:VEVENT
BEGIN:VEVENT
DTSTART;TZID=UTC:20260430T110000
DTEND;TZID=UTC:20260430T120000
DTSTAMP:20260422T214510
CREATED:20260204T170728Z
LAST-MODIFIED:20260317T182015Z
UID:7018-1777546800-1777550400@elmarovineyard.com
SUMMARY:Adaptive Yoga
DESCRIPTION:At 11:00 a.m.\, Join Laura (co-owner and winemaker) for a one-hour yoga practice for anyone with a modified range of motion. Chairs are available for sitting or standing prop\, no former yoga training is required\, and please bring your own mat and water bottle\, $2 per person. (We welcome drop-ins!)
URL:https://elmarovineyard.com/event/adaptive-yoga-28/2026-04-30/
ATTACH;FMTTYPE=image/jpeg:https://elmarovineyard.com/wp-content/uploads/2025/10/adaptive1-scaled.jpg
END:VEVENT
BEGIN:VEVENT
DTSTART;TZID=UTC:20260430T120000
DTEND;TZID=UTC:20260430T180000
DTSTAMP:20260422T214510
CREATED:20260407T210320Z
LAST-MODIFIED:20260407T210320Z
UID:7249-1777550400-1777572000@elmarovineyard.com
SUMMARY:Oatmeal (Raisin) Cookie Day
DESCRIPTION:Cookies and Wine\, we think\, are better together than cookies and milk.  Find out for yourself on April 30th when we celebrate National Oatmeal (Raisin) Cookie Day.
URL:https://elmarovineyard.com/event/oatmeal-raisin-cookie-day/
ATTACH;FMTTYPE=image/jpeg:https://elmarovineyard.com/wp-content/uploads/2026/04/Cherry-Cheesecake-Day-1.jpg
END:VEVENT
BEGIN:VEVENT
DTSTART;VALUE=DATE:20260501
DTEND;VALUE=DATE:20260504
DTSTAMP:20260422T214510
CREATED:20260421T183912Z
LAST-MODIFIED:20260421T184011Z
UID:7286-1777593600-1777852799@elmarovineyard.com
SUMMARY:Great River Road Wine Trail 'Spring Uncorked' Food & Wine Event
DESCRIPTION:Welcome Spring with the wineries along the Great River Road Wine Trail! During this three-day wine and food event\, each winery will offer three wines and a food pairing which celebrates the new season. \nThis is a self-paced tasting tour. Begin your tasting at any of the wineries along the trail. Visit as many wineries as you would like. \nTickets are good all three days. Friday & Saturday from 12 noon – 6pm\, Sunday 12 noon – 5pm \nGet your tickets today at https://www.greatriverroadwinetrail.org/product/spring-uncorked-2026/ \nEvent will take place\, rain or shine. Indoor seating options available. Please drink responsibly.
URL:https://elmarovineyard.com/event/great-river-road-wine-trail-spring-uncorked-food-wine-event/
ATTACH;FMTTYPE=image/jpeg:https://elmarovineyard.com/wp-content/uploads/2026/04/Spring-Uncorked-2026-image-2-scaled.jpg
END:VEVENT
BEGIN:VEVENT
DTSTART;TZID=UTC:20260502T090000
DTEND;TZID=UTC:20260502T110000
DTSTAMP:20260422T214510
CREATED:20260216T212651Z
LAST-MODIFIED:20260216T212651Z
UID:7056-1777712400-1777719600@elmarovineyard.com
SUMMARY:Wire Flower Wallhanging Workshop
DESCRIPTION:Welcome spring in this hands-on workshop! You’ll craft a one-of-a-kind wire flower and bring it to life by adorning the center with beautiful dried flowers\, adding texture\, color\, and natural elegance.Full details and registration at http://www.exploretock.com/elmarovineyard
URL:https://elmarovineyard.com/event/wire-flower-wallhanging-workshop/
ATTACH;FMTTYPE=image/jpeg:https://elmarovineyard.com/wp-content/uploads/2026/02/Alannas-classes-46.jpg
END:VEVENT
BEGIN:VEVENT
DTSTART;TZID=UTC:20260502T130000
DTEND;TZID=UTC:20260502T160000
DTSTAMP:20260422T214510
CREATED:20260420T194226Z
LAST-MODIFIED:20260420T194226Z
UID:7283-1777726800-1777737600@elmarovineyard.com
SUMMARY:Music by Prank Williams
DESCRIPTION:A fixture in the Minneapolis folk music community for over fifteen years\, The founding members of Prank Williams met almost two decades past in the mammoth manse of an unknown Irishman deep in the St Paul hills.\nThe search for different musical genres and life experience separated the two for years until\, at the crossroads of political turmoil and epidemiological uncertainty\, they were reunited.\nChristopher “Hollywood” Hollister\, founder and singer for the rabble rousing local favorite Broken Spoke\, and Tony Petersen\, guitar hero of Duluth favorites Social Animals\, have created an alt-americana\, symphonically diverse\, sonically experimental body of work.\n—————————————\n“[this] rabble-rousing folk band\, members Chris Hollister and Tony Petersen\, and Chris Kopp…perform across the country…Their first time here\, no one left the place. These guys are slightly vaudevillian in their approach to the audience. They get everyone engaged and waiting for what may come next. One member of the crowd compared them to the Smothers Brothers of 70’s fame-firstly they are musicians\, but there will be loads of jokes and stories. They play off each other\, but watch it\, you may unknowingly become part of the show.” – Amy Werner\, Trempealeau Hotel and Stage in Trempealeau\, WI\n“The duo… began its Wednesday evening residency at Cedar Lounge in Superior on Oct. 5 with a rambunctious performance I was happy to witness…The range of songs was expansive. They paired “Sex Is On Fire” by Kings of Leon with “I’m on Fire” by Bruce Springsteen…But covers weren’t the only tunes presented; the group also performed several original songs – “Hurricane\, Utah” written by Hollister\, “You Freak Me Out Sometimes” and “New Routine” by Petersen and “Stairs Lead Down\,” on which the two collaborated…Look for Prank Williams
URL:https://elmarovineyard.com/event/music-by-prank-williams/
ATTACH;FMTTYPE=image/jpeg:https://elmarovineyard.com/wp-content/uploads/2026/04/prank-williams.jpg
END:VEVENT
BEGIN:VEVENT
DTSTART;TZID=UTC:20260503T130000
DTEND;TZID=UTC:20260503T160000
DTSTAMP:20260422T214510
CREATED:20260422T204422Z
LAST-MODIFIED:20260422T204422Z
UID:7290-1777813200-1777824000@elmarovineyard.com
SUMMARY:Music by River Run
DESCRIPTION: Live Music at the Vineyard! \nJoin us at Elmaro Vineyard for an afternoon of great music\, wine\, and beautiful views!
URL:https://elmarovineyard.com/event/music-by-river-run-6/
ATTACH;FMTTYPE=image/jpeg:https://elmarovineyard.com/wp-content/uploads/2026/04/river-run2.jpg
END:VEVENT
BEGIN:VEVENT
DTSTART;TZID=UTC:20260507T110000
DTEND;TZID=UTC:20260507T120000
DTSTAMP:20260422T214510
CREATED:20260204T170728Z
LAST-MODIFIED:20260204T170728Z
UID:7187-1778151600-1778155200@elmarovineyard.com
SUMMARY:Adaptive Yoga
DESCRIPTION:At 11:00 a.m.\, Join Laura (co-owner and winemaker) for a one-hour yoga practice for anyone with a modified range of motion. Chairs are available for sitting or standing prop\, no former yoga training is required\, and please bring your own mat and water bottle\, $2 per person. (We welcome drop-ins!)
URL:https://elmarovineyard.com/event/adaptive-yoga-28/2026-05-07/
ATTACH;FMTTYPE=image/jpeg:https://elmarovineyard.com/wp-content/uploads/2025/10/adaptive1-scaled.jpg
END:VEVENT
BEGIN:VEVENT
DTSTART;TZID=UTC:20260508T173000
DTEND;TZID=UTC:20260508T193000
DTSTAMP:20260422T214510
CREATED:20260408T220526Z
LAST-MODIFIED:20260408T220526Z
UID:7270-1778261400-1778268600@elmarovineyard.com
SUMMARY:Migratory Bird Day Social and Presentation
DESCRIPTION:The Friends of the Trempealeau Refuge invite you to Elmaro Vineyard for the World Migratory Bird Day celebration with the social hour at 5:30 p.m.\, followed by the always entertaining presentation by Craig Thompson at 6:30 PM.As part of International Migratory Bird Day celebration and in conjunction with Elmaro Vineyard and Environment for America’s\, a special “Bird Day Red” wine is being released at Elmaro on May 8th
URL:https://elmarovineyard.com/event/migratory-bird-day-social-and-presentation/
ATTACH;FMTTYPE=image/jpeg:https://elmarovineyard.com/wp-content/uploads/2026/04/Bird-day-2024-5.jpg
END:VEVENT
BEGIN:VEVENT
DTSTART;TZID=UTC:20260509T100000
DTEND;TZID=UTC:20260509T113000
DTSTAMP:20260422T214510
CREATED:20260411T182500Z
LAST-MODIFIED:20260411T182500Z
UID:7276-1778320800-1778326200@elmarovineyard.com
SUMMARY:Yoga & Brunch
DESCRIPTION:Join Laura (co-owner and winemaker) for a relaxing hour of vinyasa flow yoga practice\, followed by a continental brunch and a mimosa. $23/person\, registration at http://www.exploretock.com/elmarovineyard
URL:https://elmarovineyard.com/event/yoga-brunch-30/
ATTACH;FMTTYPE=image/jpeg:https://elmarovineyard.com/wp-content/uploads/2026/04/New-Years-Eve-Yoga-Brunch-10-a.m.-1920-x-1080-px-29.jpg
END:VEVENT
END:VCALENDAR