BEGIN:VCALENDAR
VERSION:2.0
PRODID:-//Elmaro Vineyard - ECPv6.15.20//NONSGML v1.0//EN
CALSCALE:GREGORIAN
METHOD:PUBLISH
X-ORIGINAL-URL:https://elmarovineyard.com
X-WR-CALDESC:Events for Elmaro Vineyard
REFRESH-INTERVAL;VALUE=DURATION:PT1H
X-Robots-Tag:noindex
X-PUBLISHED-TTL:PT1H
BEGIN:VTIMEZONE
TZID:UTC
BEGIN:STANDARD
TZOFFSETFROM:+0000
TZOFFSETTO:+0000
TZNAME:UTC
DTSTART:20230101T000000
END:STANDARD
END:VTIMEZONE
BEGIN:VEVENT
DTSTART;TZID=UTC:20240523T110000
DTEND;TZID=UTC:20240523T120000
DTSTAMP:20260422T010223
CREATED:20240415T151743Z
LAST-MODIFIED:20240501T175600Z
UID:5084-1716462000-1716465600@elmarovineyard.com
SUMMARY:Adaptive Yoga
DESCRIPTION:At 11:00 a.m.\, Join Laura (co-owner and winemaker) for a one-hour yoga practice for anyone with a modified range of motion.  Chairs are available for sitting or standing prop\, no former yoga training is required\, and please bring your own mat and water bottle\, $2 per person.  (We welcome drop-ins!)
URL:https://elmarovineyard.com/event/adaptive-yoga-17/2024-05-23/
ATTACH;FMTTYPE=image/jpeg:https://elmarovineyard.com/wp-content/uploads/2024/04/adaptive1-scaled.jpg
END:VEVENT
BEGIN:VEVENT
DTSTART;TZID=UTC:20240523T180000
DTEND;TZID=UTC:20240523T190000
DTSTAMP:20260422T010223
CREATED:20240501T174903Z
LAST-MODIFIED:20240501T174903Z
UID:5170-1716487200-1716490800@elmarovineyard.com
SUMMARY:Sunset Yoga
DESCRIPTION:Join Laura (co-owner and winemaker) for a one-hour vinyasa yoga flow practice. This class begins at 6:00 p.m.\, includes a complimentary beverage\, and no former yoga training required. Please bring your own mat and water bottle\, $10 per person. (We welcome drop-ins!)
URL:https://elmarovineyard.com/event/sunset-yoga-6/2024-05-23/
ATTACH;FMTTYPE=image/jpeg:https://elmarovineyard.com/wp-content/uploads/2024/05/tent-yoga.jpeg
END:VEVENT
BEGIN:VEVENT
DTSTART;TZID=UTC:20240524T150000
DTEND;TZID=UTC:20240524T180000
DTSTAMP:20260422T010223
CREATED:20240416T163240Z
LAST-MODIFIED:20240416T163240Z
UID:5102-1716562800-1716573600@elmarovineyard.com
SUMMARY:Music by Good To Go
DESCRIPTION:It’s the start of a long weekend\, get it going with the sounds of Good To Go\, 3-6 p.m.
URL:https://elmarovineyard.com/event/music-by-good-to-go-5/
ATTACH;FMTTYPE=image/jpeg:https://elmarovineyard.com/wp-content/uploads/2024/04/Good-to-go2.jpg
END:VEVENT
BEGIN:VEVENT
DTSTART;TZID=UTC:20240525T123000
DTEND;TZID=UTC:20240525T170000
DTSTAMP:20260422T010223
CREATED:20240416T164345Z
LAST-MODIFIED:20240416T164345Z
UID:5117-1716640200-1716656400@elmarovineyard.com
SUMMARY:Woodshed Pizza Truck
DESCRIPTION:Woodshed Pizza is at Elmaro for two whole days!  Start your Saturday with an authentic wood-fired pizza at Elmaro\, and come back on Sunday for more.
URL:https://elmarovineyard.com/event/woodshed-pizza-truck-2/2024-05-25/
ATTACH;FMTTYPE=image/jpeg:https://elmarovineyard.com/wp-content/uploads/2024/04/woodshed-at-elmaro.jpg
END:VEVENT
BEGIN:VEVENT
DTSTART;TZID=UTC:20240525T140000
DTEND;TZID=UTC:20240525T170000
DTSTAMP:20260422T010223
CREATED:20240416T163423Z
LAST-MODIFIED:20240416T163423Z
UID:5105-1716645600-1716656400@elmarovineyard.com
SUMMARY:Music by Jeani & The Dreamers
DESCRIPTION:Keep rockin’ your holiday weekend with Jeani & The Dreamers!
URL:https://elmarovineyard.com/event/music-by-jeani-the-dreamers-4/
ATTACH;FMTTYPE=image/jpeg:https://elmarovineyard.com/wp-content/uploads/2024/04/Jeaniandthedreamers.jpg
END:VEVENT
BEGIN:VEVENT
DTSTART;TZID=UTC:20240526T123000
DTEND;TZID=UTC:20240526T170000
DTSTAMP:20260422T010223
CREATED:20240416T164345Z
LAST-MODIFIED:20240416T164345Z
UID:5119-1716726600-1716742800@elmarovineyard.com
SUMMARY:Woodshed Pizza Truck
DESCRIPTION:Woodshed Pizza is at Elmaro for two whole days!  Start your Saturday with an authentic wood-fired pizza at Elmaro\, and come back on Sunday for more.
URL:https://elmarovineyard.com/event/woodshed-pizza-truck-2/2024-05-26/
ATTACH;FMTTYPE=image/jpeg:https://elmarovineyard.com/wp-content/uploads/2024/04/woodshed-at-elmaro.jpg
END:VEVENT
BEGIN:VEVENT
DTSTART;TZID=UTC:20240526T130000
DTEND;TZID=UTC:20240526T150000
DTSTAMP:20260422T010223
CREATED:20240416T163649Z
LAST-MODIFIED:20240416T163649Z
UID:5108-1716728400-1716735600@elmarovineyard.com
SUMMARY:Music by Too Darn Hot
DESCRIPTION:Dixieland Jazz by Too Darn Hot pairs perfectly with a pizza from Woodshed Pizza Truck.
URL:https://elmarovineyard.com/event/music-by-too-darn-hot-4/
ATTACH;FMTTYPE=image/jpeg:https://elmarovineyard.com/wp-content/uploads/2024/04/Too-Darn-Hot-Band.jpg
END:VEVENT
BEGIN:VEVENT
DTSTART;TZID=UTC:20240527T120000
DTEND;TZID=UTC:20240527T180000
DTSTAMP:20260422T010223
CREATED:20240416T164024Z
LAST-MODIFIED:20240416T164024Z
UID:5114-1716811200-1716832800@elmarovineyard.com
SUMMARY:Closed for Memorial Day
DESCRIPTION:Elmaro Vineyard is closed on Memorial Day\, May 27th\, so that we may spend time with our friends and families.  We will see you on Tuesday\, May 28th at noon.
URL:https://elmarovineyard.com/event/closed-for-memorial-day-3/
ATTACH;FMTTYPE=image/jpeg:https://elmarovineyard.com/wp-content/uploads/2024/04/memorialday.jpg
END:VEVENT
BEGIN:VEVENT
DTSTART;TZID=UTC:20240530T110000
DTEND;TZID=UTC:20240530T120000
DTSTAMP:20260422T010223
CREATED:20240415T151743Z
LAST-MODIFIED:20240501T175601Z
UID:5085-1717066800-1717070400@elmarovineyard.com
SUMMARY:Adaptive Yoga
DESCRIPTION:At 11:00 a.m.\, Join Laura (co-owner and winemaker) for a one-hour yoga practice for anyone with a modified range of motion.  Chairs are available for sitting or standing prop\, no former yoga training is required\, and please bring your own mat and water bottle\, $2 per person.  (We welcome drop-ins!)
URL:https://elmarovineyard.com/event/adaptive-yoga-17/2024-05-30/
ATTACH;FMTTYPE=image/jpeg:https://elmarovineyard.com/wp-content/uploads/2024/04/adaptive1-scaled.jpg
END:VEVENT
BEGIN:VEVENT
DTSTART;TZID=UTC:20240530T180000
DTEND;TZID=UTC:20240530T190000
DTSTAMP:20260422T010223
CREATED:20240501T174903Z
LAST-MODIFIED:20240501T174903Z
UID:5171-1717092000-1717095600@elmarovineyard.com
SUMMARY:Sunset Yoga
DESCRIPTION:Join Laura (co-owner and winemaker) for a one-hour vinyasa yoga flow practice. This class begins at 6:00 p.m.\, includes a complimentary beverage\, and no former yoga training required. Please bring your own mat and water bottle\, $10 per person. (We welcome drop-ins!)
URL:https://elmarovineyard.com/event/sunset-yoga-6/2024-05-30/
ATTACH;FMTTYPE=image/jpeg:https://elmarovineyard.com/wp-content/uploads/2024/05/tent-yoga.jpeg
END:VEVENT
BEGIN:VEVENT
DTSTART;TZID=UTC:20240601T140000
DTEND;TZID=UTC:20240601T170000
DTSTAMP:20260422T010223
CREATED:20240501T195649Z
LAST-MODIFIED:20240501T195649Z
UID:5185-1717250400-1717261200@elmarovineyard.com
SUMMARY:Music by Sampson & Son
DESCRIPTION:Local father/son duo of Rick and Aric will fill the vineyard with tunes from 2-5 p.m.
URL:https://elmarovineyard.com/event/music-by-sampson-son-13/
ATTACH;FMTTYPE=image/jpeg:https://elmarovineyard.com/wp-content/uploads/2024/05/Sampson-duo-2-scaled.jpg
END:VEVENT
BEGIN:VEVENT
DTSTART;TZID=UTC:20240602T120000
DTEND;TZID=UTC:20240602T160000
DTSTAMP:20260422T010223
CREATED:20240423T162551Z
LAST-MODIFIED:20240423T162551Z
UID:5158-1717329600-1717344000@elmarovineyard.com
SUMMARY:Sunday Street Market
DESCRIPTION:It’s the start of Elmaro’s June Sunday Street Markets!  Every Sunday in June\, Elmaro is featuring artisan vendors\, outdoor painting demonstrations\, art in the crush pad\, wine in the vineyard\, live music\, and food.  This week\, it’s music by Under Paris Skies and crepes by Jean Luc.
URL:https://elmarovineyard.com/event/sunday-street-market-2/
ATTACH;FMTTYPE=image/png:https://elmarovineyard.com/wp-content/uploads/2024/04/2024-street-market-posters-11-x-8.5-in.png
END:VEVENT
BEGIN:VEVENT
DTSTART;TZID=UTC:20240606T110000
DTEND;TZID=UTC:20240606T120000
DTSTAMP:20260422T010223
CREATED:20240415T151743Z
LAST-MODIFIED:20240415T151743Z
UID:5181-1717671600-1717675200@elmarovineyard.com
SUMMARY:Adaptive Yoga
DESCRIPTION:At 11:00 a.m.\, Join Laura (co-owner and winemaker) for a one-hour yoga practice for anyone with a modified range of motion.  Chairs are available for sitting or standing prop\, no former yoga training is required\, and please bring your own mat and water bottle\, $2 per person.  (We welcome drop-ins!)
URL:https://elmarovineyard.com/event/adaptive-yoga-17/2024-06-06/
ATTACH;FMTTYPE=image/jpeg:https://elmarovineyard.com/wp-content/uploads/2024/04/adaptive1-scaled.jpg
END:VEVENT
BEGIN:VEVENT
DTSTART;TZID=UTC:20240606T180000
DTEND;TZID=UTC:20240606T190000
DTSTAMP:20260422T010223
CREATED:20240501T174903Z
LAST-MODIFIED:20240501T174903Z
UID:5172-1717696800-1717700400@elmarovineyard.com
SUMMARY:Sunset Yoga
DESCRIPTION:Join Laura (co-owner and winemaker) for a one-hour vinyasa yoga flow practice. This class begins at 6:00 p.m.\, includes a complimentary beverage\, and no former yoga training required. Please bring your own mat and water bottle\, $10 per person. (We welcome drop-ins!)
URL:https://elmarovineyard.com/event/sunset-yoga-6/2024-06-06/
ATTACH;FMTTYPE=image/jpeg:https://elmarovineyard.com/wp-content/uploads/2024/05/tent-yoga.jpeg
END:VEVENT
BEGIN:VEVENT
DTSTART;TZID=UTC:20240607T160000
DTEND;TZID=UTC:20240607T190000
DTSTAMP:20260422T010223
CREATED:20240603T213216Z
LAST-MODIFIED:20240603T213216Z
UID:5209-1717776000-1717786800@elmarovineyard.com
SUMMARY:Music by Tim Dallman
DESCRIPTION:Tim is a rock/pop/Americana singer-songwriter who also performs a wide range of cover songs.
URL:https://elmarovineyard.com/event/music-by-tim-dallman-12/
ATTACH;FMTTYPE=image/jpeg:https://elmarovineyard.com/wp-content/uploads/2024/06/tim-dallman4.jpg
END:VEVENT
BEGIN:VEVENT
DTSTART;TZID=UTC:20240608T140000
DTEND;TZID=UTC:20240608T170000
DTSTAMP:20260422T010223
CREATED:20240501T195940Z
LAST-MODIFIED:20240501T195940Z
UID:5188-1717855200-1717866000@elmarovineyard.com
SUMMARY:Music by Anderson Road
DESCRIPTION:Anderson Road will fill the vineyard with country covers\, as well as some favorites from the 70s.  Catch them\, and a glass of wine\, from 2-5 p.m.
URL:https://elmarovineyard.com/event/music-by-anderson-road-4/
ATTACH;FMTTYPE=image/jpeg:https://elmarovineyard.com/wp-content/uploads/2024/05/guitar-3.jpg
END:VEVENT
BEGIN:VEVENT
DTSTART;TZID=UTC:20240609T120000
DTEND;TZID=UTC:20240609T160000
DTSTAMP:20260422T010223
CREATED:20240423T163225Z
LAST-MODIFIED:20240423T163225Z
UID:5161-1717934400-1717948800@elmarovineyard.com
SUMMARY:Sunday Street Market
DESCRIPTION:It’s the second week of the June Sunday Street Markets.  This week\, the June artists will be painting in the vineyard for you to watch\, we have music by Patina\, crepes by Jean Luc\, wine in the vineyard\, and artisan vendors with amazing creations.
URL:https://elmarovineyard.com/event/sunday-street-market-3/
ATTACH;FMTTYPE=image/png:https://elmarovineyard.com/wp-content/uploads/2024/04/2024-street-market-posters-11-x-8.5-in-1.png
END:VEVENT
BEGIN:VEVENT
DTSTART;TZID=UTC:20240609T130000
DTEND;TZID=UTC:20240609T160000
DTSTAMP:20260422T010223
CREATED:20240603T213409Z
LAST-MODIFIED:20240604T164834Z
UID:5212-1717938000-1717948800@elmarovineyard.com
SUMMARY:Music by Patina
DESCRIPTION:Patina will once again be playing at Elmaro Vineyard on Sunday\,June 9th from 1:00 to 4:00. It will be a GREAT day to stop in for your fix of Celtic music by Patina. We always have a fun afternoon at Elmaro!Come out and plan to have a glass of Elmaro’s tasty wine\, some great snacks and a side of traditional & original Celtic tunes & songs played by Patina
URL:https://elmarovineyard.com/event/music-by-patina-3/
ATTACH;FMTTYPE=image/png:https://elmarovineyard.com/wp-content/uploads/2024/06/Patina-Trio.png
END:VEVENT
BEGIN:VEVENT
DTSTART;TZID=UTC:20240613T110000
DTEND;TZID=UTC:20240613T120000
DTSTAMP:20260422T010223
CREATED:20240415T151743Z
LAST-MODIFIED:20240415T151743Z
UID:5182-1718276400-1718280000@elmarovineyard.com
SUMMARY:Adaptive Yoga
DESCRIPTION:At 11:00 a.m.\, Join Laura (co-owner and winemaker) for a one-hour yoga practice for anyone with a modified range of motion.  Chairs are available for sitting or standing prop\, no former yoga training is required\, and please bring your own mat and water bottle\, $2 per person.  (We welcome drop-ins!)
URL:https://elmarovineyard.com/event/adaptive-yoga-17/2024-06-13/
ATTACH;FMTTYPE=image/jpeg:https://elmarovineyard.com/wp-content/uploads/2024/04/adaptive1-scaled.jpg
END:VEVENT
BEGIN:VEVENT
DTSTART;TZID=UTC:20240613T180000
DTEND;TZID=UTC:20240613T190000
DTSTAMP:20260422T010224
CREATED:20240501T174903Z
LAST-MODIFIED:20240501T174903Z
UID:5173-1718301600-1718305200@elmarovineyard.com
SUMMARY:Sunset Yoga
DESCRIPTION:Join Laura (co-owner and winemaker) for a one-hour vinyasa yoga flow practice. This class begins at 6:00 p.m.\, includes a complimentary beverage\, and no former yoga training required. Please bring your own mat and water bottle\, $10 per person. (We welcome drop-ins!)
URL:https://elmarovineyard.com/event/sunset-yoga-6/2024-06-13/
ATTACH;FMTTYPE=image/jpeg:https://elmarovineyard.com/wp-content/uploads/2024/05/tent-yoga.jpeg
END:VEVENT
BEGIN:VEVENT
DTSTART;TZID=UTC:20240614T150000
DTEND;TZID=UTC:20240614T180000
DTSTAMP:20260422T010224
CREATED:20240603T213527Z
LAST-MODIFIED:20240603T213527Z
UID:5215-1718377200-1718388000@elmarovineyard.com
SUMMARY:Music by Good To Go
DESCRIPTION:Sit back on Friday with a glass of wine and listen to the sounds of Good to Go\, 3-6 p.m.
URL:https://elmarovineyard.com/event/music-by-good-to-go-6/
ATTACH;FMTTYPE=image/jpeg:https://elmarovineyard.com/wp-content/uploads/2024/06/Good-to-go2.jpg
END:VEVENT
BEGIN:VEVENT
DTSTART;TZID=UTC:20240615T120000
DTEND;TZID=UTC:20240615T170000
DTSTAMP:20260422T010224
CREATED:20240603T215223Z
LAST-MODIFIED:20240603T215223Z
UID:5234-1718452800-1718470800@elmarovineyard.com
SUMMARY:Grilling by the Trempealeau Lions
DESCRIPTION:Start Father’s Day a bit early and bring him to Elmaro for grilled goodies by the Trempealeau Lions.  We also serve 6 kinds of tap beer as well as wine\, it’s sure to please everyone!
URL:https://elmarovineyard.com/event/grilling-by-the-trempealeau-lions-3/
ATTACH;FMTTYPE=image/jpeg:https://elmarovineyard.com/wp-content/uploads/2024/06/lions.jpg
END:VEVENT
BEGIN:VEVENT
DTSTART;TZID=UTC:20240615T140000
DTEND;TZID=UTC:20240615T170000
DTSTAMP:20260422T010224
CREATED:20240603T213109Z
LAST-MODIFIED:20240603T213109Z
UID:5206-1718460000-1718470800@elmarovineyard.com
SUMMARY:Music by Chad Alan
DESCRIPTION:Born in Austin\, Texas\, and now calling Llano\, Texas home\, wannabe farmer turned musician\, Chad Alan has cast a respectable presence in the Austin and Surrounding Hill Country music scene for many years.
URL:https://elmarovineyard.com/event/music-by-chad-alan/
ATTACH;FMTTYPE=image/jpeg:https://elmarovineyard.com/wp-content/uploads/2024/06/chad-alan.jpg
END:VEVENT
BEGIN:VEVENT
DTSTART;TZID=UTC:20240616T120000
DTEND;TZID=UTC:20240616T160000
DTSTAMP:20260422T010224
CREATED:20240423T163626Z
LAST-MODIFIED:20240423T163626Z
UID:5164-1718539200-1718553600@elmarovineyard.com
SUMMARY:Sunday Street Market
DESCRIPTION:The fun continues!  This week\, we have music by Crooked Willow\, crepes by Jean Luc\, and the June artists are again painting in the vineyard.
URL:https://elmarovineyard.com/event/sunday-street-market-4/
ATTACH;FMTTYPE=image/png:https://elmarovineyard.com/wp-content/uploads/2024/04/2024-street-market-posters-11-x-8.5-in-2.png
END:VEVENT
BEGIN:VEVENT
DTSTART;TZID=UTC:20240616T130000
DTEND;TZID=UTC:20240616T160000
DTSTAMP:20260422T010224
CREATED:20240604T160038Z
LAST-MODIFIED:20240604T160038Z
UID:5237-1718542800-1718553600@elmarovineyard.com
SUMMARY:Music by Crooked Willow
DESCRIPTION:Crooked Willow is an americana acoustic band of driftless area musicians rooted in family and friendship. You’ll find their catchy tunes at the Sunday Street Market along with crepes\, hand-crafted sangria\, and of course\, amazing artisan makers.
URL:https://elmarovineyard.com/event/music-by-crooked-willow/
ATTACH;FMTTYPE=image/jpeg:https://elmarovineyard.com/wp-content/uploads/2024/06/Crooked-Willow.jpg
END:VEVENT
BEGIN:VEVENT
DTSTART;TZID=UTC:20240620T110000
DTEND;TZID=UTC:20240620T120000
DTSTAMP:20260422T010224
CREATED:20240415T151743Z
LAST-MODIFIED:20240415T151743Z
UID:5183-1718881200-1718884800@elmarovineyard.com
SUMMARY:Adaptive Yoga
DESCRIPTION:At 11:00 a.m.\, Join Laura (co-owner and winemaker) for a one-hour yoga practice for anyone with a modified range of motion.  Chairs are available for sitting or standing prop\, no former yoga training is required\, and please bring your own mat and water bottle\, $2 per person.  (We welcome drop-ins!)
URL:https://elmarovineyard.com/event/adaptive-yoga-17/2024-06-20/
ATTACH;FMTTYPE=image/jpeg:https://elmarovineyard.com/wp-content/uploads/2024/04/adaptive1-scaled.jpg
END:VEVENT
BEGIN:VEVENT
DTSTART;TZID=UTC:20240620T180000
DTEND;TZID=UTC:20240620T190000
DTSTAMP:20260422T010224
CREATED:20240501T174903Z
LAST-MODIFIED:20240501T174903Z
UID:5174-1718906400-1718910000@elmarovineyard.com
SUMMARY:Sunset Yoga
DESCRIPTION:Join Laura (co-owner and winemaker) for a one-hour vinyasa yoga flow practice. This class begins at 6:00 p.m.\, includes a complimentary beverage\, and no former yoga training required. Please bring your own mat and water bottle\, $10 per person. (We welcome drop-ins!)
URL:https://elmarovineyard.com/event/sunset-yoga-6/2024-06-20/
ATTACH;FMTTYPE=image/jpeg:https://elmarovineyard.com/wp-content/uploads/2024/05/tent-yoga.jpeg
END:VEVENT
BEGIN:VEVENT
DTSTART;TZID=UTC:20240621T150000
DTEND;TZID=UTC:20240621T180000
DTSTAMP:20260422T010224
CREATED:20240603T213836Z
LAST-MODIFIED:20240603T213836Z
UID:5218-1718982000-1718992800@elmarovineyard.com
SUMMARY:Music by James Grant
DESCRIPTION:Friday’s forecast: 100% chance of wine. And music by James Grant\, 3:00-6:00 p.m.\, all on June 21st.
URL:https://elmarovineyard.com/event/music-by-james-grant-21/
ATTACH;FMTTYPE=image/jpeg:https://elmarovineyard.com/wp-content/uploads/2024/06/James-Grant6.jpg
END:VEVENT
BEGIN:VEVENT
DTSTART;TZID=UTC:20240622T140000
DTEND;TZID=UTC:20240622T170000
DTSTAMP:20260422T010224
CREATED:20240603T214138Z
LAST-MODIFIED:20240603T214138Z
UID:5221-1719064800-1719075600@elmarovineyard.com
SUMMARY:Music by Saner & Gibbons
DESCRIPTION:More music\, please! Saner & Gibbons are guaranteed to hit on a few of your favorite tunes when they perform on Saturday\, June 22nd\, 2-5 p.m.
URL:https://elmarovineyard.com/event/music-by-saner-gibbons-2/
ATTACH;FMTTYPE=image/jpeg:https://elmarovineyard.com/wp-content/uploads/2024/06/saner-and-gibbons.jpg
END:VEVENT
BEGIN:VEVENT
DTSTART;TZID=UTC:20240623T120000
DTEND;TZID=UTC:20240623T160000
DTSTAMP:20260422T010224
CREATED:20240603T212740Z
LAST-MODIFIED:20240603T212740Z
UID:5200-1719144000-1719158400@elmarovineyard.com
SUMMARY:Street Market Sunday
DESCRIPTION:It’s the fourth week of the June Sunday Street Markets. This week\, the June artists will be painting in the vineyard for you to watch\, we have music by Jeani & The Dreamers\, crepes by Jean Luc\, wine and specially crafted sangria in the vineyard\, and artisan vendors with amazing creations
URL:https://elmarovineyard.com/event/street-market-sunday-10/
ATTACH;FMTTYPE=image/jpeg:https://elmarovineyard.com/wp-content/uploads/2024/06/2024-street-market-fb-event-6.jpg
END:VEVENT
END:VCALENDAR