BEGIN:VCALENDAR
VERSION:2.0
PRODID:-//Elmaro Vineyard - ECPv6.15.20//NONSGML v1.0//EN
CALSCALE:GREGORIAN
METHOD:PUBLISH
X-WR-CALNAME:Elmaro Vineyard
X-ORIGINAL-URL:https://elmarovineyard.com
X-WR-CALDESC:Events for Elmaro Vineyard
REFRESH-INTERVAL;VALUE=DURATION:PT1H
X-Robots-Tag:noindex
X-PUBLISHED-TTL:PT1H
BEGIN:VTIMEZONE
TZID:UTC
BEGIN:STANDARD
TZOFFSETFROM:+0000
TZOFFSETTO:+0000
TZNAME:UTC
DTSTART:20190101T000000
END:STANDARD
END:VTIMEZONE
BEGIN:VEVENT
DTSTART;TZID=UTC:20200802T120000
DTEND;TZID=UTC:20200802T170000
DTSTAMP:20260421T232929
CREATED:20200727T173125Z
LAST-MODIFIED:20200727T181043Z
UID:1710-1596369600-1596387600@elmarovineyard.com
SUMMARY:Sundaes on a Sunday!
DESCRIPTION:I scream\, you scream\, we all scream for Ice Cream on a Sunday! Vanilla bean ice cream drizzled with Elmaro’s 1888 Port-style wine reduction mixed with Haute Fudge\, and topped with whipped cream and a Bada Bing Cherry.
URL:https://elmarovineyard.com/event/sundaes-on-a-sunday/
ATTACH;FMTTYPE=image/jpeg:https://elmarovineyard.com/wp-content/uploads/2020/07/115909235_3094143480651721_8393883212989707251_o.jpg
END:VEVENT
BEGIN:VEVENT
DTSTART;TZID=UTC:20200802T130000
DTEND;TZID=UTC:20200802T160000
DTSTAMP:20260421T232929
CREATED:20200727T173248Z
LAST-MODIFIED:20200727T180802Z
UID:1713-1596373200-1596384000@elmarovineyard.com
SUMMARY:Music by The Flyin' A's
DESCRIPTION:The Flyin’ A’s are a Texas songwriting duo that perform Americana with a Texas Kick! From honky tonk to “Texified” Jazz.
URL:https://elmarovineyard.com/event/music-by-the-flyin-as/
ATTACH;FMTTYPE=image/jpeg:https://elmarovineyard.com/wp-content/uploads/2020/07/106129296_3044803558919047_6830457266847188575_o.jpg
END:VEVENT
BEGIN:VEVENT
DTSTART;TZID=UTC:20200804T120000
DTEND;TZID=UTC:20200806T180000
DTSTAMP:20260421T232929
CREATED:20200727T183058Z
LAST-MODIFIED:20200727T183058Z
UID:1733-1596542400-1596736800@elmarovineyard.com
SUMMARY:Chocolate Chip Cookies at Elmaro!
DESCRIPTION:National Chocolate Chip Cookie Day deserves three days of celebration! August 4th through August 6th\, Elmaro will have chocolate chip cookies available to purchase with a glass of wine.
URL:https://elmarovineyard.com/event/chocolate-chip-cookies-at-elmaro/
ATTACH;FMTTYPE=image/jpeg:https://elmarovineyard.com/wp-content/uploads/2020/07/107693711_3074489505950452_4739896735792415262_n.jpg
END:VEVENT
BEGIN:VEVENT
DTSTART;TZID=UTC:20200808T150000
DTEND;TZID=UTC:20200808T170000
DTSTAMP:20260421T232929
CREATED:20200727T173520Z
LAST-MODIFIED:20200727T180503Z
UID:1716-1596898800-1596906000@elmarovineyard.com
SUMMARY:Music by Too Darn Hot Dixieland Jazz Band
DESCRIPTION:Keep your summer cool with the sounds of Too Darn Hot Dixieland Jazz Band!
URL:https://elmarovineyard.com/event/music-by-too-darn-hot-dixieland-jazz-band-3/
ATTACH;FMTTYPE=image/jpeg:https://elmarovineyard.com/wp-content/uploads/2020/07/104437979_3015945615138175_1483354688491104476_n.jpg
END:VEVENT
BEGIN:VEVENT
DTSTART;TZID=UTC:20200809T130000
DTEND;TZID=UTC:20200809T160000
DTSTAMP:20260421T232929
CREATED:20200727T173613Z
LAST-MODIFIED:20200727T180828Z
UID:1718-1596978000-1596988800@elmarovineyard.com
SUMMARY:Music by Family Matters
DESCRIPTION:This family trio out of Holmen\, WI is the perfect way to wrap up a weekend.
URL:https://elmarovineyard.com/event/music-by-family-matters-2/
ATTACH;FMTTYPE=image/jpeg:https://elmarovineyard.com/wp-content/uploads/2020/07/106528736_3044814062251330_8599906278430512132_o.jpg
END:VEVENT
BEGIN:VEVENT
DTSTART;TZID=UTC:20200813T120000
DTEND;TZID=UTC:20200813T180000
DTSTAMP:20260421T232929
CREATED:20200727T181715Z
LAST-MODIFIED:20200727T181715Z
UID:1730-1597320000-1597341600@elmarovineyard.com
SUMMARY:Kir Royales at Elmaro
DESCRIPTION:It’s National Prosecco Day\, and Elmaro is celebrating with Kir Royales\, made with Prosecco and our Big River Currant. It’s a refreshing drink for a summer day!
URL:https://elmarovineyard.com/event/kir-royales-at-elmaro/
ATTACH;FMTTYPE=image/jpeg:https://elmarovineyard.com/wp-content/uploads/2020/07/kir2-scaled.jpg
END:VEVENT
BEGIN:VEVENT
DTSTART;TZID=UTC:20200815T140000
DTEND;TZID=UTC:20200815T170000
DTSTAMP:20260421T232929
CREATED:20200727T173008Z
LAST-MODIFIED:20200728T141041Z
UID:1708-1597500000-1597510800@elmarovineyard.com
SUMMARY:Music by Sampson & Son
DESCRIPTION:This father/son duo will fill the vineyard with music from 2-5 p.m. Get ready to have some fun!
URL:https://elmarovineyard.com/event/music-by-sampson-son-2/
ATTACH;FMTTYPE=image/jpeg:https://elmarovineyard.com/wp-content/uploads/2019/09/Rick-and-Aric-Sampson.jpg
END:VEVENT
BEGIN:VEVENT
DTSTART;TZID=UTC:20200816T130000
DTEND;TZID=UTC:20200816T160000
DTSTAMP:20260421T232929
CREATED:20200727T174541Z
LAST-MODIFIED:20200727T181233Z
UID:1723-1597582800-1597593600@elmarovineyard.com
SUMMARY:Music by James Grant
DESCRIPTION:This local singer/songwriter will fill the vineyard with classic covers from 1-4 p.m.\n 
URL:https://elmarovineyard.com/event/music-by-james-grant/
ATTACH;FMTTYPE=image/jpeg:https://elmarovineyard.com/wp-content/uploads/2020/06/102448777_2964313920301345_3050318913586855936_n.jpg
END:VEVENT
BEGIN:VEVENT
DTSTART;TZID=UTC:20200822T140000
DTEND;TZID=UTC:20200822T170000
DTSTAMP:20260421T232929
CREATED:20200727T175913Z
LAST-MODIFIED:20200727T181214Z
UID:1725-1598104800-1598115600@elmarovineyard.com
SUMMARY:Music by Under Paris Skies
DESCRIPTION:UNDER PARIS SKIES plays acoustic music inspired by sidewalk cafes\, French cabarets\, Argentine dance halls and Euro streets. They will fill the vineyard with this music from 2-5 p.m.
URL:https://elmarovineyard.com/event/music-by-under-paris-skies-4/
ATTACH;FMTTYPE=image/jpeg:https://elmarovineyard.com/wp-content/uploads/2020/07/104601564_3015960198470050_460205560550481901_o.jpg
END:VEVENT
BEGIN:VEVENT
DTSTART;TZID=UTC:20200823T130000
DTEND;TZID=UTC:20200823T160000
DTSTAMP:20260421T232929
CREATED:20200727T180019Z
LAST-MODIFIED:20200727T180543Z
UID:1727-1598187600-1598198400@elmarovineyard.com
SUMMARY:Music by Paul Leithold and Friends
DESCRIPTION:This is a great way to wrap up your weekend!! The music of Paul Leithold and Friends!
URL:https://elmarovineyard.com/event/music-by-paul-leithold-and-friends/
ATTACH;FMTTYPE=image/jpeg:https://elmarovineyard.com/wp-content/uploads/2020/06/101052331_2957038254362245_8387483143770210304_o.jpg
END:VEVENT
BEGIN:VEVENT
DTSTART;TZID=UTC:20200910T120000
DTEND;TZID=UTC:20200910T180000
DTSTAMP:20260421T232929
CREATED:20200910T141422Z
LAST-MODIFIED:20200910T141422Z
UID:1783-1599739200-1599760800@elmarovineyard.com
SUMMARY:To-Go Corn Husk Wreath Kit Registration
DESCRIPTION:Anthropology Inspired Corn Husk Wreath Kit\, to-go\nReserve by September 15th\, Pick up October 2nd 4-6 p.m.\, or October 3rd 12-2 p.m.\nCreate this corn husk wreath at home in about an hour with this kit for your autumn decor. $35 plus tax per kit\, and it includes the wreath form\, husks\, ribbon for hanging\, and step-by-step instructions. YOU supply the hot glue gun\, and a la carte natural materials and flowers will be available for purchase at kit pick-up. Call 608-534-6456 to secure your to-go wreath kit.
URL:https://elmarovineyard.com/event/to-go-corn-husk-wreath-kit-registration/2020-09-10/
ATTACH;FMTTYPE=image/jpeg:https://elmarovineyard.com/wp-content/uploads/2020/09/sunflower-corn-husk.jpg
END:VEVENT
BEGIN:VEVENT
DTSTART;TZID=UTC:20200910T170000
DTEND;TZID=UTC:20200910T193000
DTSTAMP:20260421T232929
CREATED:20200608T164819Z
LAST-MODIFIED:20200909T211429Z
UID:1563-1599757200-1599766200@elmarovineyard.com
SUMMARY:Yoga in the Vineyard
DESCRIPTION:We offer outdoor yoga practices\, weather permitting.  (Weather permitting = the temperature is above 50 degrees\, the wind speed is less than 15 mph\, and it’s not storming.)            Two practices:  5pm Adaptive Vinyasa – Using a chair throughout the practice. \n6:30 – Sunset Vinyasa \nBYOM(mat)
URL:https://elmarovineyard.com/event/yoga-in-the-vineyard/2020-09-10/
ATTACH;FMTTYPE=image/jpeg:https://elmarovineyard.com/wp-content/uploads/2020/09/laura-yoga.jpeg
END:VEVENT
BEGIN:VEVENT
DTSTART;TZID=UTC:20200911T160000
DTEND;TZID=UTC:20200911T180000
DTSTAMP:20260421T232929
CREATED:20200909T181532Z
LAST-MODIFIED:20200909T181532Z
UID:1744-1599840000-1599847200@elmarovineyard.com
SUMMARY:Music by Chris Rude\, 4-6 p.m.
DESCRIPTION:Chris’s classical guitar is the perfect way to wind down on a Friday.
URL:https://elmarovineyard.com/event/music-by-chris-rude-4-6-p-m/
ATTACH;FMTTYPE=image/jpeg:https://elmarovineyard.com/wp-content/uploads/2020/09/Chris-Rude.jpg
END:VEVENT
BEGIN:VEVENT
DTSTART;TZID=UTC:20200912T123000
DTEND;TZID=UTC:20200912T170000
DTSTAMP:20260421T232929
CREATED:20200909T182956Z
LAST-MODIFIED:20200909T182956Z
UID:1747-1599913800-1599930000@elmarovineyard.com
SUMMARY:Woodshed Pizza Truck\, 12:30-5:00 p.m.
DESCRIPTION:Whether its a sausage\, pepperoni and artichoke\, or the Kari Special\, you will find out that pizza pairs perfectly with wine! Cash or check only\, please.
URL:https://elmarovineyard.com/event/woodshed-pizza-truck-1230-500-p-m/
ATTACH;FMTTYPE=image/jpeg:https://elmarovineyard.com/wp-content/uploads/2020/07/106423940_3044766235589446_8148578851821819748_o.jpg
END:VEVENT
BEGIN:VEVENT
DTSTART;TZID=UTC:20200912T140000
DTEND;TZID=UTC:20200912T170000
DTSTAMP:20260421T232929
CREATED:20200909T183720Z
LAST-MODIFIED:20200909T183720Z
UID:1749-1599919200-1599930000@elmarovineyard.com
SUMMARY:Music by Patina\, 2-5 p.m.
DESCRIPTION:Come on out to Elmaro Vineyard on Saturday\, Sept. 12th\, for a bit-o-the-Irish! From 2:00 to 5:00 you can listen to Patina’s own style of traditional\, contemporary and original Celtic music while you sip on your favorite award winning Elmaro wines.\nWe’ll have lots of fun!\nBring your dancing shoes!
URL:https://elmarovineyard.com/event/music-by-patina-2-5-p-m/
ATTACH;FMTTYPE=image/jpeg:https://elmarovineyard.com/wp-content/uploads/2020/09/Patina-at-Elmaro.jpg
END:VEVENT
BEGIN:VEVENT
DTSTART;TZID=UTC:20200913T133000
DTEND;TZID=UTC:20200913T153000
DTSTAMP:20260421T232929
CREATED:20200909T184226Z
LAST-MODIFIED:20200909T184226Z
UID:1752-1600003800-1600011000@elmarovineyard.com
SUMMARY:Music by Coulee Region Steel Drum Band\, 1:30-3:30 p.m.
DESCRIPTION:The sounds of the tropics are waiting for you at Elmaro!
URL:https://elmarovineyard.com/event/music-by-coulee-region-steel-drum-band-130-330-p-m/
ATTACH;FMTTYPE=image/jpeg:https://elmarovineyard.com/wp-content/uploads/2020/09/coulee-region-steel-drum.jpg
END:VEVENT
BEGIN:VEVENT
DTSTART;TZID=UTC:20200915T120000
DTEND;TZID=UTC:20200915T180000
DTSTAMP:20260421T232929
CREATED:20200914T192443Z
LAST-MODIFIED:20200914T192443Z
UID:1791-1600171200-1600192800@elmarovineyard.com
SUMMARY:Apple Cider Sangria\, 12-6 p.m.
DESCRIPTION:Apple season is here\, and Elmaro will be highlighting an Apple Cider Sangria! Made with Homestead Red\, Honeycrisp apples\, and apple cider from Ecker’s Apple Farm\, topped with a cinnamon sugar rim. $6 per glass\, this is available September 15th-19th\, 12-6 p.m. each day.
URL:https://elmarovineyard.com/event/apple-cider-sangria-12-6-p-m/2020-09-15/
ATTACH;FMTTYPE=image/jpeg:https://elmarovineyard.com/wp-content/uploads/2020/09/apple-cider-sangria-2.jpg
END:VEVENT
BEGIN:VEVENT
DTSTART;TZID=UTC:20200919T123000
DTEND;TZID=UTC:20200919T170000
DTSTAMP:20260421T232929
CREATED:20200909T185733Z
LAST-MODIFIED:20200909T185733Z
UID:1755-1600518600-1600534800@elmarovineyard.com
SUMMARY:Iguana's Food Truck\, 12:30-5:00
DESCRIPTION:Pork Carnitas tacos\, bean and avocado tacos\, chips and salsa……Feed your hunger at Elmaro from 12:30-5:00.
URL:https://elmarovineyard.com/event/iguanas-food-truck-1230-500/
ATTACH;FMTTYPE=image/jpeg:https://elmarovineyard.com/wp-content/uploads/2020/06/101468767_2967786176620786_7099205074815025152_n.jpg
END:VEVENT
BEGIN:VEVENT
DTSTART;TZID=UTC:20200919T150000
DTEND;TZID=UTC:20200919T180000
DTSTAMP:20260421T232929
CREATED:20200909T192145Z
LAST-MODIFIED:20200909T192145Z
UID:1757-1600527600-1600538400@elmarovineyard.com
SUMMARY:Music by Josie Legler\, 3-6 p.m.
DESCRIPTION:Local musician\, Josie Legler\, will bring her acoustic guitar styles to Elmaro from 3-6 p.m.
URL:https://elmarovineyard.com/event/music-by-josie-legler-3-6-p-m/
ATTACH;FMTTYPE=image/jpeg:https://elmarovineyard.com/wp-content/uploads/2020/09/josie-legler.jpg
END:VEVENT
BEGIN:VEVENT
DTSTART;TZID=UTC:20200920T130000
DTEND;TZID=UTC:20200920T160000
DTSTAMP:20260421T232929
CREATED:20200909T192413Z
LAST-MODIFIED:20200909T192413Z
UID:1760-1600606800-1600617600@elmarovineyard.com
SUMMARY:Music by the Ron Reimer Trio\, 1-4 p.m.
DESCRIPTION:Ron Reimer’s Trio is filled with instrumental jazz for a relaxing afternoon.
URL:https://elmarovineyard.com/event/music-by-the-ron-reimer-trio-1-4-p-m/
ATTACH;FMTTYPE=image/jpeg:https://elmarovineyard.com/wp-content/uploads/2020/09/ron-reimer-trio-2.jpg
END:VEVENT
BEGIN:VEVENT
DTSTART;TZID=UTC:20200925T160000
DTEND;TZID=UTC:20200925T180000
DTSTAMP:20260421T232929
CREATED:20200909T192812Z
LAST-MODIFIED:20200909T192812Z
UID:1763-1601049600-1601056800@elmarovineyard.com
SUMMARY:Music by Crooked Willow\, 4-6 p.m.
DESCRIPTION:Rooted in friendship and family Crooked Willow plays a mixture of different Americana styles. Elisi Smith croons lead vocals\, plays kazoo\, and picks the banjoele\, Kari Gallagher shines on fiddle\, Dan Driesen brings lead guitar\, Tim Waller plays rhythm guitar and sings\, Erik Hanson plucks the upright bass they are often accompanied by special guests. They cover great artists like Gillian Welch\, Dave Rawlings\, Old Crow Medicine Show\, with a few original tunes sprinkled in and love to focus on fun harmonies and toe-tapping rhythms.
URL:https://elmarovineyard.com/event/music-by-crooked-willow-4-6-p-m/
ATTACH;FMTTYPE=image/jpeg:https://elmarovineyard.com/wp-content/uploads/2020/09/Crooked-Willow_band.jpeg
END:VEVENT
BEGIN:VEVENT
DTSTART;TZID=UTC:20200926T123000
DTEND;TZID=UTC:20200926T170000
DTSTAMP:20260421T232929
CREATED:20200909T193401Z
LAST-MODIFIED:20200909T193401Z
UID:1766-1601123400-1601139600@elmarovineyard.com
SUMMARY:Food by the Trempealeau Lions\, 12:30-5:00
DESCRIPTION:Hear the Lions roar with their cheese curds (yes\, cheese curds!!!)\, brats\, and hot dogs. And yes\, these all pair perfectly with wine!
URL:https://elmarovineyard.com/event/food-by-the-trempealeau-lions-1230-500/
ATTACH;FMTTYPE=image/jpeg:https://elmarovineyard.com/wp-content/uploads/2020/09/lions.jpg
END:VEVENT
BEGIN:VEVENT
DTSTART;TZID=UTC:20200926T140000
DTEND;TZID=UTC:20200926T170000
DTSTAMP:20260421T232929
CREATED:20200909T194925Z
LAST-MODIFIED:20200909T194925Z
UID:1769-1601128800-1601139600@elmarovineyard.com
SUMMARY:Music by Great River Troubadours\, 2-5 p.m.
DESCRIPTION:This local band will perform their 60s and 70s covers\, under the cover of the tent!
URL:https://elmarovineyard.com/event/music-by-great-river-troubadours-2-5-p-m/
ATTACH;FMTTYPE=image/jpeg:https://elmarovineyard.com/wp-content/uploads/2020/09/GRT-Trio.jpg
END:VEVENT
BEGIN:VEVENT
DTSTART;TZID=UTC:20200927T130000
DTEND;TZID=UTC:20200927T160000
DTSTAMP:20260421T232929
CREATED:20200909T195244Z
LAST-MODIFIED:20200909T195244Z
UID:1772-1601211600-1601222400@elmarovineyard.com
SUMMARY:Music by Cool Jazz Cats\, 1-4 p.m.
DESCRIPTION:Stay cool with the Cool Jazz Cats as they swing some carefree instrumental tunes from 1-4 p.m.
URL:https://elmarovineyard.com/event/music-by-cool-jazz-cats-1-4-p-m/
ATTACH;FMTTYPE=image/jpeg:https://elmarovineyard.com/wp-content/uploads/2020/09/Cool-Jazz-Cats.jpg
END:VEVENT
BEGIN:VEVENT
DTSTART;TZID=UTC:20200929T120000
DTEND;TZID=UTC:20201003T180000
DTSTAMP:20260421T232929
CREATED:20200929T194708Z
LAST-MODIFIED:20200929T194708Z
UID:1800-1601380800-1601748000@elmarovineyard.com
SUMMARY:Hot Cran-Apple Cider
DESCRIPTION:Warm your senses with a cup of hot Cran-Apple cider\, made with Elmaro’s Cranberry Wine\, fresh apple cider\, and mulling spices.
URL:https://elmarovineyard.com/event/hot-cran-apple-cider/
ATTACH;FMTTYPE=image/jpeg:https://elmarovineyard.com/wp-content/uploads/2020/09/crapple-cider-2.jpg
END:VEVENT
BEGIN:VEVENT
DTSTART;TZID=UTC:20201001T170000
DTEND;TZID=UTC:20201001T193000
DTSTAMP:20260421T232929
CREATED:20200909T210359Z
LAST-MODIFIED:20201022T211228Z
UID:1775-1601571600-1601580600@elmarovineyard.com
SUMMARY:Yoga in the Vineyard
DESCRIPTION:We offer outdoor yoga practices\, weather permitting\, dress accordingly  (Weather permitting = the temperature is above 50 degrees\, the wind speed is less than 15 mph\, and it’s not storming.)            Two practices:  5pm Adaptive Vinyasa – Using a chair throughout the practice. \n6:30 – Candlelight Vinyasa \nBYOM(mat)
URL:https://elmarovineyard.com/event/yoga-in-the-vineyard-2/2020-10-01/
ATTACH;FMTTYPE=image/jpeg:https://elmarovineyard.com/wp-content/uploads/2020/09/laura-yoga.jpeg
END:VEVENT
BEGIN:VEVENT
DTSTART;TZID=UTC:20201002T150000
DTEND;TZID=UTC:20201002T180000
DTSTAMP:20260421T232929
CREATED:20200929T195705Z
LAST-MODIFIED:20200929T195705Z
UID:1806-1601650800-1601661600@elmarovineyard.com
SUMMARY:Music by David Hartman
DESCRIPTION:Local musician\, David Hartman\, will be live at Elmaro from 3-6 p.m.
URL:https://elmarovineyard.com/event/music-by-david-hartman-2/
ATTACH;FMTTYPE=image/jpeg:https://elmarovineyard.com/wp-content/uploads/2020/09/david-hartman2.jpg
END:VEVENT
BEGIN:VEVENT
DTSTART;TZID=UTC:20201003T120000
DTEND;TZID=UTC:20201003T180000
DTSTAMP:20260421T232929
CREATED:20200929T195316Z
LAST-MODIFIED:20200929T195316Z
UID:1803-1601726400-1601748000@elmarovineyard.com
SUMMARY:Sidewalk Sale with Britta Leigh
DESCRIPTION:Britta Leigh will be at Elmaro on Saturday\, October 3rd from 12-6 p.m. selling her hand poured candles\, and primitive home decor\, that includes decorated windows\, screens\, doors\, and boards\, Gnomes\, pumpkins\, and birch arrangements. Come and check out all of the fun!
URL:https://elmarovineyard.com/event/sidewalk-sale-with-britta-leigh/
ATTACH;FMTTYPE=image/jpeg:https://elmarovineyard.com/wp-content/uploads/2020/09/IMG_20200906_094304-1.jpg
END:VEVENT
BEGIN:VEVENT
DTSTART;TZID=UTC:20201003T140000
DTEND;TZID=UTC:20201003T170000
DTSTAMP:20260421T232929
CREATED:20200929T195949Z
LAST-MODIFIED:20200929T195949Z
UID:1809-1601733600-1601744400@elmarovineyard.com
SUMMARY:Music by Sampson & Son
DESCRIPTION:This local father/son duo not only play every instrument they can hold\, but they will have you tapping your toes and singing along with them!
URL:https://elmarovineyard.com/event/music-by-sampson-son-3/
ATTACH;FMTTYPE=image/jpeg:https://elmarovineyard.com/wp-content/uploads/2019/09/Rick-and-Aric-Sampson.jpg
END:VEVENT
BEGIN:VEVENT
DTSTART;TZID=UTC:20201004T130000
DTEND;TZID=UTC:20201004T160000
DTSTAMP:20260421T232929
CREATED:20200929T200544Z
LAST-MODIFIED:20200929T200544Z
UID:1817-1601816400-1601827200@elmarovineyard.com
SUMMARY:Music by Mike James and Troy Birdsong Jazz Duo
DESCRIPTION:Keyboards and upright bass bring instrumental jazz to life with this duo!
URL:https://elmarovineyard.com/event/music-by-mike-james-and-troy-birdsong-jazz-duo/
ATTACH;FMTTYPE=image/jpeg:https://elmarovineyard.com/wp-content/uploads/2020/09/John-Paulson2-scaled.jpg
END:VEVENT
END:VCALENDAR