BEGIN:VCALENDAR
VERSION:2.0
PRODID:-//Elmaro Vineyard - ECPv6.15.20//NONSGML v1.0//EN
CALSCALE:GREGORIAN
METHOD:PUBLISH
X-WR-CALNAME:Elmaro Vineyard
X-ORIGINAL-URL:https://elmarovineyard.com
X-WR-CALDESC:Events for Elmaro Vineyard
REFRESH-INTERVAL;VALUE=DURATION:PT1H
X-Robots-Tag:noindex
X-PUBLISHED-TTL:PT1H
BEGIN:VTIMEZONE
TZID:UTC
BEGIN:STANDARD
TZOFFSETFROM:+0000
TZOFFSETTO:+0000
TZNAME:UTC
DTSTART:20190101T000000
END:STANDARD
END:VTIMEZONE
BEGIN:VEVENT
DTSTART;TZID=UTC:20200228T160000
DTEND;TZID=UTC:20200228T190000
DTSTAMP:20260421T153113
CREATED:20200116T025836Z
LAST-MODIFIED:20200116T025836Z
UID:1190-1582905600-1582916400@elmarovineyard.com
SUMMARY:Music in the Crush Pad by David Hartman\, 4-7pm
DESCRIPTION:Join Elmaro in welcoming back David to an afternoon of wine\, music\, and hopefully some cheese. David will be playing 4-7pm.
URL:https://elmarovineyard.com/event/music-in-the-crush-pad-by-david-hartman-4-7pm/
END:VEVENT
BEGIN:VEVENT
DTSTART;TZID=UTC:20200229T083000
DTEND;TZID=UTC:20200229T093000
DTSTAMP:20260421T153113
CREATED:20200116T030205Z
LAST-MODIFIED:20200116T030205Z
UID:1192-1582965000-1582968600@elmarovineyard.com
SUMMARY:Yoga & Brunch\, 8:30am
DESCRIPTION:Join Laura (co-owner and winemaker) for a relaxing hour of yoga followed by a continental brunch and a mimosa. $15/person\, and reservations can be made by calling 608-534-6456.
URL:https://elmarovineyard.com/event/yoga-brunch-830am-2/
ATTACH;FMTTYPE=image/jpeg:https://elmarovineyard.com/wp-content/uploads/2019/10/Mimosa-Yoga.jpg
END:VEVENT
BEGIN:VEVENT
DTSTART;TZID=UTC:20200229T100000
DTEND;TZID=UTC:20200229T180000
DTSTAMP:20260421T153113
CREATED:20200116T030417Z
LAST-MODIFIED:20200116T030417Z
UID:1194-1582970400-1582999200@elmarovineyard.com
SUMMARY:Nachos & Sangrias at Elmaro\, 10-6pm
DESCRIPTION:Shake off winter with fruity Elmaro Rosa Sangria for $6 a glass\, and nachos for $3.
URL:https://elmarovineyard.com/event/nachos-sangrias-at-elmaro-10-6pm/
END:VEVENT
BEGIN:VEVENT
DTSTART;TZID=UTC:20200307T100000
DTEND;TZID=UTC:20200307T120000
DTSTAMP:20260421T153113
CREATED:20200303T005240Z
LAST-MODIFIED:20200303T005240Z
UID:1221-1583575200-1583582400@elmarovineyard.com
SUMMARY:SOLD OUT\, Bloedow's Donut and Wine Pairing\, 10am
DESCRIPTION:Bloedow’s donuts and Elmaro wine pairings! On March 7th at 10 a.m.\, for $15 per person\, we will have donut and wine pairing samples! Five donut samples will be paired with a variety of Elmaro wines\, including a mimosa. Please call the tasting room at 608-534-6456 for required reservations.
URL:https://elmarovineyard.com/event/sold-out-bloedows-donut-and-wine-pairing-10am/
ATTACH;FMTTYPE=image/jpeg:https://elmarovineyard.com/wp-content/uploads/2020/01/donut.jpg
END:VEVENT
BEGIN:VEVENT
DTSTART;TZID=UTC:20200307T140000
DTEND;TZID=UTC:20200307T170000
DTSTAMP:20260421T153113
CREATED:20200107T023444Z
LAST-MODIFIED:20200303T005734Z
UID:1170-1583589600-1583600400@elmarovineyard.com
SUMMARY:Music at Elmaro by Sampson and Son\, 2-5pm
DESCRIPTION:This father/son duo will fill the Crush Pad with music from 2-5 p.m.
URL:https://elmarovineyard.com/event/music-at-elmaro-by-sampson-and-son-2-5pm/
ATTACH;FMTTYPE=image/jpeg:https://elmarovineyard.com/wp-content/uploads/2019/09/Rick-and-Aric-Sampson.jpg
END:VEVENT
BEGIN:VEVENT
DTSTART;TZID=UTC:20200308T130000
DTEND;TZID=UTC:20200308T160000
DTSTAMP:20260421T153113
CREATED:20200303T005953Z
LAST-MODIFIED:20200303T005953Z
UID:1224-1583672400-1583683200@elmarovineyard.com
SUMMARY:1-4pm\, Artist Meet and Greet with Annie Gasper
DESCRIPTION:Come and talk with Annie Gasper about her watercolor paintings from 1-4 p.m. Nature has always been an inspiration for her paintings\, and she enjoys the challenges that go along with watercolors.
URL:https://elmarovineyard.com/event/1-4pm-artist-meet-and-greet-with-annie-gasper/
ATTACH;FMTTYPE=image/jpeg:https://elmarovineyard.com/wp-content/uploads/2020/03/Annie-Gasper.jpg
END:VEVENT
BEGIN:VEVENT
DTSTART;TZID=UTC:20200308T130000
DTEND;TZID=UTC:20200308T160000
DTSTAMP:20260421T153113
CREATED:20200116T024259Z
LAST-MODIFIED:20200303T010253Z
UID:1177-1583672400-1583683200@elmarovineyard.com
SUMMARY:Music at Elmaro by Right Side Up\, 1-4pm
DESCRIPTION:Terry Gray and Ward Anderson are “RIGHT SIDE UP”.\nTwo military veterans that identify music as a major part their lives\, these guys just love making music and have a passion for harmony.\nWeaving acoustic rock\, folk\, bluegrass and country\, flavored with a little gospel\, they mix old and new to produce today’s feel good times. Come join them and enjoy music that will put a smile on your face and leave you asking for more.
URL:https://elmarovineyard.com/event/music-at-elmaro-by-right-side-up/
ATTACH;FMTTYPE=image/jpeg:https://elmarovineyard.com/wp-content/uploads/2019/11/Right-Side-Up.jpg
END:VEVENT
BEGIN:VEVENT
DTSTART;TZID=UTC:20200313T160000
DTEND;TZID=UTC:20200313T190000
DTSTAMP:20260421T153113
CREATED:20200303T010617Z
LAST-MODIFIED:20200303T010617Z
UID:1228-1584115200-1584126000@elmarovineyard.com
SUMMARY:4-7pm\, Music in the Tasting Room by Chris Rude
DESCRIPTION:Join us for a relaxing Friday evening of music and wine! Chris will be delighting us with his classical guitar styling while we enjoy $1 off glasses of wine and some delicious cheese plates.
URL:https://elmarovineyard.com/event/4-7pm-music-in-the-tasting-room-by-chris-rude/
ATTACH;FMTTYPE=image/jpeg:https://elmarovineyard.com/wp-content/uploads/2019/07/Chris-Rude-2.jpg
END:VEVENT
BEGIN:VEVENT
DTSTART;TZID=UTC:20200314T083000
DTEND;TZID=UTC:20200314T093000
DTSTAMP:20260421T153113
CREATED:20200303T010805Z
LAST-MODIFIED:20200303T010805Z
UID:1230-1584174600-1584178200@elmarovineyard.com
SUMMARY:8:30am\, Yoga & Brunch
DESCRIPTION:Join Laura (co-owner and winemaker) for a relaxing hour of yoga followed by a continental brunch and a mimosa. $15/person\, and reservations can be made by calling 608-534-6456. Please bring your own mat.
URL:https://elmarovineyard.com/event/830am-yoga-brunch/
ATTACH;FMTTYPE=image/jpeg:https://elmarovineyard.com/wp-content/uploads/2019/10/Mimosa-Yoga.jpg
END:VEVENT
BEGIN:VEVENT
DTSTART;TZID=UTC:20200314T140000
DTEND;TZID=UTC:20200314T170000
DTSTAMP:20260421T153113
CREATED:20200303T011024Z
LAST-MODIFIED:20200303T011024Z
UID:1232-1584194400-1584205200@elmarovineyard.com
SUMMARY:2-5pm\, Music in the Crush Pad with Tim Dallman
DESCRIPTION:Help us welcome back Rochester musician (and friend) Tim Dallman as he fills the Crush Pad with music you know from 2-5 p.m.
URL:https://elmarovineyard.com/event/2-5pm-music-in-the-crush-pad-with-tim-dallman/
ATTACH;FMTTYPE=image/jpeg:https://elmarovineyard.com/wp-content/uploads/2019/07/Tim-Dallman.jpg
END:VEVENT
BEGIN:VEVENT
DTSTART;TZID=UTC:20200315T123000
DTEND;TZID=UTC:20200315T143000
DTSTAMP:20260421T153113
CREATED:20200303T011950Z
LAST-MODIFIED:20200303T011950Z
UID:1234-1584275400-1584282600@elmarovineyard.com
SUMMARY:12:30pm\, Porter\, Port\, and Chocolate Pairings
DESCRIPTION:Porters and ports were made for chocolate! This is your chance to experience the flavors of these pairings. Make your reservations for Sunday\, March 15th at 12:30 p.m.\, and you will sample 4 porters and 2 port-style wines\, each with a different chocolate. $15 plus tax per person. Please call the tasting room at 608-534-6456 for required reservations.
URL:https://elmarovineyard.com/event/1230pm-porter-port-and-chocolate-pairings/
ATTACH;FMTTYPE=image/jpeg:https://elmarovineyard.com/wp-content/uploads/2020/03/porter.jpg
END:VEVENT
BEGIN:VEVENT
DTSTART;TZID=UTC:20200319T120000
DTEND;TZID=UTC:20200319T180000
DTSTAMP:20260421T153113
CREATED:20200318T084221Z
LAST-MODIFIED:20200325T073120Z
UID:1328-1584619200-1584640800@elmarovineyard.com
SUMMARY:RETAIL SALES ONLY\, 12-6pm
DESCRIPTION:Due to the recent developments around COVID-19 and the governor’s ‘Stay-At-Home’ order\, we will be making temporary changes to our operations at Elmaro Vineyard through April 24th. These measures are meant to help ensure the health of our staff\, our guests\, and our community.\n\n\n-All events and music will be cancelled through 4/24/20.\n\n\n-We will not be offering tastings or serving wine/cheese plates at the winery during this time.\n\n\n– Wine\, cheeses\, and retail items will be available for purchase as TO-GO ORDERS ONLY.\n\n\n-Our seating areas will be closed\, and guests asked to not congregate on the patios.\n\n\n-Our bulk cheeses will be offered at reduced prices while in stock.\n\n\n-By calling the winery at 608-534-6456\, any food or wine order can be ready for your pick-up during open hours.\n\n\n-If you can’t make it to the winery\, selections of our wines are also available at local Wisconsin wine retailers and restaurants.\n\n\n-All Elmaro wines are available to be shipped to your door via UPS through our online store at https://elmarovineyard.com/d-wines/.\n\n\nThank you for your understanding and support during this.\nPlease watch our website and Facebook page for more updates as they are available.\n\n\nTasting Room Hours Through April 24th\nThursday\, Friday\, Saturday: 12-6pm\nSunday: 12-5pm
URL:https://elmarovineyard.com/event/retail-sales-only-12-6pm/2020-03-19/
END:VEVENT
BEGIN:VEVENT
DTSTART;TZID=UTC:20200322T120000
DTEND;TZID=UTC:20200322T170000
DTSTAMP:20260421T153113
CREATED:20200318T084221Z
LAST-MODIFIED:20200318T084530Z
UID:1335-1584878400-1584896400@elmarovineyard.com
SUMMARY:RETAIL SALES ONLY\, 12-5pm
DESCRIPTION:Due to the recent developments around COVID-19 we will be making temporary changes to our operations at Elmaro Vineyard through March 31st. These measures are meant to help ensure the health of our staff\, our guests\, and our community.\n\n\n-All events and music will be cancelled through 3/31/20.\n\n\n-We will not be offering tastings or serving wine/cheese plates at the winery during this time.\n\n\n– Wine\, cheeses\, and retail items will be available for purchase as TO-GO ORDERS ONLY.\n\n\n-Our seating areas will be closed\, and guests asked to not congregate on the patios.\n\n\n-Our bulk cheeses will be offered at reduced prices while in stock.\n\n\n-By calling the winery at 608-534-6456\, any food or wine order can be ready for your pick-up during open hours.\n\n\n-If you can’t make it to the winery\, selections of our wines are also available at local Wisconsin wine retailers and restaurants.\n\n\n-All Elmaro wines are available to be shipped to your door via UPS through our online store at https://elmarovineyard.com/d-wines/.\n\n\nThank you for your understanding and support during this.\nPlease watch our website and Facebook page for more updates as they are available.
URL:https://elmarovineyard.com/event/retail-sales-only-12-6pm-2020-03-22/
END:VEVENT
BEGIN:VEVENT
DTSTART;TZID=UTC:20200329T120000
DTEND;TZID=UTC:20200329T170000
DTSTAMP:20260421T153113
CREATED:20200318T084221Z
LAST-MODIFIED:20200318T084759Z
UID:1336-1585483200-1585501200@elmarovineyard.com
SUMMARY:RETAIL SALES ONLY\, 12-5pm
DESCRIPTION:Due to the recent developments around COVID-19 we will be making temporary changes to our operations at Elmaro Vineyard through March 31st. These measures are meant to help ensure the health of our staff\, our guests\, and our community.\n\n\n-All events and music will be cancelled through 3/31/20.\n\n\n-We will not be offering tastings or serving wine/cheese plates at the winery during this time.\n\n\n– Wine\, cheeses\, and retail items will be available for purchase as TO-GO ORDERS ONLY.\n\n\n-Our seating areas will be closed\, and guests asked to not congregate on the patios.\n\n\n-Our bulk cheeses will be offered at reduced prices while in stock.\n\n\n-By calling the winery at 608-534-6456\, any food or wine order can be ready for your pick-up during open hours.\n\n\n-If you can’t make it to the winery\, selections of our wines are also available at local Wisconsin wine retailers and restaurants.\n\n\n-All Elmaro wines are available to be shipped to your door via UPS through our online store at https://elmarovineyard.com/d-wines/.\n\n\nThank you for your understanding and support during this.\nPlease watch our website and Facebook page for more updates as they are available.
URL:https://elmarovineyard.com/event/retail-sales-only-12-6pm-2020-03-29/
END:VEVENT
BEGIN:VEVENT
DTSTART;TZID=UTC:20200411T093000
DTEND;TZID=UTC:20200411T113000
DTSTAMP:20260421T153113
CREATED:20200313T023340Z
LAST-MODIFIED:20200318T084746Z
UID:1300-1586597400-1586604600@elmarovineyard.com
SUMMARY:CANCELED - Elmaro's Annual Easter Egg Hunt
DESCRIPTION:CANCELED \nBring your family to Elmaro for fun\, prizes\, cookies\, and music! Our Annual Easter Egg Hunt begins at 9:30 a.m. Egg hunts for all ages\, and prizes for all children. Cookies and hot cocoa available for purchase. Stick around for music by Hans Mayer at 10:30!
URL:https://elmarovineyard.com/event/930am-elmaros-annual-easter-egg-hunt/
ATTACH;FMTTYPE=image/jpeg:https://elmarovineyard.com/wp-content/uploads/2020/03/easter-bunny.jpg
END:VEVENT
BEGIN:VEVENT
DTSTART;VALUE=DATE:20200412
DTEND;VALUE=DATE:20200413
DTSTAMP:20260421T153113
CREATED:20200303T023320Z
LAST-MODIFIED:20200303T023320Z
UID:1297-1586649600-1586735999@elmarovineyard.com
SUMMARY:CLOSED
DESCRIPTION:Closed for Easter
URL:https://elmarovineyard.com/event/closed-2/
ATTACH;FMTTYPE=image/jpeg:https://elmarovineyard.com/wp-content/uploads/2020/03/easter.jpg
END:VEVENT
BEGIN:VEVENT
DTSTART;TZID=UTC:20200424T120000
DTEND;TZID=UTC:20200424T180000
DTSTAMP:20260421T153113
CREATED:20200303T031334Z
LAST-MODIFIED:20200414T020217Z
UID:1315-1587729600-1587751200@elmarovineyard.com
SUMMARY:Arbor Day Tree Give-away
DESCRIPTION:Arbor Day is today\, April 24th! Join the celebration at Elmaro\, as we give away a white pine seedling to the first 50 guests through our doors. Earth Day celebrates the support for environmental protection\, and we can do that by planting trees. The white pine is the symbol of Elmaro\, and by planting this seedling\, you can do your part to benefit local communities\, increase wildlife habitat\, and combat climate change.
URL:https://elmarovineyard.com/event/arbor-day-tree-give-away/
ATTACH;FMTTYPE=image/jpeg:https://elmarovineyard.com/wp-content/uploads/2019/07/tree.jpg
END:VEVENT
BEGIN:VEVENT
DTSTART;TZID=UTC:20200613T123000
DTEND;TZID=UTC:20200613T170000
DTSTAMP:20260421T153113
CREATED:20200608T173417Z
LAST-MODIFIED:20200608T180028Z
UID:1566-1592051400-1592067600@elmarovineyard.com
SUMMARY:BBQ & BLUES Music by The Pinch Hitters
DESCRIPTION:Mouth-watering barbecue by Sweet Lou’s Barbecue Truck from 12:30-5:00\, or as supplies last. \nMusic by The Pinch Hitters from 2-5 p.m.
URL:https://elmarovineyard.com/event/bbq-blues-music-by-the-pinch-hitters/
ATTACH;FMTTYPE=image/jpeg:https://elmarovineyard.com/wp-content/uploads/2020/06/BBQ-Blues.jpg
END:VEVENT
BEGIN:VEVENT
DTSTART;TZID=UTC:20200614T130000
DTEND;TZID=UTC:20200614T160000
DTSTAMP:20260421T153113
CREATED:20200608T173700Z
LAST-MODIFIED:20200608T180103Z
UID:1569-1592139600-1592150400@elmarovineyard.com
SUMMARY:Music Under the Tent with James Grant
DESCRIPTION:Enjoy the outdoors with a beautiful view of vineyards & bluffs\, a glass of Elmaro wine\, and some great tunes by James Grant. James will be singing familiar songs all afternoon that will surely have you tapping your toes!
URL:https://elmarovineyard.com/event/music-under-the-tent-with-james-grant/
ATTACH;FMTTYPE=image/jpeg:https://elmarovineyard.com/wp-content/uploads/2020/06/102448777_2964313920301345_3050318913586855936_n.jpg
END:VEVENT
BEGIN:VEVENT
DTSTART;VALUE=DATE:20200618
DTEND;VALUE=DATE:20200619
DTSTAMP:20260421T153113
CREATED:20200618T191647Z
LAST-MODIFIED:20200618T191647Z
UID:1632-1592438400-1592524799@elmarovineyard.com
SUMMARY:Covid-10 Update
DESCRIPTION:Doing our part to keep everyone safe. \nDue to Trempealeau County’s recent update to a severe risk of Covid-19 exposure we are following the health department’s recommendations to only allow for curbside pickup until further notice. Check back weekly for updates of our hours.
URL:https://elmarovineyard.com/event/covid-10-update/
ATTACH;FMTTYPE=image/jpeg:https://elmarovineyard.com/wp-content/uploads/2020/06/June18Post.jpg
END:VEVENT
BEGIN:VEVENT
DTSTART;TZID=UTC:20200618T170000
DTEND;TZID=UTC:20200618T193000
DTSTAMP:20260421T153113
CREATED:20200608T164819Z
LAST-MODIFIED:20200618T184628Z
UID:1575-1592499600-1592508600@elmarovineyard.com
SUMMARY:Cancelled - Yoga in the Vineyard
DESCRIPTION:Cancelled – Two practices:  5pm Adaptive Vinyasa – Using a chair throughout the practice. \n6:30 – Sunset Vinyasa \nBYOM(mat)
URL:https://elmarovineyard.com/event/yoga-in-the-vineyard-2020-06-18/
ATTACH;FMTTYPE=image/jpeg:https://elmarovineyard.com/wp-content/uploads/2020/06/Yoga.jpg
END:VEVENT
BEGIN:VEVENT
DTSTART;VALUE=DATE:20200619
DTEND;VALUE=DATE:20200620
DTSTAMP:20260421T153113
CREATED:20200608T010046Z
LAST-MODIFIED:20200608T175959Z
UID:1572-1592524800-1592611199@elmarovineyard.com
SUMMARY:Chocolate Truffle Pig Release
DESCRIPTION:Truffle Pig is back! The chocolate enhanced dessert port-style wine will be available at Elmaro on June 19th at noon.
URL:https://elmarovineyard.com/event/chocolate-truffle-pig-release/
ATTACH;FMTTYPE=image/jpeg:https://elmarovineyard.com/wp-content/uploads/2020/06/100843788_2960094067389997_7437325095292370944_o-1.jpg
END:VEVENT
BEGIN:VEVENT
DTSTART;TZID=UTC:20200619T150000
DTEND;TZID=UTC:20200619T180000
DTSTAMP:20260421T153113
CREATED:20200608T180308Z
LAST-MODIFIED:20200618T184835Z
UID:1591-1592578800-1592589600@elmarovineyard.com
SUMMARY:Cancelled - Music by Jeani and the Dreamers
DESCRIPTION:Cancelled – Jeani and the Dreamers will perform from 3-6 p.m.
URL:https://elmarovineyard.com/event/music-by-jeani-and-the-dreamers-2/
ATTACH;FMTTYPE=image/jpeg:https://elmarovineyard.com/wp-content/uploads/2020/06/101682765_2957029894363081_6251482133785739264_o.jpg
END:VEVENT
BEGIN:VEVENT
DTSTART;TZID=UTC:20200620T123000
DTEND;TZID=UTC:20200620T170000
DTSTAMP:20260421T153113
CREATED:20200608T180547Z
LAST-MODIFIED:20200618T184238Z
UID:1594-1592656200-1592672400@elmarovineyard.com
SUMMARY:Cancelled - Iguana's Food Truck
DESCRIPTION:Cancelled – Iguana’s Food Truck out of La Crosse will be serving authentic mexican fare at Elmaro on June 20th from 12:30-5:00 p.m.
URL:https://elmarovineyard.com/event/iguanas-food-truck/
ATTACH;FMTTYPE=image/jpeg:https://elmarovineyard.com/wp-content/uploads/2020/06/101468767_2967786176620786_7099205074815025152_n.jpg
END:VEVENT
BEGIN:VEVENT
DTSTART;TZID=UTC:20200620T140000
DTEND;TZID=UTC:20200620T170000
DTSTAMP:20260421T153113
CREATED:20200608T180709Z
LAST-MODIFIED:20200618T184435Z
UID:1597-1592661600-1592672400@elmarovineyard.com
SUMMARY:Cancelled - Music by The John Paulson Jazz Trio
DESCRIPTION:Cancelled – The instrumental jazz sounds of the John Paulson Jazz Trio will fill the vineyard with music from 2-5 p.m. on June 20th.
URL:https://elmarovineyard.com/event/music-by-the-john-paulson-jazz-trio-3/
ATTACH;FMTTYPE=image/jpeg:https://elmarovineyard.com/wp-content/uploads/2020/06/101600469_2957035037695900_263129105510170624_o.jpg
END:VEVENT
BEGIN:VEVENT
DTSTART;VALUE=DATE:20200621
DTEND;VALUE=DATE:20200622
DTSTAMP:20260421T153113
CREATED:20200608T180841Z
LAST-MODIFIED:20200608T180841Z
UID:1600-1592697600-1592783999@elmarovineyard.com
SUMMARY:Father's Day
DESCRIPTION:
URL:https://elmarovineyard.com/event/fathers-day/
END:VEVENT
BEGIN:VEVENT
DTSTART;TZID=UTC:20200621T130000
DTEND;TZID=UTC:20200621T160000
DTSTAMP:20260421T153113
CREATED:20200608T180952Z
LAST-MODIFIED:20200618T184739Z
UID:1602-1592744400-1592755200@elmarovineyard.com
SUMMARY:Cancelled - Music by Paul Leithold & Friends
DESCRIPTION:Cancelled – Paul Leithold and his friend will perform from 1-4 p.m. on June 21st.
URL:https://elmarovineyard.com/event/music-by-paul-leithold-friends/
ATTACH;FMTTYPE=image/jpeg:https://elmarovineyard.com/wp-content/uploads/2020/06/101052331_2957038254362245_8387483143770210304_o.jpg
END:VEVENT
BEGIN:VEVENT
DTSTART;VALUE=DATE:20200625
DTEND;VALUE=DATE:20200626
DTSTAMP:20260421T153113
CREATED:20200625T033716Z
LAST-MODIFIED:20200625T033716Z
UID:1653-1593043200-1593129599@elmarovineyard.com
SUMMARY:Covid Update
DESCRIPTION:Trempealeau County has downgraded its risk.  The recommendations allow us to open to outdoor seating on the patio and in the vineyard!
URL:https://elmarovineyard.com/event/covid-update/
END:VEVENT
BEGIN:VEVENT
DTSTART;TZID=UTC:20200627T090000
DTEND;TZID=UTC:20200627T100000
DTSTAMP:20260421T153113
CREATED:20200608T181148Z
LAST-MODIFIED:20200608T181148Z
UID:1605-1593248400-1593252000@elmarovineyard.com
SUMMARY:Yoga & Brunch
DESCRIPTION:Join Laura (co-owner and winemaker) for a relaxing hour of yoga followed by a continental brunch and a mimosa. $15/person\, and reservations can be made by calling 608-534-6456. Please bring your own mat.
URL:https://elmarovineyard.com/event/yoga-brunch-3/
ATTACH;FMTTYPE=image/jpeg:https://elmarovineyard.com/wp-content/uploads/2020/06/82850785_2957051554360915_4314581428093321216_n.jpg
END:VEVENT
BEGIN:VEVENT
DTSTART;TZID=UTC:20200627T140000
DTEND;TZID=UTC:20200627T170000
DTSTAMP:20260421T153113
CREATED:20200622T163811Z
LAST-MODIFIED:20200622T163855Z
UID:1637-1593266400-1593277200@elmarovineyard.com
SUMMARY:Music by Right Side Up
DESCRIPTION:It’ll be a great Saturday to rock to the tunes of Right Side Up from 2-5 p.m.!
URL:https://elmarovineyard.com/event/music-by-right-side-up/
ATTACH;FMTTYPE=image/jpeg:https://elmarovineyard.com/wp-content/uploads/2020/06/104385074_3011086598957410_7958345602808426612_o.jpg
END:VEVENT
END:VCALENDAR