BEGIN:VCALENDAR
VERSION:2.0
PRODID:-//Elmaro Vineyard - ECPv6.15.20//NONSGML v1.0//EN
CALSCALE:GREGORIAN
METHOD:PUBLISH
X-WR-CALNAME:Elmaro Vineyard
X-ORIGINAL-URL:https://elmarovineyard.com
X-WR-CALDESC:Events for Elmaro Vineyard
REFRESH-INTERVAL;VALUE=DURATION:PT1H
X-Robots-Tag:noindex
X-PUBLISHED-TTL:PT1H
BEGIN:VTIMEZONE
TZID:UTC
BEGIN:STANDARD
TZOFFSETFROM:+0000
TZOFFSETTO:+0000
TZNAME:UTC
DTSTART:20230101T000000
END:STANDARD
END:VTIMEZONE
BEGIN:VEVENT
DTSTART;TZID=UTC:20240412T190000
DTEND;TZID=UTC:20240412T210000
DTSTAMP:20260421T192532
CREATED:20240403T220529Z
LAST-MODIFIED:20240403T220529Z
UID:5060-1712948400-1712955600@elmarovineyard.com
SUMMARY:Bingo Night
DESCRIPTION:Bingo night at Elmaro Vineyard\, Friday\, April 12th\, 7:00 p.m.! No registration fee\, but reservations are required. Two complimentary bingo cards for each guest\, and assorted prizes! Bingo will begin promptly at 7:00 p.m\, reservations at https://www.exploretock.com/elmarovineyard/event/475978/bingo-night
URL:https://elmarovineyard.com/event/bingo-night-8/
ATTACH;FMTTYPE=image/png:https://elmarovineyard.com/wp-content/uploads/2024/04/CAM-use-this-BINGO-facebook-event-cover-7.png
END:VEVENT
BEGIN:VEVENT
DTSTART;TZID=UTC:20240413T100000
DTEND;TZID=UTC:20240413T110000
DTSTAMP:20260421T192532
CREATED:20240313T161424Z
LAST-MODIFIED:20240313T161424Z
UID:4988-1713002400-1713006000@elmarovineyard.com
SUMMARY:Yoga & Brunch
DESCRIPTION:Join Laura (co-owner and winemaker) for a relaxing hour of vinyasa flow yoga practice\, followed by a continental brunch and a mimosa. $23/person\, reservations at https://www.exploretock.com/elmarovineyard/event/473396/yoga-brunch
URL:https://elmarovineyard.com/event/yoga-brunch-15/
ATTACH;FMTTYPE=image/png:https://elmarovineyard.com/wp-content/uploads/2024/03/65152668_2209855956011054_183850610590744576_n.png
END:VEVENT
BEGIN:VEVENT
DTSTART;TZID=UTC:20240413T120000
DTEND;TZID=UTC:20240413T170000
DTSTAMP:20260421T192532
CREATED:20240410T161055Z
LAST-MODIFIED:20240410T161055Z
UID:5076-1713009600-1713027600@elmarovineyard.com
SUMMARY:Woodshed Pizza
DESCRIPTION:Pizza and wine!  Serving 12-5\, as supplies last.
URL:https://elmarovineyard.com/event/woodshed-pizza-2/
ATTACH;FMTTYPE=image/png:https://elmarovineyard.com/wp-content/uploads/2024/04/Woodshed-pizza.png
END:VEVENT
BEGIN:VEVENT
DTSTART;TZID=UTC:20240413T140000
DTEND;TZID=UTC:20240413T170000
DTSTAMP:20260421T192532
CREATED:20240313T220124Z
LAST-MODIFIED:20240313T220124Z
UID:5003-1713016800-1713027600@elmarovineyard.com
SUMMARY:Music by Curt Glenna
DESCRIPTION:Get your Saturday up and going with the tunes of Curt Glenna from 2-5 p.m.
URL:https://elmarovineyard.com/event/music-by-curt-glenna-4/
ATTACH;FMTTYPE=image/jpeg:https://elmarovineyard.com/wp-content/uploads/2024/03/Curt-Glenna2.jpg
END:VEVENT
BEGIN:VEVENT
DTSTART;TZID=UTC:20240414T120000
DTEND;TZID=UTC:20240414T170000
DTSTAMP:20260421T192532
CREATED:20240409T172743Z
LAST-MODIFIED:20240409T172743Z
UID:5073-1713096000-1713114000@elmarovineyard.com
SUMMARY:Marquette Vertical Tasting
DESCRIPTION:It’s National Library Week\, and that means Elmaro’s Wine Library is open this week only! Try a flight of five rare Marquette vintages (2012\, 2013\, 2015\, 2017\, 2020) for only $19. This is available on April 11th\, 12th\, and 14th\, and no reservations are needed.
URL:https://elmarovineyard.com/event/marquette-vertical-tasting-3/
ATTACH;FMTTYPE=image/png:https://elmarovineyard.com/wp-content/uploads/2024/04/Marquette-Vertical-Tasting-April-11th-12th-and-14th-2.png
END:VEVENT
BEGIN:VEVENT
DTSTART;TZID=UTC:20240414T130000
DTEND;TZID=UTC:20240414T160000
DTSTAMP:20260421T192532
CREATED:20240313T220354Z
LAST-MODIFIED:20240313T220354Z
UID:5006-1713099600-1713110400@elmarovineyard.com
SUMMARY:Music by Mac Cherry
DESCRIPTION:Spend your Sunday at Elmaro with a glass of wine and the tunes of Mac Cherry.
URL:https://elmarovineyard.com/event/music-by-mac-cherry-2/
ATTACH;FMTTYPE=image/jpeg:https://elmarovineyard.com/wp-content/uploads/2024/03/mac-cherry.jpg
END:VEVENT
BEGIN:VEVENT
DTSTART;TZID=UTC:20240418T120000
DTEND;TZID=UTC:20240418T200000
DTSTAMP:20260421T192532
CREATED:20240403T220050Z
LAST-MODIFIED:20240403T220050Z
UID:5056-1713441600-1713470400@elmarovineyard.com
SUMMARY:Puzzle Day
DESCRIPTION:Find piece of mind at Elmaro’s Puzzle Day\, Thursday\, March 18th\, 12-8 p.m.\nRegister your team of up to 4 guests ($20/team of 4 people)\, and come to Elmaro and assemble our pre-selected 300 piece puzzle. Elmaro supplies the puzzle\, and the team keeps the puzzle after assembly. Teams are timed by Elmaro staff on the puzzle assembly\, and the fastest two teams win Elmaro gift cards.\nFor the winning prizes\, $5 from each team registration goes to the payout in a 60/40 split for 1st and 2nd place\, so the more teams\, the bigger the Elmaro gift cards. Winners will be notified at the end of the day.  Registration at http://www.exploretock.com/elmarovineyard and scroll down to Puzzle Day.
URL:https://elmarovineyard.com/event/puzzle-day-3/
ATTACH;FMTTYPE=image/png:https://elmarovineyard.com/wp-content/uploads/2024/04/Puzzle-Day-Thursday-April-18th-1920-x-1080-px.png
END:VEVENT
BEGIN:VEVENT
DTSTART;TZID=UTC:20240419T183000
DTEND;TZID=UTC:20240419T200000
DTSTAMP:20260421T192532
CREATED:20240205T222222Z
LAST-MODIFIED:20240205T222222Z
UID:4883-1713551400-1713556800@elmarovineyard.com
SUMMARY:Friday Spring Succulent Class
DESCRIPTION:Are you eager to get your hands in the dirt and start gardening and planting? We sure are! As we wait for the soil to warm it’s the perfect time to plant a succulent container that you can enjoy inside until the weather permits it to be added to your outside decorations\, or continue to enjoy it year-round in the  house. Bring a container of your choice 12 inches or less in size\, or two or more smaller containers – if it will hold soil (pail\, metal can\, boots) you can plant it so be creative! We will supply instruction\, soil\, and succulents for you to create the perfect reflection of your style and personality. Friday\, April 19th\, 6:30 p.m.\, $48/person\, reservations at https://www.exploretock.com/elmarovineyard/event/463727/friday-spring-succulent-class
URL:https://elmarovineyard.com/event/friday-spring-succulent-class-2/
ATTACH;FMTTYPE=image/png:https://elmarovineyard.com/wp-content/uploads/2024/02/Friday-Succulent-Class-April-19th-630-p.m.-5.png
END:VEVENT
BEGIN:VEVENT
DTSTART;TZID=UTC:20240420T093000
DTEND;TZID=UTC:20240420T110000
DTSTAMP:20260421T192532
CREATED:20240205T222507Z
LAST-MODIFIED:20240205T222507Z
UID:4886-1713605400-1713610800@elmarovineyard.com
SUMMARY:Saturday Succulent Class
DESCRIPTION:Are you eager to get your hands in the dirt and start gardening and planting? We sure are! As we wait for the soil to warm it’s the perfect time to plant a succulent container that you can enjoy inside until the weather permits it to be added to your outside decorations\, or continue to enjoy it year-round in the house. Bring a container of your choice 12 inches or less in size\, or two or more smaller containers – if it will hold soil (pail\, metal can\, boots) you can plant it so be creative! We will supply instruction\, soil\, and succulents for you to create the perfect reflection of your style and\npersonality. SATURDAY\, April 20th\, 9:30 a.m.\, $48/person\, reservations at https://www.exploretock.com/elmarovineyard/event/463734/saturday-succulent-class
URL:https://elmarovineyard.com/event/saturday-succulent-class-2/
ATTACH;FMTTYPE=image/png:https://elmarovineyard.com/wp-content/uploads/2024/02/Friday-Succulent-Class-April-19th-630-p.m.-6.png
END:VEVENT
BEGIN:VEVENT
DTSTART;TZID=UTC:20240420T140000
DTEND;TZID=UTC:20240420T170000
DTSTAMP:20260421T192532
CREATED:20240313T220659Z
LAST-MODIFIED:20240313T220659Z
UID:5009-1713621600-1713632400@elmarovineyard.com
SUMMARY:Music by Quenten Brown
DESCRIPTION:Quenten is a singer\, songwriter\, art teacher\, artist\, and landscaper\, and he celebrates the past music that carved him into the person he is today\, while cultivating the memories that those tunes invoke deep inside him.
URL:https://elmarovineyard.com/event/music-by-quenten-brown-3/
ATTACH;FMTTYPE=image/jpeg:https://elmarovineyard.com/wp-content/uploads/2024/03/quenten-brown.jpg
END:VEVENT
BEGIN:VEVENT
DTSTART;TZID=UTC:20240421T130000
DTEND;TZID=UTC:20240421T160000
DTSTAMP:20260421T192532
CREATED:20240313T220913Z
LAST-MODIFIED:20240314T183433Z
UID:5012-1713704400-1713715200@elmarovineyard.com
SUMMARY:Music by James Grant
DESCRIPTION:James Grant covers 60s and 70s easy rock\, and he’s filling the winery with music from 1-4 p.m.
URL:https://elmarovineyard.com/event/music-by-james-grant-20/
ATTACH;FMTTYPE=image/jpeg:https://elmarovineyard.com/wp-content/uploads/2024/03/James-Grant.jpg
END:VEVENT
BEGIN:VEVENT
DTSTART;TZID=UTC:20240421T130000
DTEND;TZID=UTC:20240421T160000
DTSTAMP:20260421T192532
CREATED:20240405T201042Z
LAST-MODIFIED:20240405T201042Z
UID:5064-1713704400-1713715200@elmarovineyard.com
SUMMARY:Meet the April Artists\, Aubrey Hogan and Jeff Nelson
DESCRIPTION:Meet Aubrey Hogan and Jeff Nelson\, the April Artists of the Month at Elmaro. Their stunning nature paintings will take your breath away\, and you can talk to them and learn what inspires them.
URL:https://elmarovineyard.com/event/meet-the-april-artists-aubrey-hogan-and-jeff-nelson/
ATTACH;FMTTYPE=image/png:https://elmarovineyard.com/wp-content/uploads/2024/04/Jeff-Nelson-1.png
END:VEVENT
BEGIN:VEVENT
DTSTART;TZID=UTC:20240425T110000
DTEND;TZID=UTC:20240425T120000
DTSTAMP:20260421T192532
CREATED:20240319T203912Z
LAST-MODIFIED:20240319T203912Z
UID:5024-1714042800-1714046400@elmarovineyard.com
SUMMARY:Adaptive Yoga
DESCRIPTION:At 11:00 a.m.\, Join Laura (co-owner and winemaker) for a one-hour yoga practice for anyone with a modified range of motion.  Chairs are available for sitting or standing prop\, no former yoga training is required\, and please bring your own mat and water bottle\, $2 per person.  (We welcome drop-ins!)
URL:https://elmarovineyard.com/event/adaptive-yoga-16/2024-04-25/
ATTACH;FMTTYPE=image/jpeg:https://elmarovineyard.com/wp-content/uploads/2024/03/adaptive1-scaled.jpg
END:VEVENT
BEGIN:VEVENT
DTSTART;TZID=UTC:20240425T180000
DTEND;TZID=UTC:20240425T193000
DTSTAMP:20260421T192532
CREATED:20240403T212649Z
LAST-MODIFIED:20240403T212649Z
UID:5050-1714068000-1714073400@elmarovineyard.com
SUMMARY:Trivia Night
DESCRIPTION:It’s time to show off your knowledge of trivia\, AND spend an evening with your friends.  Get your team registered for Trivia Night at Elmaro on Thursday\, April 25th\, 6:00-7:30 p.m. There’s no fee\, but registration of teams is required. Team sizes of up to 6 people only\, and prizes awarded for 1st\, 2nd\, and 3rd place teams.  When registering\, please register the total number of guests on your team.  Required reservations at https://www.exploretock.com/elmarovineyard/event/475979/trivia-night
URL:https://elmarovineyard.com/event/trivia-night-4/
ATTACH;FMTTYPE=image/png:https://elmarovineyard.com/wp-content/uploads/2024/04/trivia-night-5.png
END:VEVENT
BEGIN:VEVENT
DTSTART;TZID=UTC:20240426T120000
DTEND;TZID=UTC:20240426T180000
DTSTAMP:20260421T192532
CREATED:20240403T212954Z
LAST-MODIFIED:20240403T212954Z
UID:5053-1714132800-1714154400@elmarovineyard.com
SUMMARY:White Pine Seedling Giveaway
DESCRIPTION:On this Arbor Day\, Friday\, April 26th\, a national day to focus on the importance of trees\, Elmaro Vineyard will give away a white pine seedling to our guests\, as supplies last. By planting this seedling\, you can do your part to benefit local communities\, increase wildlife habitat\, and combat climate change.
URL:https://elmarovineyard.com/event/white-pine-seedling-giveaway-3/
ATTACH;FMTTYPE=image/jpeg:https://elmarovineyard.com/wp-content/uploads/2024/04/0000812_tree-seedlings-in-bulk_510.jpg
END:VEVENT
BEGIN:VEVENT
DTSTART;TZID=UTC:20240427T140000
DTEND;TZID=UTC:20240427T170000
DTSTAMP:20260421T192532
CREATED:20240314T183950Z
LAST-MODIFIED:20240314T183950Z
UID:5017-1714226400-1714237200@elmarovineyard.com
SUMMARY:Music by Tim Dallman
DESCRIPTION:Tim Dallman is a guitarist/vocalist who writes and performs his own rock\, blues\, jazz and folk-infused original material\, as well as a variety of classic and contemporary rock and pop cover songs.
URL:https://elmarovineyard.com/event/music-by-tim-dallman-11/
ATTACH;FMTTYPE=image/jpeg:https://elmarovineyard.com/wp-content/uploads/2024/03/tim-dallman4.jpg
END:VEVENT
BEGIN:VEVENT
DTSTART;TZID=UTC:20240428T120000
DTEND;TZID=UTC:20240428T163000
DTSTAMP:20260421T192532
CREATED:20240319T205511Z
LAST-MODIFIED:20240319T205511Z
UID:5032-1714305600-1714321800@elmarovineyard.com
SUMMARY:Pet Parent Day Dog Walk in the Vineyard
DESCRIPTION:Pssst….this is for the dogs! Celebrate your humans and bring them to Elmaro on April 28th for a self-guided dog walk through the vineyard! There will be dog treat stops along they way\, and there’s no fee or registration.  Maps and info are available upon arrival. \n 
URL:https://elmarovineyard.com/event/pet-parent-day-dog-walk-in-the-vineyard/
ATTACH;FMTTYPE=image/png:https://elmarovineyard.com/wp-content/uploads/2024/03/Pet-Parent-Day-4.png
END:VEVENT
BEGIN:VEVENT
DTSTART;TZID=UTC:20240428T130000
DTEND;TZID=UTC:20240428T160000
DTSTAMP:20260421T192532
CREATED:20240313T215835Z
LAST-MODIFIED:20240319T203655Z
UID:5000-1714309200-1714320000@elmarovineyard.com
SUMMARY:Music by Good To Go
DESCRIPTION:Sit back on Sunday with a glass of wine and listen to the sounds of Good to Go\, 1-4 p.m.
URL:https://elmarovineyard.com/event/music-by-good-to-go-4/
ATTACH;FMTTYPE=image/jpeg:https://elmarovineyard.com/wp-content/uploads/2024/03/Good-to-go2.jpg
END:VEVENT
BEGIN:VEVENT
DTSTART;TZID=UTC:20240502T110000
DTEND;TZID=UTC:20240502T120000
DTSTAMP:20260421T192532
CREATED:20240415T151743Z
LAST-MODIFIED:20240501T175559Z
UID:5080-1714647600-1714651200@elmarovineyard.com
SUMMARY:Adaptive Yoga
DESCRIPTION:At 11:00 a.m.\, Join Laura (co-owner and winemaker) for a one-hour yoga practice for anyone with a modified range of motion.  Chairs are available for sitting or standing prop\, no former yoga training is required\, and please bring your own mat and water bottle\, $2 per person.  (We welcome drop-ins!)
URL:https://elmarovineyard.com/event/adaptive-yoga-17/2024-05-02/
ATTACH;FMTTYPE=image/jpeg:https://elmarovineyard.com/wp-content/uploads/2024/04/adaptive1-scaled.jpg
END:VEVENT
BEGIN:VEVENT
DTSTART;TZID=UTC:20240503T150000
DTEND;TZID=UTC:20240503T180000
DTSTAMP:20260421T192532
CREATED:20240416T161829Z
LAST-MODIFIED:20240417T183540Z
UID:5087-1714748400-1714759200@elmarovineyard.com
SUMMARY:Music by Ryan Howe
DESCRIPTION:Ryan is a multi-instrumental performer; he will be on Keys and Guitar and will sing you some tunes! Expect to hear songs by Jackson Browne\, Eagles\, Elton John\, Bruce Hornsby\, John Mayer\, Ed Sheehan\, Hunter Hayes\, Journey\, Frank Sinatra\, Michael Buble\, Jacob Collier\, and a ton more!
URL:https://elmarovineyard.com/event/music-by-ryan-howe-2/
ATTACH;FMTTYPE=image/jpeg:https://elmarovineyard.com/wp-content/uploads/2024/04/ryan-howe-scaled.jpg
END:VEVENT
BEGIN:VEVENT
DTSTART;TZID=UTC:20240504T140000
DTEND;TZID=UTC:20240504T170000
DTSTAMP:20260421T192532
CREATED:20240416T161947Z
LAST-MODIFIED:20240416T161947Z
UID:5090-1714831200-1714842000@elmarovineyard.com
SUMMARY:Music by Sampson & Son
DESCRIPTION:Local father/son duo of Rick and Aric will fill the vineyard with tunes from 2-5 p.m.
URL:https://elmarovineyard.com/event/music-by-sampson-son-12/
ATTACH;FMTTYPE=image/jpeg:https://elmarovineyard.com/wp-content/uploads/2024/04/Sampson-duo-2-scaled.jpg
END:VEVENT
BEGIN:VEVENT
DTSTART;TZID=UTC:20240505T130000
DTEND;TZID=UTC:20240505T160000
DTSTAMP:20260421T192532
CREATED:20240313T213720Z
LAST-MODIFIED:20240313T213720Z
UID:4991-1714914000-1714924800@elmarovineyard.com
SUMMARY:Classical guitar by Chris Rude
DESCRIPTION:The sounds of classical guitar will waft through the vineyard as you enjoy a peaceful Sunday.
URL:https://elmarovineyard.com/event/classical-guitar-by-chris-rude-6/
ATTACH;FMTTYPE=image/jpeg:https://elmarovineyard.com/wp-content/uploads/2024/03/Christopher-Rude.jpg
END:VEVENT
BEGIN:VEVENT
DTSTART;TZID=UTC:20240505T130000
DTEND;TZID=UTC:20240505T160000
DTSTAMP:20260421T192532
CREATED:20240313T214432Z
LAST-MODIFIED:20240313T214432Z
UID:4994-1714914000-1714924800@elmarovineyard.com
SUMMARY:Meet Colleen Shore\, artist of the month
DESCRIPTION:“Feathered Friends” \nColleen’s art display of original oil paintings for the month of May is titled\, “Feathered Friends”. \n“To honor World Migratory Bird Day in May\, my display will be featuring the plight and flight of birds. \nFrom messages birds might want to give us\, to celebrating the seasonal migration of warblers.  Birders and Bird fans will enjoy the variety of ways birds are portrayed and their impact on our lives. I enjoy working in oils and continue to experiment by incorporating collage\, cold wax and different surfaces and techniques. Hope you’ll stop by and see my newest body of work. \nAs a thank you to those that help us appreciate our natural setting\, 20% of my sales in the Crush Pad at Elmaro during my May exhibit will be donated to the Friends of Trempealeau Refuge.  Also a special shout out to Bruce Bartel and Henrietta Burke for sharing their bird photos with me as inspiration for many of my paintings.” \nColleen Shore \nMore information at cshoreartwork.blogspot.com
URL:https://elmarovineyard.com/event/meet-colleen-shore-artist-of-the-month/
ATTACH;FMTTYPE=image/jpeg:https://elmarovineyard.com/wp-content/uploads/2024/03/Poised-scaled.jpg
END:VEVENT
BEGIN:VEVENT
DTSTART;TZID=UTC:20240505T130000
DTEND;TZID=UTC:20240505T160000
DTSTAMP:20260421T192532
CREATED:20240416T162200Z
LAST-MODIFIED:20240416T162200Z
UID:5093-1714914000-1714924800@elmarovineyard.com
SUMMARY:Classical guitar by Chris Rude
DESCRIPTION:Classical guitar and a glass of wine make for a perfect Saturday afternoon.  And while you are soaking in the relaxing sounds from the guitar\, you can meet the May artist\, Colleen Shore.
URL:https://elmarovineyard.com/event/classical-guitar-by-chris-rude-7/
ATTACH;FMTTYPE=image/jpeg:https://elmarovineyard.com/wp-content/uploads/2024/04/Christopher-Rude.jpg
END:VEVENT
BEGIN:VEVENT
DTSTART;TZID=UTC:20240509T110000
DTEND;TZID=UTC:20240509T120000
DTSTAMP:20260421T192532
CREATED:20240415T151743Z
LAST-MODIFIED:20240501T175600Z
UID:5082-1715252400-1715256000@elmarovineyard.com
SUMMARY:Adaptive Yoga
DESCRIPTION:At 11:00 a.m.\, Join Laura (co-owner and winemaker) for a one-hour yoga practice for anyone with a modified range of motion.  Chairs are available for sitting or standing prop\, no former yoga training is required\, and please bring your own mat and water bottle\, $2 per person.  (We welcome drop-ins!)
URL:https://elmarovineyard.com/event/adaptive-yoga-17/2024-05-09/
ATTACH;FMTTYPE=image/jpeg:https://elmarovineyard.com/wp-content/uploads/2024/04/adaptive1-scaled.jpg
END:VEVENT
BEGIN:VEVENT
DTSTART;TZID=UTC:20240509T120000
DTEND;TZID=UTC:20240509T200000
DTSTAMP:20260421T192532
CREATED:20240417T161538Z
LAST-MODIFIED:20240417T161538Z
UID:5145-1715256000-1715284800@elmarovineyard.com
SUMMARY:National Moscato Day
DESCRIPTION:Moscato gets the spotlight today\, and you can enjoy $4 glasses of this beauty.
URL:https://elmarovineyard.com/event/national-moscato-day-2/
ATTACH;FMTTYPE=image/png:https://elmarovineyard.com/wp-content/uploads/2024/04/National-Moscato-Day-Tuesday-May-9th-4-Glasses-of-Moscato-2.png
END:VEVENT
BEGIN:VEVENT
DTSTART;TZID=UTC:20240509T180000
DTEND;TZID=UTC:20240509T190000
DTSTAMP:20260421T192532
CREATED:20240501T174903Z
LAST-MODIFIED:20240501T174903Z
UID:5167-1715277600-1715281200@elmarovineyard.com
SUMMARY:Sunset Yoga
DESCRIPTION:Join Laura (co-owner and winemaker) for a one-hour vinyasa yoga flow practice. This class begins at 6:00 p.m.\, includes a complimentary beverage\, and no former yoga training required. Please bring your own mat and water bottle\, $10 per person. (We welcome drop-ins!)
URL:https://elmarovineyard.com/event/sunset-yoga-6/2024-05-09/
ATTACH;FMTTYPE=image/jpeg:https://elmarovineyard.com/wp-content/uploads/2024/05/tent-yoga.jpeg
END:VEVENT
BEGIN:VEVENT
DTSTART;TZID=UTC:20240510T173000
DTEND;TZID=UTC:20240510T193000
DTSTAMP:20260421T192532
CREATED:20240416T165922Z
LAST-MODIFIED:20240416T180006Z
UID:5125-1715362200-1715369400@elmarovineyard.com
SUMMARY:World Migratory Bird Day Social Hour and Presentation
DESCRIPTION:The Friends of Trempealeau Refuge invite you to Elmaro Vineyard for the World Migratory Bird Day celebration with the social hour at 5:30 p.m.\, followed by Stan Tekiela’s presentation\, “Bird Nests: Amazingly Ingenious and Intricate” at 6:30 PM.\nAs part of International Migratory Bird Day celebration and in conjunction with Elmaro Vineyard and Environment for America’s\, a special “Bird Day Red” wine is being released at Elmaro on May 10th.\nFor more information\, call 608.539.2311 ext. 6 log onto our website for a complete festival brochure: http://www.fws.gov/refuge/trempealeau/ \n  \n 
URL:https://elmarovineyard.com/event/bird-day/
ATTACH;FMTTYPE=image/jpeg:https://elmarovineyard.com/wp-content/uploads/2024/04/2024-bird-day.jpg
END:VEVENT
BEGIN:VEVENT
DTSTART;TZID=UTC:20240511T140000
DTEND;TZID=UTC:20240511T170000
DTSTAMP:20260421T192532
CREATED:20240416T162500Z
LAST-MODIFIED:20240416T162500Z
UID:5096-1715436000-1715446800@elmarovineyard.com
SUMMARY:Music by Colin Marshall
DESCRIPTION:A troubadour in the truest sense of the word\, Colin combines musical talents to make him a great performer. He is an outstanding singer and an impressive guitar player. Colin’s own compositions are insightful and moving\, his interpretations of other folks tunes carry a personal note and always hit the spot.
URL:https://elmarovineyard.com/event/music-by-colin-marshall/
ATTACH;FMTTYPE=image/jpeg:https://elmarovineyard.com/wp-content/uploads/2024/04/colin-marshall.jpg
END:VEVENT
BEGIN:VEVENT
DTSTART;TZID=UTC:20240512T120000
DTEND;TZID=UTC:20240512T170000
DTSTAMP:20260421T192532
CREATED:20240418T214322Z
LAST-MODIFIED:20240418T214322Z
UID:5149-1715515200-1715533200@elmarovineyard.com
SUMMARY:Mother's Day Mimosa Bar & Dessert Bar
DESCRIPTION:Mimosa Bar and Dessert Bar at Elmaro on May 12th\, 12-5 p.m.  What else is there to say?
URL:https://elmarovineyard.com/event/mothers-day-mimosa-bar-dessert-bar/
ATTACH;FMTTYPE=image/png:https://elmarovineyard.com/wp-content/uploads/2024/04/Mothers-Day-Mimosa-Bar-Dessert-Bar.png
END:VEVENT
END:VCALENDAR