BEGIN:VCALENDAR
VERSION:2.0
PRODID:-//Elmaro Vineyard - ECPv6.15.20//NONSGML v1.0//EN
CALSCALE:GREGORIAN
METHOD:PUBLISH
X-WR-CALNAME:Elmaro Vineyard
X-ORIGINAL-URL:https://elmarovineyard.com
X-WR-CALDESC:Events for Elmaro Vineyard
REFRESH-INTERVAL;VALUE=DURATION:PT1H
X-Robots-Tag:noindex
X-PUBLISHED-TTL:PT1H
BEGIN:VTIMEZONE
TZID:UTC
BEGIN:STANDARD
TZOFFSETFROM:+0000
TZOFFSETTO:+0000
TZNAME:UTC
DTSTART:20180101T000000
END:STANDARD
END:VTIMEZONE
BEGIN:VEVENT
DTSTART;TZID=UTC:20191208T120000
DTEND;TZID=UTC:20191208T170000
DTSTAMP:20260421T191122
CREATED:20191121T231648Z
LAST-MODIFIED:20191121T231648Z
UID:1075-1575806400-1575824400@elmarovineyard.com
SUMMARY:12-5pm\, Build-a-Basket Day at Elmaro
DESCRIPTION:Let Elmaro assist you with your holiday shopping. We have everything available to create your own basket\, or use some of Elmaro’s ideas. You’ll leave with the perfect gift\, even for that hard-to-buy-for person! Basket & Wrap is $10 for a basket without a a handle\, or $15 for a basket with a handle\, plus the basket contents.\nThemed basket ideas include Game Night\, Chocolate Lovers\, Wine Saver\, Light Up Winter\, Sweet Tooth\, Cheese Lovers\, Wine Glasses\, and many more!
URL:https://elmarovineyard.com/event/12-5pm-build-a-basket-day-at-elmaro/
ATTACH;FMTTYPE=image/jpeg:https://elmarovineyard.com/wp-content/uploads/2019/11/Basket.jpg
END:VEVENT
BEGIN:VEVENT
DTSTART;TZID=UTC:20191208T130000
DTEND;TZID=UTC:20191208T160000
DTSTAMP:20260421T191122
CREATED:20191026T061623Z
LAST-MODIFIED:20191026T061623Z
UID:1030-1575810000-1575820800@elmarovineyard.com
SUMMARY:1-4pm\, Music in the Crush Pad by Tim Fast
DESCRIPTION:Relax on your Sunday with award winning wines and singer/songwriter Tim Fast.
URL:https://elmarovineyard.com/event/1-4pm-music-in-the-crush-pad-by-tim-fast/
ATTACH;FMTTYPE=image/jpeg:https://elmarovineyard.com/wp-content/uploads/2019/10/Tim-Fast.jpg
END:VEVENT
BEGIN:VEVENT
DTSTART;TZID=UTC:20191210T173000
DTEND;TZID=UTC:20191210T190000
DTSTAMP:20260421T191122
CREATED:20191121T232424Z
LAST-MODIFIED:20191121T232504Z
UID:1078-1575999000-1576004400@elmarovineyard.com
SUMMARY:5:30pm\, Full Moon Hike
DESCRIPTION:On this Cold Moon\, we offer you the opportunity to hike by the light of the full moon\, explore the senses of night\, and discover the tree silhouettes against a moonlit sky. When making your reservations\, you will need to choose either the Marshland Hike (about 3 miles to the Refuge and back)\, or the Homestead Hike (narrative around the vineyard grounds)\, as we have a limited number of spaces available for each hike. Each hike will last 45-60 minutes. The hike is $10 per person\, and required reservations can be made by calling the winery at 608-534-6456. Mulled wine or hot cocoa and a s’more will follow the hike.
URL:https://elmarovineyard.com/event/530pm-full-moon-hike/
ATTACH;FMTTYPE=image/jpeg:https://elmarovineyard.com/wp-content/uploads/2019/03/Super-Moon.jpg
END:VEVENT
BEGIN:VEVENT
DTSTART;TZID=UTC:20191211T180000
DTEND;TZID=UTC:20191211T190000
DTSTAMP:20260421T191122
CREATED:20191121T233252Z
LAST-MODIFIED:20191121T233252Z
UID:1081-1576087200-1576090800@elmarovineyard.com
SUMMARY:6-7pm\, Winery Wednesday
DESCRIPTION:Have a Relaxing Night at Elmaro for Winery Wednesday at 6 p.m. Chris Rude will be playing classical guitar for the evening\, Laura will present yoga poses for stress relief\, and we will have appetizers paired with wine. There will also be 25% off all non-consignment merchandise during Winery Wednesday only. $10 per person\, call the tasting room at 608-534-6456 for reservations.
URL:https://elmarovineyard.com/event/6-7pm-winery-wednesday/
ATTACH;FMTTYPE=image/jpeg:https://elmarovineyard.com/wp-content/uploads/2019/11/10363099_925362960863128_2664812755563205488_n.jpg
END:VEVENT
BEGIN:VEVENT
DTSTART;TZID=UTC:20191213T160000
DTEND;TZID=UTC:20191213T190000
DTSTAMP:20260421T191122
CREATED:20191121T233737Z
LAST-MODIFIED:20191121T233737Z
UID:1086-1576252800-1576263600@elmarovineyard.com
SUMMARY:4-7pm\, Music by Right Side Up
DESCRIPTION:Terry Gray and Ward Anderson are “RIGHT SIDE UP”.\nTwo military veterans that identify music as a major part their lives\, these guys just love making music and have a passion for harmony. Weaving acoustic rock\, folk\, bluegrass and country\, flavored with a little gospel\, they mix old and new to produce today’s feel good times. Come join them and enjoy music that will put a smile on your face and leave you asking for more
URL:https://elmarovineyard.com/event/4-7pm-music-by-right-side-up/
ATTACH;FMTTYPE=image/jpeg:https://elmarovineyard.com/wp-content/uploads/2019/11/Right-Side-Up.jpg
END:VEVENT
BEGIN:VEVENT
DTSTART;TZID=UTC:20191214T110000
DTEND;TZID=UTC:20191214T170000
DTSTAMP:20260421T191122
CREATED:20191026T062337Z
LAST-MODIFIED:20191026T062337Z
UID:1033-1576321200-1576342800@elmarovineyard.com
SUMMARY:11am-5pm\, Kris Kringle Market
DESCRIPTION:Craft vendors\, cookie decorating\, European hot cocoa\, and Santa!!\nElmaro will be filled with all things Christmas today! We will have vendors selling their goods in the Crush Pad from 11 a.m. to 5 p.m.\, Santa will be visiting and talking with the kids from 2-4 p.m.\, and then cookie decorating from 2-4 p.m. Cookie decorating is $1 per cookie.
URL:https://elmarovineyard.com/event/11am-5pm-kris-kringle-market/
ATTACH;FMTTYPE=image/jpeg:https://elmarovineyard.com/wp-content/uploads/2019/10/Kris-Kringle-Market.jpg
END:VEVENT
BEGIN:VEVENT
DTSTART;TZID=UTC:20191215T130000
DTEND;TZID=UTC:20191215T160000
DTSTAMP:20260421T191122
CREATED:20191026T063212Z
LAST-MODIFIED:20191026T063212Z
UID:1038-1576414800-1576425600@elmarovineyard.com
SUMMARY:1-4pm\, Music by Paul Leithold & Friends
DESCRIPTION:The sounds of Paul and his friends will surround you from 1-4 p.m.
URL:https://elmarovineyard.com/event/1-4pm-music-by-paul-leithold-friends/
ATTACH;FMTTYPE=image/jpeg:https://elmarovineyard.com/wp-content/uploads/2019/10/paul-leithold.jpg
END:VEVENT
BEGIN:VEVENT
DTSTART;TZID=UTC:20191220T161500
DTEND;TZID=UTC:20191220T190000
DTSTAMP:20260421T191122
CREATED:20191026T063752Z
LAST-MODIFIED:20191026T063752Z
UID:1040-1576858500-1576868400@elmarovineyard.com
SUMMARY:4:15-7pm\, Classical Guitar by Chris Rude
DESCRIPTION:Relax before the holidays with $4 glasses of wine and classical guitar\, 4:15pm-7pm.
URL:https://elmarovineyard.com/event/415-7pm-classical-guitar-by-chris-rude/
ATTACH;FMTTYPE=image/jpeg:https://elmarovineyard.com/wp-content/uploads/2019/07/Chris-Rude-2.jpg
END:VEVENT
BEGIN:VEVENT
DTSTART;TZID=UTC:20191221T140000
DTEND;TZID=UTC:20191221T170000
DTSTAMP:20260421T191122
CREATED:20191026T064125Z
LAST-MODIFIED:20191026T064125Z
UID:1042-1576936800-1576947600@elmarovineyard.com
SUMMARY:2-5pm\, Parisian Bistro Music by Under Paris Skies
DESCRIPTION:Can’t make it to Paris? Elmaro’s bringing the streets of Paris to you! Join us for an afternoon of Parisian bistro music\, wine\, and baguettes!
URL:https://elmarovineyard.com/event/2-5pm-parisian-bistro-music-by-under-paris-skies/
ATTACH;FMTTYPE=image/jpeg:https://elmarovineyard.com/wp-content/uploads/2019/07/Under-Paris-Skies.jpg
END:VEVENT
BEGIN:VEVENT
DTSTART;TZID=UTC:20191222T130000
DTEND;TZID=UTC:20191222T160000
DTSTAMP:20260421T191122
CREATED:20191026T064542Z
LAST-MODIFIED:20191026T064542Z
UID:1044-1577019600-1577030400@elmarovineyard.com
SUMMARY:1-4pm\, Christmas music by Doug Malhum
DESCRIPTION:Get into the Christmas spirit with Doug and songs of the season!
URL:https://elmarovineyard.com/event/1-4pm-christmas-music-by-doug-malhum/
ATTACH;FMTTYPE=image/jpeg:https://elmarovineyard.com/wp-content/uploads/2019/10/Doug-M.jpg
END:VEVENT
BEGIN:VEVENT
DTSTART;TZID=UTC:20191224T120000
DTEND;TZID=UTC:20191224T170000
DTSTAMP:20260421T191122
CREATED:20191121T234524Z
LAST-MODIFIED:20191121T234524Z
UID:1093-1577188800-1577206800@elmarovineyard.com
SUMMARY:1-4pm\, Music by James Grant
DESCRIPTION:Bring your friends and family to Elmaro on Christmas Eve from 1-4 p.m. to hear the sounds of James Grant.
URL:https://elmarovineyard.com/event/1-4pm-music-by-james-grant/
ATTACH;FMTTYPE=image/jpeg:https://elmarovineyard.com/wp-content/uploads/2019/10/James-Grant.jpg
END:VEVENT
BEGIN:VEVENT
DTSTART;TZID=UTC:20191224T120000
DTEND;TZID=UTC:20191224T170000
DTSTAMP:20260421T191122
CREATED:20191121T234339Z
LAST-MODIFIED:20191121T234339Z
UID:1089-1577188800-1577206800@elmarovineyard.com
SUMMARY:12-5pm\, OPEN CHRISTMAS EVE`
DESCRIPTION:We’d love to have you come enjoy a relaxing afternoon of wine\, cheese\, and music before the big holiday. We’ll have music by James Grant from 1-4pm and closing at 5pm.
URL:https://elmarovineyard.com/event/12-5pm-open-christmas-eve/
ATTACH;FMTTYPE=image/jpeg:https://elmarovineyard.com/wp-content/uploads/2019/11/wreath.jpg
END:VEVENT
BEGIN:VEVENT
DTSTART;VALUE=DATE:20191225
DTEND;VALUE=DATE:20191226
DTSTAMP:20260421T191122
CREATED:20191026T062504Z
LAST-MODIFIED:20191026T062504Z
UID:1036-1577232000-1577318399@elmarovineyard.com
SUMMARY:CLOSED
DESCRIPTION:
URL:https://elmarovineyard.com/event/closed/
ATTACH;FMTTYPE=image/jpeg:https://elmarovineyard.com/wp-content/uploads/2019/10/wreath.jpg
END:VEVENT
BEGIN:VEVENT
DTSTART;TZID=UTC:20191227T103000
DTEND;TZID=UTC:20191227T113000
DTSTAMP:20260421T191122
CREATED:20191122T000143Z
LAST-MODIFIED:20191122T000143Z
UID:1095-1577442600-1577446200@elmarovineyard.com
SUMMARY:10:30am\, The Magic of Isaiah
DESCRIPTION:The Magic of Isaiah will dazzle families with a 45-minute magic show at Elmaro Vineyard on Friday\, December 27th at 10:30 a.m.\, $6 plus tax per person. The show will allow you to use your imagination to create the impossible. Watch as normal everyday objects levitate\, sleight of hand that will amaze\, clean family comedy to tickle your funny bone\, and watch as you become a part of the show. The show is designed with magic for all ages to enjoy. The only requirement is your imagination. Call the tasting room at 608-534-6456 for required reservations.
URL:https://elmarovineyard.com/event/1030am-the-magic-of-isaiah/
ATTACH;FMTTYPE=image/jpeg:https://elmarovineyard.com/wp-content/uploads/2019/11/magic.jpg
END:VEVENT
BEGIN:VEVENT
DTSTART;TZID=UTC:20191227T160000
DTEND;TZID=UTC:20191227T190000
DTSTAMP:20260421T191122
CREATED:20191219T170635Z
LAST-MODIFIED:20191219T185055Z
UID:1117-1577462400-1577473200@elmarovineyard.com
SUMMARY:4-7pm\, Jamming with Jamin at the Winery
DESCRIPTION:Get relaxed on this Friday evening with some wine\, cheese\, and fun tunes by Jamin. We’ll also have $1 off glasses of wine after 4pm!
URL:https://elmarovineyard.com/event/jaming-with-jamin-at-the-winery/
ATTACH;FMTTYPE=image/jpeg:https://elmarovineyard.com/wp-content/uploads/2019/12/Jamin.jpg
END:VEVENT
BEGIN:VEVENT
DTSTART;TZID=UTC:20191228T083000
DTEND;TZID=UTC:20191228T093000
DTSTAMP:20260421T191122
CREATED:20191122T000606Z
LAST-MODIFIED:20191122T000606Z
UID:1101-1577521800-1577525400@elmarovineyard.com
SUMMARY:8:30am\, Yoga & Brunch
DESCRIPTION:Join Laura (co-owner and winemaker) for a relaxing hour of yoga followed by a continental brunch and a mimosa. $15/person\, and reservations can be made by calling 608-534-6456.
URL:https://elmarovineyard.com/event/830am-yoga-brunch-2/
ATTACH;FMTTYPE=image/jpeg:https://elmarovineyard.com/wp-content/uploads/2019/03/9.jpg
END:VEVENT
BEGIN:VEVENT
DTSTART;TZID=UTC:20191228T100000
DTEND;TZID=UTC:20191228T180000
DTSTAMP:20260421T191122
CREATED:20191122T000921Z
LAST-MODIFIED:20191122T000921Z
UID:1103-1577527200-1577556000@elmarovineyard.com
SUMMARY:10-6pm\, Sangria & Nachos
DESCRIPTION:Enjoy a festive day at Elmaro with music\, wine\, and nacho cheese! We’ll have house made sangria available while supplies last!
URL:https://elmarovineyard.com/event/10-6pm-sangria-nachos/
ATTACH;FMTTYPE=image/jpeg:https://elmarovineyard.com/wp-content/uploads/2019/07/Red-Sangria.jpg
END:VEVENT
BEGIN:VEVENT
DTSTART;TZID=UTC:20191228T140000
DTEND;TZID=UTC:20191228T170000
DTSTAMP:20260421T191122
CREATED:20191122T001030Z
LAST-MODIFIED:20191122T001030Z
UID:1105-1577541600-1577552400@elmarovineyard.com
SUMMARY:2-5pm\, Music by Jeani & The Dreamers
DESCRIPTION:Jeani and the Dreamers will have you dancing from 2-5 p.m.
URL:https://elmarovineyard.com/event/2-5pm-music-by-jeani-the-dreamers/
ATTACH;FMTTYPE=image/jpeg:https://elmarovineyard.com/wp-content/uploads/2019/07/Jeani-and-the-Dreamers.jpg
END:VEVENT
BEGIN:VEVENT
DTSTART;TZID=UTC:20191229T130000
DTEND;TZID=UTC:20191229T160000
DTSTAMP:20260421T191122
CREATED:20191122T001455Z
LAST-MODIFIED:20191122T001455Z
UID:1107-1577624400-1577635200@elmarovineyard.com
SUMMARY:1-4pm\, Music by Larry Price Trio
DESCRIPTION:Larry Price and his trio of instrumental jazz will fill the winery with music from 1-4 p.m.
URL:https://elmarovineyard.com/event/1-4pm-music-by-larry-price-trio/
ATTACH;FMTTYPE=image/jpeg:https://elmarovineyard.com/wp-content/uploads/2019/11/Larry-Price.jpg
END:VEVENT
BEGIN:VEVENT
DTSTART;TZID=UTC:20191231T120000
DTEND;TZID=UTC:20191231T180000
DTSTAMP:20260421T191122
CREATED:20191231T170858Z
LAST-MODIFIED:20191231T170858Z
UID:1134-1577793600-1577815200@elmarovineyard.com
SUMMARY:Open Noon - 6pm - Happy New Year's Eve!
DESCRIPTION:
URL:https://elmarovineyard.com/event/open-noon-6pm-happy-new-years-eve/
END:VEVENT
BEGIN:VEVENT
DTSTART;TZID=UTC:20191231T153000
DTEND;TZID=UTC:20191231T173000
DTSTAMP:20260421T191122
CREATED:20191122T002340Z
LAST-MODIFIED:20191122T002340Z
UID:1110-1577806200-1577813400@elmarovineyard.com
SUMMARY:3:30-5:30pm\, Sunset Hike & NYE Toast
DESCRIPTION:Start your New Year’s Eve celebrations with Elmaro Vineyard! Join us for a hike around the grounds\, followed by a toast to the New Year with a glass of sparkling wine and a salted caramel truffle. $10 per person\, call the tasting room at 608-534-6456 for reservations. Additional sparkling wine and truffles will be available for purchase.
URL:https://elmarovineyard.com/event/330-530pm-sunset-hike-nye-toast/
ATTACH;FMTTYPE=image/jpeg:https://elmarovineyard.com/wp-content/uploads/2019/07/Elmaro-Sunset.jpg
END:VEVENT
BEGIN:VEVENT
DTSTART;VALUE=DATE:20200101
DTEND;VALUE=DATE:20200102
DTSTAMP:20260421T191122
CREATED:20191122T002655Z
LAST-MODIFIED:20191122T002742Z
UID:1112-1577836800-1577923199@elmarovineyard.com
SUMMARY:CLOSED for New Years Day
DESCRIPTION:We’ll be closed today\, but open again tomorrow at noon!
URL:https://elmarovineyard.com/event/closed-for-new-years-day/
ATTACH;FMTTYPE=image/jpeg:https://elmarovineyard.com/wp-content/uploads/2019/11/10850013_801668696565889_1776089656785736675_n.jpg
END:VEVENT
BEGIN:VEVENT
DTSTART;TZID=UTC:20200104T140000
DTEND;TZID=UTC:20200104T170000
DTSTAMP:20260421T191122
CREATED:20191025T014946Z
LAST-MODIFIED:20191219T193834Z
UID:975-1578146400-1578157200@elmarovineyard.com
SUMMARY:2-5pm\, Songs by Sampson & Son
DESCRIPTION:This local father/son duo will be singing at the winery from 2-5 p.m.
URL:https://elmarovineyard.com/event/music-in-the-crush-pad-by-sampson-son/
ATTACH;FMTTYPE=image/jpeg:https://elmarovineyard.com/wp-content/uploads/2019/09/Rick-and-Aric-Sampson.jpg
END:VEVENT
BEGIN:VEVENT
DTSTART;TZID=UTC:20200105T130000
DTEND;TZID=UTC:20200105T160000
DTSTAMP:20260421T191122
CREATED:20191219T194030Z
LAST-MODIFIED:20191219T194030Z
UID:1123-1578229200-1578240000@elmarovineyard.com
SUMMARY:1-4pm\, Music in the Winery by Right Side Up
DESCRIPTION:Terry Gray and Ward Anderson are “RIGHT SIDE UP”.\nTwo military veterans that identify music as a major part their lives\, these guys just love making music and have a passion for harmony.\nWeaving acoustic rock\, folk\, bluegrass and country\, flavored with a little gospel\, they mix old and new to produce today’s feel good times. Come join them and enjoy music that will put a smile on your face and leave you asking for more.
URL:https://elmarovineyard.com/event/1-4pm-music-in-the-winery-by-right-side-up/
ATTACH;FMTTYPE=image/jpeg:https://elmarovineyard.com/wp-content/uploads/2019/11/Right-Side-Up.jpg
END:VEVENT
BEGIN:VEVENT
DTSTART;TZID=UTC:20200110T170000
DTEND;TZID=UTC:20200110T183000
DTSTAMP:20260421T191122
CREATED:20191219T194227Z
LAST-MODIFIED:20191219T194227Z
UID:1125-1578675600-1578681000@elmarovineyard.com
SUMMARY:5-6:30pm\, Full Moon Hikes
DESCRIPTION:On this Wolf Moon\, we offer you the opportunity to hike by the light of the full moon\, explore the senses of night\, and discover the tree silhouettes against a moonlit sky. When making your reservations\, you will need to choose either the Marshland Hike (about 3 miles to the Refuge and back)\, or the Homestead Hike (narrative around the vineyard grounds)\, as we have a limited number of spaces available for each hike. Each hike will last 45-60 minutes. The hike is $10 per person\, and required reservations can be made by calling the winery at 608-534-6456. Mulled wine or hot cocoa and a s’more will follow the hike.
URL:https://elmarovineyard.com/event/5-630pm-full-moon-hikes/
ATTACH;FMTTYPE=image/jpeg:https://elmarovineyard.com/wp-content/uploads/2019/10/moon.jpg
END:VEVENT
BEGIN:VEVENT
DTSTART;TZID=UTC:20200111T140000
DTEND;TZID=UTC:20200111T170000
DTSTAMP:20260421T191122
CREATED:20191219T194431Z
LAST-MODIFIED:20191219T194431Z
UID:1128-1578751200-1578762000@elmarovineyard.com
SUMMARY:2-5pm\, Tunes by Tim Dallman
DESCRIPTION:Join Tim for a fun and festive afternoon of music (you’ll know most of the songs)\, wine\, and a good time all around.
URL:https://elmarovineyard.com/event/2-5pm-tunes-by-tim-dallman-2/
ATTACH;FMTTYPE=image/jpeg:https://elmarovineyard.com/wp-content/uploads/2019/07/Tim-Dallman.jpg
END:VEVENT
BEGIN:VEVENT
DTSTART;TZID=UTC:20200117T160000
DTEND;TZID=UTC:20200117T190000
DTSTAMP:20260421T191122
CREATED:20191219T203027Z
LAST-MODIFIED:20191219T203027Z
UID:1131-1579276800-1579287600@elmarovineyard.com
SUMMARY:4-7pm\, Music in the Tasting Room by Kris Risch
DESCRIPTION:Kris and his fellow bassist will fill the crush pad with music from 4-7 p.m. We’ll also have $1 off glasses of wine after 4pm!
URL:https://elmarovineyard.com/event/4-7pm-music-in-the-tasting-room-by-kris-risch/
ATTACH;FMTTYPE=image/jpeg:https://elmarovineyard.com/wp-content/uploads/2019/10/Kris-Risch.jpg
END:VEVENT
BEGIN:VEVENT
DTSTART;TZID=UTC:20200118T120000
DTEND;TZID=UTC:20200118T170000
DTSTAMP:20260421T191122
CREATED:20200116T010319Z
LAST-MODIFIED:20200116T010319Z
UID:1142-1579348800-1579366800@elmarovineyard.com
SUMMARY:Music by John Paulson Jazz Trio\, 2-5pm
DESCRIPTION:The instrumental jazz of the John Paulson Jazz Trio will fill the Crush Pad from 2-5 p.m.
URL:https://elmarovineyard.com/event/music-by-john-paulson-jazz-trio-2-5pm/
ATTACH;FMTTYPE=image/jpeg:https://elmarovineyard.com/wp-content/uploads/2019/07/John-Paulson-Jazz-Trio.jpg
END:VEVENT
BEGIN:VEVENT
DTSTART;TZID=UTC:20200118T120000
DTEND;TZID=UTC:20200118T170000
DTSTAMP:20260421T191122
CREATED:20200116T010054Z
LAST-MODIFIED:20200116T010134Z
UID:1138-1579348800-1579366800@elmarovineyard.com
SUMMARY:Reiki at Elmaro\, 12-5pm
DESCRIPTION:Reiki is a Japanese technique for stress reduction and relaxation that also provides healing\, and based on the idea that unseen life force energy flows through and around us. Georgi Amundson\, certified Reiki Practitioner is offering free Reiki sessions at Elmaro from 12-5 p.m. Sign up on January 18th\, or call the tasting room at 608-534-6456 to make up to a 30-minute reservation.
URL:https://elmarovineyard.com/event/reiki-at-elmaro-12-5pm/
ATTACH;FMTTYPE=image/jpeg:https://elmarovineyard.com/wp-content/uploads/2020/01/reiki-e1579136436913.jpg
END:VEVENT
BEGIN:VEVENT
DTSTART;TZID=UTC:20200119T120000
DTEND;TZID=UTC:20200119T170000
DTSTAMP:20260421T191122
CREATED:20200116T015808Z
LAST-MODIFIED:20200116T015808Z
UID:1144-1579435200-1579453200@elmarovineyard.com
SUMMARY:Sample Sunday\, 12-5pm
DESCRIPTION:Sauces\, dips\, sweets\, more! Try one or try all the samples that we will be serving. All of the foods that will be sampled are sold and served at Elmaro. All samples are complimentary\, no reservations are needed\, and don’t forget your taste buds!
URL:https://elmarovineyard.com/event/sample-sunday-12-5pm/
ATTACH;FMTTYPE=image/jpeg:https://elmarovineyard.com/wp-content/uploads/2020/01/Samples.jpg
END:VEVENT
END:VCALENDAR