BEGIN:VCALENDAR
VERSION:2.0
PRODID:-//Elmaro Vineyard - ECPv6.15.20//NONSGML v1.0//EN
CALSCALE:GREGORIAN
METHOD:PUBLISH
X-WR-CALNAME:Elmaro Vineyard
X-ORIGINAL-URL:https://elmarovineyard.com
X-WR-CALDESC:Events for Elmaro Vineyard
REFRESH-INTERVAL;VALUE=DURATION:PT1H
X-Robots-Tag:noindex
X-PUBLISHED-TTL:PT1H
BEGIN:VTIMEZONE
TZID:UTC
BEGIN:STANDARD
TZOFFSETFROM:+0000
TZOFFSETTO:+0000
TZNAME:UTC
DTSTART:20180101T000000
END:STANDARD
END:VTIMEZONE
BEGIN:VEVENT
DTSTART;TZID=UTC:20191101T180000
DTEND;TZID=UTC:20191101T200000
DTSTAMP:20260421T035807
CREATED:20190904T190653Z
LAST-MODIFIED:20190904T190716Z
UID:865-1572631200-1572638400@elmarovineyard.com
SUMMARY:An Evening of Magic!
DESCRIPTION:The Magic of Isaiah returns to Elmaro Vineyards with his comedy magic show. Isaiah will begin the night with closeup magic from 6:15-6:45pm and a stage show starting at 7pm. This is a clean adult comedy magic show. This is a ticket sale event\, and ticket price is $15 per person. This event has sold out numerous times in the past\, so don’t wait to get your tickets. Tickets can be purchased by calling Elmaro Vineyard at 608-534-6456. You can find out more about The Magic of Isaiah at www.lacrossemagic.com. Wine and food purchases are a la carte.
URL:https://elmarovineyard.com/event/an-evening-of-magic/
ATTACH;FMTTYPE=image/jpeg:https://elmarovineyard.com/wp-content/uploads/2019/09/Magic.jpg
END:VEVENT
BEGIN:VEVENT
DTSTART;TZID=UTC:20191103T130000
DTEND;TZID=UTC:20191103T160000
DTSTAMP:20260421T035807
CREATED:20191025T015948Z
LAST-MODIFIED:20191025T015948Z
UID:978-1572786000-1572796800@elmarovineyard.com
SUMMARY:1-4pm\, Tunes by Tim Dallman
DESCRIPTION:Enjoy an afternoon of wine\, cheese\, and some great tunes by Tim from 1-4pm. Tim and his guitar will be playing songs you probably know!
URL:https://elmarovineyard.com/event/1-4pm-tunes-by-tim-dallman/
ATTACH;FMTTYPE=image/jpeg:https://elmarovineyard.com/wp-content/uploads/2019/07/Tim-Dallman.jpg
END:VEVENT
BEGIN:VEVENT
DTSTART;TZID=UTC:20191109T100000
DTEND;TZID=UTC:20191109T170000
DTSTAMP:20260421T035807
CREATED:20191025T020740Z
LAST-MODIFIED:20191025T020740Z
UID:981-1573293600-1573318800@elmarovineyard.com
SUMMARY:10-5pm\, Holiday Harvest Wine & Food Festival
DESCRIPTION:It’s time for the Great River Road Wine Trail’s annual Holiday Harvest Wine & Food Festival! \nThere is nothing like the fall season along the Mississippi\, it’s just breathtaking. Why not make it even better with wine tasting? Hop on the Great River Road Wine Trail and fit all\, one or several of the 12 fantastic wineries that make up the trail on a fun and relaxing weekend adventure. \nBuy your tickets online today OR you can pick up your tickets at any of the Great River Road Wine Trail wineries! Online ticket sales end at noon Tuesday November 5\, 2019 or when sold out\, so buy soon and save $10. \nTickets available at https://www.greatriverroadwinetrail.org/order-wine-event-tickets-2019/ \n 
URL:https://elmarovineyard.com/event/10-5pm-holiday-harvest-wine-food-festival/2019-11-09/
ATTACH;FMTTYPE=image/jpeg:https://elmarovineyard.com/wp-content/uploads/2019/07/Dinner-Party.jpg
END:VEVENT
BEGIN:VEVENT
DTSTART;TZID=UTC:20191109T140000
DTEND;TZID=UTC:20191109T170000
DTSTAMP:20260421T035807
CREATED:20191025T021315Z
LAST-MODIFIED:20191025T021315Z
UID:984-1573308000-1573318800@elmarovineyard.com
SUMMARY:2-5pm\, Rhythms & Songs with Anderson Road
DESCRIPTION:Anderson Road will have the winery rockin’ with music from 2-5 p.m.
URL:https://elmarovineyard.com/event/2-5pm-rhythms-songs-with-anderson-road/
ATTACH;FMTTYPE=image/jpeg:https://elmarovineyard.com/wp-content/uploads/2019/10/AndseronRoad.jpg
END:VEVENT
BEGIN:VEVENT
DTSTART;TZID=UTC:20191110T130000
DTEND;TZID=UTC:20191110T160000
DTSTAMP:20260421T035807
CREATED:20191025T022448Z
LAST-MODIFIED:20191025T022448Z
UID:988-1573390800-1573401600@elmarovineyard.com
SUMMARY:1-4pm\, Music at the Winery with Paul Leithold & Friends
DESCRIPTION:Enjoy an afternoon of  music\, award winning wine\, and beautiful cheese plates!
URL:https://elmarovineyard.com/event/1-4pm-music-at-the-winery-with-paul-leithold-friends/
ATTACH;FMTTYPE=image/jpeg:https://elmarovineyard.com/wp-content/uploads/2019/10/paul-leithold.jpg
END:VEVENT
BEGIN:VEVENT
DTSTART;TZID=UTC:20191112T180000
DTEND;TZID=UTC:20191112T200000
DTSTAMP:20260421T035807
CREATED:20191025T023011Z
LAST-MODIFIED:20191025T023011Z
UID:991-1573581600-1573588800@elmarovineyard.com
SUMMARY:6pm\, Full Moon Hike at Elmaro
DESCRIPTION:On this Beaver Moon\, we offer you the opportunity to hike by the light of the full moon\, explore the senses of night\, and discover the tree silhouettes against a moonlit sky. \nWhen making your reservations\, you will need to choose either the Marshland Hike (about 3 miles to the Refuge and back)\, or the Homestead Hike (narrative around the vineyard grounds)\, as we have a limited number of spaces available for each hike. Each hike will last 45-60 minutes. \nThe hikes are $10 per person\, and required reservations can be made by calling the winery at 608-534-6456. Mulled wine or hot cocoa and a s’more will follow the hike.
URL:https://elmarovineyard.com/event/6pm-full-moon-hike-at-elmaro/
ATTACH;FMTTYPE=image/jpeg:https://elmarovineyard.com/wp-content/uploads/2019/10/moon.jpg
END:VEVENT
BEGIN:VEVENT
DTSTART;TZID=UTC:20191113T180000
DTEND;TZID=UTC:20191113T190000
DTSTAMP:20260421T035807
CREATED:20191111T210852Z
LAST-MODIFIED:20191111T210852Z
UID:1071-1573668000-1573671600@elmarovineyard.com
SUMMARY:Winery Wednesday - Wine Aromas Addition
DESCRIPTION:Judging wines and their aromas……What we’re thankful for! At this Winery Wednesday\, you will get to smell wines with added aromas\, and then try to determine the aromas. $10 per person\, please call the tasting room at 608-534-6456 for reservations.
URL:https://elmarovineyard.com/event/winery-wednesday-wine-aromas-addition/
ATTACH;FMTTYPE=image/jpeg:https://elmarovineyard.com/wp-content/uploads/2019/07/Dinner-Party.jpg
END:VEVENT
BEGIN:VEVENT
DTSTART;TZID=UTC:20191115T161500
DTEND;TZID=UTC:20191115T190000
DTSTAMP:20260421T035807
CREATED:20191025T023519Z
LAST-MODIFIED:20191025T023519Z
UID:994-1573834500-1573844400@elmarovineyard.com
SUMMARY:4:15-7PM\, Classical Guitar with Chris Rude
DESCRIPTION:Settle into the weekend with a $4 glass of wine and the classical guitar styling of Chris Rude.
URL:https://elmarovineyard.com/event/415-7pm-classical-guitar-with-chris-rude/
ATTACH;FMTTYPE=image/jpeg:https://elmarovineyard.com/wp-content/uploads/2019/07/Chris-Rude-2.jpg
END:VEVENT
BEGIN:VEVENT
DTSTART;TZID=UTC:20191116T110000
DTEND;TZID=UTC:20191116T170000
DTSTAMP:20260421T035807
CREATED:20191025T023837Z
LAST-MODIFIED:20191025T023837Z
UID:996-1573902000-1573923600@elmarovineyard.com
SUMMARY:11-5pm\, Blaze Orange Bazaar
DESCRIPTION:Start the Holiday season at Elmaro Vineyard! On Saturday\, November 16th\, from 11 a.m. to 5 p.m.\, we will have craft vendors selling their items in the Crush Pad. Craft items will include jewelry for every personality\, primitive crafts\, llama wool items\, bourbon barrel aged maple syrup\, sweaters\, metal crafts\, candles\, scarves\, meat and cheese\, and more!\nAlso\, wear blaze orange and receive a free gift from Elmaro Vineyard!
URL:https://elmarovineyard.com/event/11-5pm-blaze-orange-bazaar/
ATTACH;FMTTYPE=image/jpeg:https://elmarovineyard.com/wp-content/uploads/2019/10/blaze-orange-bazaar.jpg
END:VEVENT
BEGIN:VEVENT
DTSTART;TZID=UTC:20191117T130000
DTEND;TZID=UTC:20191117T160000
DTSTAMP:20260421T035807
CREATED:20191025T024119Z
LAST-MODIFIED:20191025T024119Z
UID:999-1573995600-1574006400@elmarovineyard.com
SUMMARY:1-4pm\, Parisian Bistro Music by Under Paris Skies
DESCRIPTION:Can’t make it to Paris? Elmaro’s bringing the streets of Paris to you! Join us for an afternoon of Parisian bistro music\, wine\, and baguettes!
URL:https://elmarovineyard.com/event/1-4pm-parisian-bistro-music-by-under-paris-skies/
ATTACH;FMTTYPE=image/jpeg:https://elmarovineyard.com/wp-content/uploads/2019/07/Under-Paris-Skies.jpg
END:VEVENT
BEGIN:VEVENT
DTSTART;TZID=UTC:20191122T160000
DTEND;TZID=UTC:20191122T190000
DTSTAMP:20260421T035807
CREATED:20191025T024504Z
LAST-MODIFIED:20191025T024504Z
UID:1001-1574438400-1574449200@elmarovineyard.com
SUMMARY:4-7pm\, Ballads by Bradford Loomis
DESCRIPTION:Bradford marries grit and melody to dig to the roots of American folklore and speak of the raw reality of the human condition with soul\, passion\, and hope. He pulls his music from the roots of Americana.
URL:https://elmarovineyard.com/event/4-7pm-ballads-by-bradford-loomis/
ATTACH;FMTTYPE=image/jpeg:https://elmarovineyard.com/wp-content/uploads/2019/10/Bradford.jpg
END:VEVENT
BEGIN:VEVENT
DTSTART;TZID=UTC:20191123T140000
DTEND;TZID=UTC:20191123T170000
DTSTAMP:20260421T035807
CREATED:20191025T024710Z
LAST-MODIFIED:20191025T024710Z
UID:1003-1574517600-1574528400@elmarovineyard.com
SUMMARY:2-5pm\, Jamming with Jeani & The Dreamers
DESCRIPTION:Jeani and the Dreamers will have you dancing! Join in the fun from 2-5 p.m.
URL:https://elmarovineyard.com/event/2-5pm-jamming-with-jeani-the-dreamers/
ATTACH;FMTTYPE=image/jpeg:https://elmarovineyard.com/wp-content/uploads/2019/07/Jeani-and-the-Dreamers.jpg
END:VEVENT
BEGIN:VEVENT
DTSTART;TZID=UTC:20191124T130000
DTEND;TZID=UTC:20191124T160000
DTSTAMP:20260421T035807
CREATED:20191025T025114Z
LAST-MODIFIED:20191025T025114Z
UID:1005-1574600400-1574611200@elmarovineyard.com
SUMMARY:1-4pm\, Guitar and Songs with James Grant
DESCRIPTION:Local musicians don’t get much more local (or better) than James Grant. With familiar tunes by James Taylor and Neil Young\, it’s hard not to sing along.
URL:https://elmarovineyard.com/event/1-4pm-guitar-and-songs-with-james-grant/
ATTACH;FMTTYPE=image/jpeg:https://elmarovineyard.com/wp-content/uploads/2019/10/James-Grant.jpg
END:VEVENT
BEGIN:VEVENT
DTSTART;VALUE=DATE:20191128
DTEND;VALUE=DATE:20191129
DTSTAMP:20260421T035807
CREATED:20191025T025424Z
LAST-MODIFIED:20191025T025455Z
UID:1008-1574899200-1574985599@elmarovineyard.com
SUMMARY:CLOSED FOR THANKSGIVING
DESCRIPTION:We’re taking the day off to spend time with family.
URL:https://elmarovineyard.com/event/closed-for-thanksgiving/
ATTACH;FMTTYPE=image/jpeg:https://elmarovineyard.com/wp-content/uploads/2019/06/Roessler-Family.jpg
END:VEVENT
BEGIN:VEVENT
DTSTART;TZID=UTC:20191129T140000
DTEND;TZID=UTC:20191129T170000
DTSTAMP:20260421T035807
CREATED:20191025T025816Z
LAST-MODIFIED:20191025T025816Z
UID:1011-1575036000-1575046800@elmarovineyard.com
SUMMARY:2-5pm\, Recovery music with Crooked Willow
DESCRIPTION:Need recovery time from Thanksgiving or Black Friday shopping? Join us for a relaxing afternoon of music and wine….and cheese.
URL:https://elmarovineyard.com/event/2-5pm-recovery-music-with-crooked-willow/
ATTACH;FMTTYPE=image/jpeg:https://elmarovineyard.com/wp-content/uploads/2019/07/Crooked-Willow.jpg
END:VEVENT
BEGIN:VEVENT
DTSTART;TZID=UTC:20191130T140000
DTEND;TZID=UTC:20191130T170000
DTSTAMP:20260421T035807
CREATED:20191025T030323Z
LAST-MODIFIED:20191025T030323Z
UID:1015-1575122400-1575133200@elmarovineyard.com
SUMMARY:2-5pm\, Music in the Tasting Room by Kris Risch
DESCRIPTION:Kris’s acoustic guitar and folksy/bluesy sound will fill the winery with music from 2-5 p.m.
URL:https://elmarovineyard.com/event/2-5pm-music-in-the-tasting-room-by-kris-risch/
ATTACH;FMTTYPE=image/jpeg:https://elmarovineyard.com/wp-content/uploads/2019/10/Kris-Risch.jpg
END:VEVENT
BEGIN:VEVENT
DTSTART;TZID=UTC:20191206T160000
DTEND;TZID=UTC:20191206T190000
DTSTAMP:20260421T035807
CREATED:20191026T060130Z
LAST-MODIFIED:20191026T060130Z
UID:1023-1575648000-1575658800@elmarovineyard.com
SUMMARY:6:30pm\, Christmas Wreath Making Class
DESCRIPTION:It’s a busy season\, take some time to relax and spend time with your friends at Elmaro’s “Create a Christmas Wreath” class. Alanna Koshollek will lead the class in creating a 22-inch wreath\, made with a mix of balsam and white pine boughs. You will be able to add bows\, berries\, or pinecones to personalize your wreath. \nThe cost is $35 plus tax per person\, and pre-paid reservations are required by calling the tasting room at 608-534-6456. \nThe class starts at 6:30 p.m. and will last for about 2 hours\, and 1 glass of wine is included.
URL:https://elmarovineyard.com/event/630pm-christmas-wreath-making-class/
ATTACH;FMTTYPE=image/jpeg:https://elmarovineyard.com/wp-content/uploads/2019/10/wreath.jpg
END:VEVENT
BEGIN:VEVENT
DTSTART;TZID=UTC:20191206T160000
DTEND;TZID=UTC:20191206T190000
DTSTAMP:20260421T035807
CREATED:20191026T055232Z
LAST-MODIFIED:20191026T055232Z
UID:1021-1575648000-1575658800@elmarovineyard.com
SUMMARY:4-7pm\, Music in the Tasting Room with David Hartman
DESCRIPTION:Slip into the weekend with $4 glasses of wine and some great music. David’s back for another session of live and local music.
URL:https://elmarovineyard.com/event/4-7pm-music-in-the-tasting-room-with-david-hartman/
ATTACH;FMTTYPE=image/jpeg:https://elmarovineyard.com/wp-content/uploads/2019/10/Music.jpg
END:VEVENT
BEGIN:VEVENT
DTSTART;TZID=UTC:20191207T090000
DTEND;TZID=UTC:20191207T110000
DTSTAMP:20260421T035807
CREATED:20191026T060802Z
LAST-MODIFIED:20191106T201536Z
UID:1026-1575709200-1575716400@elmarovineyard.com
SUMMARY:9am\, Christmas Wreath Making Class - SOLD OUT
DESCRIPTION:SOLD OUT \nIt’s a busy season\, take some time to relax and spend time with your friends at Elmaro’s “Create a Christmas Wreath” class. Alanna Koshollek will lead the class in creating a 22-inch wreath\, made with a mix of balsam and white pine boughs. You will be able to add bows\, berries\, or pinecones to personalize your wreath. \nThe cost is $35 plus tax per person\, and pre-paid reservations are required by calling the tasting room at 608-534-6456. \nThe class starts at 9 a.m. and will last for about 2 hours\, and 1 glass of wine is included.
URL:https://elmarovineyard.com/event/9am-christmas-wreath-making-class/
ATTACH;FMTTYPE=image/jpeg:https://elmarovineyard.com/wp-content/uploads/2019/10/wreath.jpg
END:VEVENT
BEGIN:VEVENT
DTSTART;TZID=UTC:20191207T140000
DTEND;TZID=UTC:20191207T170000
DTSTAMP:20260421T035807
CREATED:20191026T061242Z
LAST-MODIFIED:20191026T061242Z
UID:1028-1575727200-1575738000@elmarovineyard.com
SUMMARY:2-5pm\, Tunes by Tim Dallman
DESCRIPTION:Enjoy an afternoon of wine\, cheese\, and some great tunes by Tim from 1-4pm. Tim and his guitar will be playing songs you probably know!
URL:https://elmarovineyard.com/event/2-5pm-tunes-by-tim-dallman/
ATTACH;FMTTYPE=image/jpeg:https://elmarovineyard.com/wp-content/uploads/2019/07/Tim-Dallman.jpg
END:VEVENT
BEGIN:VEVENT
DTSTART;TZID=UTC:20191208T120000
DTEND;TZID=UTC:20191208T170000
DTSTAMP:20260421T035807
CREATED:20191121T231648Z
LAST-MODIFIED:20191121T231648Z
UID:1075-1575806400-1575824400@elmarovineyard.com
SUMMARY:12-5pm\, Build-a-Basket Day at Elmaro
DESCRIPTION:Let Elmaro assist you with your holiday shopping. We have everything available to create your own basket\, or use some of Elmaro’s ideas. You’ll leave with the perfect gift\, even for that hard-to-buy-for person! Basket & Wrap is $10 for a basket without a a handle\, or $15 for a basket with a handle\, plus the basket contents.\nThemed basket ideas include Game Night\, Chocolate Lovers\, Wine Saver\, Light Up Winter\, Sweet Tooth\, Cheese Lovers\, Wine Glasses\, and many more!
URL:https://elmarovineyard.com/event/12-5pm-build-a-basket-day-at-elmaro/
ATTACH;FMTTYPE=image/jpeg:https://elmarovineyard.com/wp-content/uploads/2019/11/Basket.jpg
END:VEVENT
BEGIN:VEVENT
DTSTART;TZID=UTC:20191208T130000
DTEND;TZID=UTC:20191208T160000
DTSTAMP:20260421T035807
CREATED:20191026T061623Z
LAST-MODIFIED:20191026T061623Z
UID:1030-1575810000-1575820800@elmarovineyard.com
SUMMARY:1-4pm\, Music in the Crush Pad by Tim Fast
DESCRIPTION:Relax on your Sunday with award winning wines and singer/songwriter Tim Fast.
URL:https://elmarovineyard.com/event/1-4pm-music-in-the-crush-pad-by-tim-fast/
ATTACH;FMTTYPE=image/jpeg:https://elmarovineyard.com/wp-content/uploads/2019/10/Tim-Fast.jpg
END:VEVENT
BEGIN:VEVENT
DTSTART;TZID=UTC:20191210T173000
DTEND;TZID=UTC:20191210T190000
DTSTAMP:20260421T035807
CREATED:20191121T232424Z
LAST-MODIFIED:20191121T232504Z
UID:1078-1575999000-1576004400@elmarovineyard.com
SUMMARY:5:30pm\, Full Moon Hike
DESCRIPTION:On this Cold Moon\, we offer you the opportunity to hike by the light of the full moon\, explore the senses of night\, and discover the tree silhouettes against a moonlit sky. When making your reservations\, you will need to choose either the Marshland Hike (about 3 miles to the Refuge and back)\, or the Homestead Hike (narrative around the vineyard grounds)\, as we have a limited number of spaces available for each hike. Each hike will last 45-60 minutes. The hike is $10 per person\, and required reservations can be made by calling the winery at 608-534-6456. Mulled wine or hot cocoa and a s’more will follow the hike.
URL:https://elmarovineyard.com/event/530pm-full-moon-hike/
ATTACH;FMTTYPE=image/jpeg:https://elmarovineyard.com/wp-content/uploads/2019/03/Super-Moon.jpg
END:VEVENT
BEGIN:VEVENT
DTSTART;TZID=UTC:20191211T180000
DTEND;TZID=UTC:20191211T190000
DTSTAMP:20260421T035807
CREATED:20191121T233252Z
LAST-MODIFIED:20191121T233252Z
UID:1081-1576087200-1576090800@elmarovineyard.com
SUMMARY:6-7pm\, Winery Wednesday
DESCRIPTION:Have a Relaxing Night at Elmaro for Winery Wednesday at 6 p.m. Chris Rude will be playing classical guitar for the evening\, Laura will present yoga poses for stress relief\, and we will have appetizers paired with wine. There will also be 25% off all non-consignment merchandise during Winery Wednesday only. $10 per person\, call the tasting room at 608-534-6456 for reservations.
URL:https://elmarovineyard.com/event/6-7pm-winery-wednesday/
ATTACH;FMTTYPE=image/jpeg:https://elmarovineyard.com/wp-content/uploads/2019/11/10363099_925362960863128_2664812755563205488_n.jpg
END:VEVENT
BEGIN:VEVENT
DTSTART;TZID=UTC:20191213T160000
DTEND;TZID=UTC:20191213T190000
DTSTAMP:20260421T035807
CREATED:20191121T233737Z
LAST-MODIFIED:20191121T233737Z
UID:1086-1576252800-1576263600@elmarovineyard.com
SUMMARY:4-7pm\, Music by Right Side Up
DESCRIPTION:Terry Gray and Ward Anderson are “RIGHT SIDE UP”.\nTwo military veterans that identify music as a major part their lives\, these guys just love making music and have a passion for harmony. Weaving acoustic rock\, folk\, bluegrass and country\, flavored with a little gospel\, they mix old and new to produce today’s feel good times. Come join them and enjoy music that will put a smile on your face and leave you asking for more
URL:https://elmarovineyard.com/event/4-7pm-music-by-right-side-up/
ATTACH;FMTTYPE=image/jpeg:https://elmarovineyard.com/wp-content/uploads/2019/11/Right-Side-Up.jpg
END:VEVENT
BEGIN:VEVENT
DTSTART;TZID=UTC:20191214T110000
DTEND;TZID=UTC:20191214T170000
DTSTAMP:20260421T035807
CREATED:20191026T062337Z
LAST-MODIFIED:20191026T062337Z
UID:1033-1576321200-1576342800@elmarovineyard.com
SUMMARY:11am-5pm\, Kris Kringle Market
DESCRIPTION:Craft vendors\, cookie decorating\, European hot cocoa\, and Santa!!\nElmaro will be filled with all things Christmas today! We will have vendors selling their goods in the Crush Pad from 11 a.m. to 5 p.m.\, Santa will be visiting and talking with the kids from 2-4 p.m.\, and then cookie decorating from 2-4 p.m. Cookie decorating is $1 per cookie.
URL:https://elmarovineyard.com/event/11am-5pm-kris-kringle-market/
ATTACH;FMTTYPE=image/jpeg:https://elmarovineyard.com/wp-content/uploads/2019/10/Kris-Kringle-Market.jpg
END:VEVENT
BEGIN:VEVENT
DTSTART;TZID=UTC:20191215T130000
DTEND;TZID=UTC:20191215T160000
DTSTAMP:20260421T035807
CREATED:20191026T063212Z
LAST-MODIFIED:20191026T063212Z
UID:1038-1576414800-1576425600@elmarovineyard.com
SUMMARY:1-4pm\, Music by Paul Leithold & Friends
DESCRIPTION:The sounds of Paul and his friends will surround you from 1-4 p.m.
URL:https://elmarovineyard.com/event/1-4pm-music-by-paul-leithold-friends/
ATTACH;FMTTYPE=image/jpeg:https://elmarovineyard.com/wp-content/uploads/2019/10/paul-leithold.jpg
END:VEVENT
BEGIN:VEVENT
DTSTART;TZID=UTC:20191220T161500
DTEND;TZID=UTC:20191220T190000
DTSTAMP:20260421T035807
CREATED:20191026T063752Z
LAST-MODIFIED:20191026T063752Z
UID:1040-1576858500-1576868400@elmarovineyard.com
SUMMARY:4:15-7pm\, Classical Guitar by Chris Rude
DESCRIPTION:Relax before the holidays with $4 glasses of wine and classical guitar\, 4:15pm-7pm.
URL:https://elmarovineyard.com/event/415-7pm-classical-guitar-by-chris-rude/
ATTACH;FMTTYPE=image/jpeg:https://elmarovineyard.com/wp-content/uploads/2019/07/Chris-Rude-2.jpg
END:VEVENT
BEGIN:VEVENT
DTSTART;TZID=UTC:20191221T140000
DTEND;TZID=UTC:20191221T170000
DTSTAMP:20260421T035807
CREATED:20191026T064125Z
LAST-MODIFIED:20191026T064125Z
UID:1042-1576936800-1576947600@elmarovineyard.com
SUMMARY:2-5pm\, Parisian Bistro Music by Under Paris Skies
DESCRIPTION:Can’t make it to Paris? Elmaro’s bringing the streets of Paris to you! Join us for an afternoon of Parisian bistro music\, wine\, and baguettes!
URL:https://elmarovineyard.com/event/2-5pm-parisian-bistro-music-by-under-paris-skies/
ATTACH;FMTTYPE=image/jpeg:https://elmarovineyard.com/wp-content/uploads/2019/07/Under-Paris-Skies.jpg
END:VEVENT
BEGIN:VEVENT
DTSTART;TZID=UTC:20191222T130000
DTEND;TZID=UTC:20191222T160000
DTSTAMP:20260421T035807
CREATED:20191026T064542Z
LAST-MODIFIED:20191026T064542Z
UID:1044-1577019600-1577030400@elmarovineyard.com
SUMMARY:1-4pm\, Christmas music by Doug Malhum
DESCRIPTION:Get into the Christmas spirit with Doug and songs of the season!
URL:https://elmarovineyard.com/event/1-4pm-christmas-music-by-doug-malhum/
ATTACH;FMTTYPE=image/jpeg:https://elmarovineyard.com/wp-content/uploads/2019/10/Doug-M.jpg
END:VEVENT
END:VCALENDAR