BEGIN:VCALENDAR
VERSION:2.0
PRODID:-//Elmaro Vineyard - ECPv6.15.20//NONSGML v1.0//EN
CALSCALE:GREGORIAN
METHOD:PUBLISH
X-WR-CALNAME:Elmaro Vineyard
X-ORIGINAL-URL:https://elmarovineyard.com
X-WR-CALDESC:Events for Elmaro Vineyard
REFRESH-INTERVAL;VALUE=DURATION:PT1H
X-Robots-Tag:noindex
X-PUBLISHED-TTL:PT1H
BEGIN:VTIMEZONE
TZID:UTC
BEGIN:STANDARD
TZOFFSETFROM:+0000
TZOFFSETTO:+0000
TZNAME:UTC
DTSTART:20250101T000000
END:STANDARD
END:VTIMEZONE
BEGIN:VEVENT
DTSTART;TZID=UTC:20260530T140000
DTEND;TZID=UTC:20260530T170000
DTSTAMP:20260425T023122
CREATED:20260422T205714Z
LAST-MODIFIED:20260422T205714Z
UID:7296-1780149600-1780160400@elmarovineyard.com
SUMMARY:Music by Crooked Willow
DESCRIPTION:It’s been a bit since we’ve been out sharing what we love to do\, bluegrass\, banjo\, and the best toe-tappin’ music east or west of the Mississippi.
URL:https://elmarovineyard.com/event/music-by-crooked-willow-3/
ATTACH;FMTTYPE=image/jpeg:https://elmarovineyard.com/wp-content/uploads/2026/04/crooked-willow2026.jpg
END:VEVENT
BEGIN:VEVENT
DTSTART;TZID=UTC:20260604T160000
DTEND;TZID=UTC:20260604T170000
DTSTAMP:20260425T023122
CREATED:20260424T173545Z
LAST-MODIFIED:20260424T213053Z
UID:7310-1780588800-1780592400@elmarovineyard.com
SUMMARY:Adaptive Yoga
DESCRIPTION:At 4:00 p.m.\, Join Laura (co-owner and winemaker) for a one-hour yoga practice for anyone with a modified range of motion. Chairs are available for sitting or standing prop\, no former yoga training is required\, and please bring your own mat and water bottle\, $2 per person. Reserve your spot (but pay when you arrive) at http://www.exploretock.com/elmarovineyard
URL:https://elmarovineyard.com/event/adaptive-yoga-29/2026-06-04/
ATTACH;FMTTYPE=image/jpeg:https://elmarovineyard.com/wp-content/uploads/2026/04/adaptive1-scaled.jpg
END:VEVENT
BEGIN:VEVENT
DTSTART;TZID=UTC:20260604T180000
DTEND;TZID=UTC:20260604T190000
DTSTAMP:20260425T023122
CREATED:20260424T191141Z
LAST-MODIFIED:20260424T191141Z
UID:7333-1780596000-1780599600@elmarovineyard.com
SUMMARY:Sunset Yoga
DESCRIPTION:Join Laura (co-owner and winemaker) for a one-hour vinyasa yoga flow practice. This class begins at 6:00 p.m.\, includes a complimentary beverage\, and no former yoga training required. Please bring your own mat and water bottle\, $15 per person\, reservations at http://www.exploretock.com/elmarovineyard (We welcome walk-ins!)
URL:https://elmarovineyard.com/event/sunset-yoga-13/2026-06-04/
ATTACH;FMTTYPE=image/jpeg:https://elmarovineyard.com/wp-content/uploads/2026/04/yoga-outside.jpg
END:VEVENT
BEGIN:VEVENT
DTSTART;TZID=UTC:20260606T123000
DTEND;TZID=UTC:20260606T170000
DTSTAMP:20260425T023122
CREATED:20260217T221133Z
LAST-MODIFIED:20260217T221133Z
UID:7115-1780749000-1780765200@elmarovineyard.com
SUMMARY:Grilling by the Trempealeau Lions
DESCRIPTION:The Trempealeau Lions will be serving their cheese curds\, burgers\, hot dogs\, and all the smiles you could ask for.
URL:https://elmarovineyard.com/event/grilling-by-the-trempealeau-lions-5/
ATTACH;FMTTYPE=image/jpeg:https://elmarovineyard.com/wp-content/uploads/2026/02/lions.jpg
END:VEVENT
BEGIN:VEVENT
DTSTART;TZID=UTC:20260607T120000
DTEND;TZID=UTC:20260607T160000
DTSTAMP:20260425T023122
CREATED:20260216T212521Z
LAST-MODIFIED:20260216T212521Z
UID:7053-1780833600-1780848000@elmarovineyard.com
SUMMARY:June 7th Sunday Street Market
DESCRIPTION:June 7th is the first Sunday Street Market of 2026! The vineyard will be full of artisan makers\, and you can sip on wine\, enjoy Crepes by JeanLuc\, live music\, and plein air painting\, all 12-4 p.m.!Sunday Street Markets will happen every Sunday in June in 2026 from 12-4 p.m.
URL:https://elmarovineyard.com/event/june-7th-sunday-street-market/
ATTACH;FMTTYPE=image/jpeg:https://elmarovineyard.com/wp-content/uploads/2026/02/20242025-street-market-fb-event-15.jpg
END:VEVENT
BEGIN:VEVENT
DTSTART;TZID=UTC:20260611T160000
DTEND;TZID=UTC:20260611T170000
DTSTAMP:20260425T023122
CREATED:20260424T173545Z
LAST-MODIFIED:20260424T213109Z
UID:7311-1781193600-1781197200@elmarovineyard.com
SUMMARY:Adaptive Yoga
DESCRIPTION:At 4:00 p.m.\, Join Laura (co-owner and winemaker) for a one-hour yoga practice for anyone with a modified range of motion. Chairs are available for sitting or standing prop\, no former yoga training is required\, and please bring your own mat and water bottle\, $2 per person. Reserve your spot (but pay when you arrive) at http://www.exploretock.com/elmarovineyard
URL:https://elmarovineyard.com/event/adaptive-yoga-29/2026-06-11/
ATTACH;FMTTYPE=image/jpeg:https://elmarovineyard.com/wp-content/uploads/2026/04/adaptive1-scaled.jpg
END:VEVENT
BEGIN:VEVENT
DTSTART;TZID=UTC:20260611T180000
DTEND;TZID=UTC:20260611T190000
DTSTAMP:20260425T023122
CREATED:20260424T191141Z
LAST-MODIFIED:20260424T191141Z
UID:7334-1781200800-1781204400@elmarovineyard.com
SUMMARY:Sunset Yoga
DESCRIPTION:Join Laura (co-owner and winemaker) for a one-hour vinyasa yoga flow practice. This class begins at 6:00 p.m.\, includes a complimentary beverage\, and no former yoga training required. Please bring your own mat and water bottle\, $15 per person\, reservations at http://www.exploretock.com/elmarovineyard (We welcome walk-ins!)
URL:https://elmarovineyard.com/event/sunset-yoga-13/2026-06-11/
ATTACH;FMTTYPE=image/jpeg:https://elmarovineyard.com/wp-content/uploads/2026/04/yoga-outside.jpg
END:VEVENT
BEGIN:VEVENT
DTSTART;TZID=UTC:20260613T123000
DTEND;TZID=UTC:20260613T170000
DTSTAMP:20260425T023122
CREATED:20260217T221242Z
LAST-MODIFIED:20260217T221242Z
UID:7118-1781353800-1781370000@elmarovineyard.com
SUMMARY:Taco Town Food Cart
DESCRIPTION:Fresh tacos\, horchata\, esquites\, and beans.
URL:https://elmarovineyard.com/event/taco-town-food-cart-15/
ATTACH;FMTTYPE=image/jpeg:https://elmarovineyard.com/wp-content/uploads/2026/02/taco-town-taco.jpg
END:VEVENT
BEGIN:VEVENT
DTSTART;TZID=UTC:20260614T120000
DTEND;TZID=UTC:20260614T160000
DTSTAMP:20260425T023122
CREATED:20260216T212408Z
LAST-MODIFIED:20260216T212408Z
UID:7050-1781438400-1781452800@elmarovineyard.com
SUMMARY:June 14th Sunday Street Market
DESCRIPTION:The Street Market magic continues on June 14th. Jeani & The Dreamers will flood the vineyard with music\, you’ll stroll the artisan makers while eating a crepe and sipping on wine\, all 12-4 p.m.
URL:https://elmarovineyard.com/event/june-14th-sunday-street-market/
ATTACH;FMTTYPE=image/jpeg:https://elmarovineyard.com/wp-content/uploads/2026/02/20242025-street-market-fb-event-17.jpg
END:VEVENT
BEGIN:VEVENT
DTSTART;TZID=UTC:20260618T160000
DTEND;TZID=UTC:20260618T170000
DTSTAMP:20260425T023122
CREATED:20260424T173545Z
LAST-MODIFIED:20260424T213127Z
UID:7312-1781798400-1781802000@elmarovineyard.com
SUMMARY:Adaptive Yoga
DESCRIPTION:At 4:00 p.m.\, Join Laura (co-owner and winemaker) for a one-hour yoga practice for anyone with a modified range of motion. Chairs are available for sitting or standing prop\, no former yoga training is required\, and please bring your own mat and water bottle\, $2 per person. Reserve your spot (but pay when you arrive) at http://www.exploretock.com/elmarovineyard
URL:https://elmarovineyard.com/event/adaptive-yoga-29/2026-06-18/
ATTACH;FMTTYPE=image/jpeg:https://elmarovineyard.com/wp-content/uploads/2026/04/adaptive1-scaled.jpg
END:VEVENT
BEGIN:VEVENT
DTSTART;TZID=UTC:20260618T180000
DTEND;TZID=UTC:20260618T190000
DTSTAMP:20260425T023122
CREATED:20260424T191141Z
LAST-MODIFIED:20260424T191141Z
UID:7335-1781805600-1781809200@elmarovineyard.com
SUMMARY:Sunset Yoga
DESCRIPTION:Join Laura (co-owner and winemaker) for a one-hour vinyasa yoga flow practice. This class begins at 6:00 p.m.\, includes a complimentary beverage\, and no former yoga training required. Please bring your own mat and water bottle\, $15 per person\, reservations at http://www.exploretock.com/elmarovineyard (We welcome walk-ins!)
URL:https://elmarovineyard.com/event/sunset-yoga-13/2026-06-18/
ATTACH;FMTTYPE=image/jpeg:https://elmarovineyard.com/wp-content/uploads/2026/04/yoga-outside.jpg
END:VEVENT
BEGIN:VEVENT
DTSTART;TZID=UTC:20260620T123000
DTEND;TZID=UTC:20260620T170000
DTSTAMP:20260425T023122
CREATED:20260217T221456Z
LAST-MODIFIED:20260217T221456Z
UID:7120-1781958600-1781974800@elmarovineyard.com
SUMMARY:MoeBarry's Barbecue Food Truck
DESCRIPTION:Amazing barbecue and burgers\, all at Elmaro.
URL:https://elmarovineyard.com/event/moebarrys-barbecue-food-truck-2/
ATTACH;FMTTYPE=image/jpeg:https://elmarovineyard.com/wp-content/uploads/2026/02/MoeBarrysat-Elmaro-scaled.jpg
END:VEVENT
BEGIN:VEVENT
DTSTART;TZID=UTC:20260621T120000
DTEND;TZID=UTC:20260621T160000
DTSTAMP:20260425T023122
CREATED:20260216T212234Z
LAST-MODIFIED:20260216T212234Z
UID:7047-1782043200-1782057600@elmarovineyard.com
SUMMARY:June 21st Sunday Street Market
DESCRIPTION:The June 21st Street Market has Patina filling the vineyard with Irish Celtic music\, as well as a plethora of artisan makers.
URL:https://elmarovineyard.com/event/june-21st-sunday-street-market/
ATTACH;FMTTYPE=image/jpeg:https://elmarovineyard.com/wp-content/uploads/2026/02/20242025-street-market-fb-event-18.jpg
END:VEVENT
BEGIN:VEVENT
DTSTART;TZID=UTC:20260625T160000
DTEND;TZID=UTC:20260625T170000
DTSTAMP:20260425T023122
CREATED:20260424T173545Z
LAST-MODIFIED:20260424T213141Z
UID:7313-1782403200-1782406800@elmarovineyard.com
SUMMARY:Adaptive Yoga
DESCRIPTION:At 4:00 p.m.\, Join Laura (co-owner and winemaker) for a one-hour yoga practice for anyone with a modified range of motion. Chairs are available for sitting or standing prop\, no former yoga training is required\, and please bring your own mat and water bottle\, $2 per person. Reserve your spot (but pay when you arrive) at http://www.exploretock.com/elmarovineyard
URL:https://elmarovineyard.com/event/adaptive-yoga-29/2026-06-25/
ATTACH;FMTTYPE=image/jpeg:https://elmarovineyard.com/wp-content/uploads/2026/04/adaptive1-scaled.jpg
END:VEVENT
BEGIN:VEVENT
DTSTART;TZID=UTC:20260625T180000
DTEND;TZID=UTC:20260625T190000
DTSTAMP:20260425T023122
CREATED:20260424T191141Z
LAST-MODIFIED:20260424T191141Z
UID:7336-1782410400-1782414000@elmarovineyard.com
SUMMARY:Sunset Yoga
DESCRIPTION:Join Laura (co-owner and winemaker) for a one-hour vinyasa yoga flow practice. This class begins at 6:00 p.m.\, includes a complimentary beverage\, and no former yoga training required. Please bring your own mat and water bottle\, $15 per person\, reservations at http://www.exploretock.com/elmarovineyard (We welcome walk-ins!)
URL:https://elmarovineyard.com/event/sunset-yoga-13/2026-06-25/
ATTACH;FMTTYPE=image/jpeg:https://elmarovineyard.com/wp-content/uploads/2026/04/yoga-outside.jpg
END:VEVENT
BEGIN:VEVENT
DTSTART;TZID=UTC:20260627T123000
DTEND;TZID=UTC:20260627T170000
DTSTAMP:20260425T023122
CREATED:20260221T195928Z
LAST-MODIFIED:20260221T195928Z
UID:7126-1782563400-1782579600@elmarovineyard.com
SUMMARY:Taco Town Food Cart
DESCRIPTION:Eat tacos\, drink wine!
URL:https://elmarovineyard.com/event/taco-town-food-cart-16/
ATTACH;FMTTYPE=image/jpeg:https://elmarovineyard.com/wp-content/uploads/2026/02/taco-town-taco.jpg
END:VEVENT
BEGIN:VEVENT
DTSTART;TZID=UTC:20260628T120000
DTEND;TZID=UTC:20260628T160000
DTSTAMP:20260425T023122
CREATED:20260216T212037Z
LAST-MODIFIED:20260216T212037Z
UID:7044-1782648000-1782662400@elmarovineyard.com
SUMMARY:June 28th Sunday Street Market
DESCRIPTION:It’s the last June Sunday Street Market\, you’ll feast on crepes\, pizza\, and sangria\, all while you stroll the artisan makers in the vineyard.
URL:https://elmarovineyard.com/event/june-28th-sunday-street-market/
ATTACH;FMTTYPE=image/jpeg:https://elmarovineyard.com/wp-content/uploads/2026/02/20242025-street-market-fb-event-20.jpg
END:VEVENT
BEGIN:VEVENT
DTSTART;TZID=UTC:20260702T160000
DTEND;TZID=UTC:20260702T170000
DTSTAMP:20260425T023122
CREATED:20260424T173545Z
LAST-MODIFIED:20260424T213146Z
UID:7314-1783008000-1783011600@elmarovineyard.com
SUMMARY:Adaptive Yoga
DESCRIPTION:At 4:00 p.m.\, Join Laura (co-owner and winemaker) for a one-hour yoga practice for anyone with a modified range of motion. Chairs are available for sitting or standing prop\, no former yoga training is required\, and please bring your own mat and water bottle\, $2 per person. Reserve your spot (but pay when you arrive) at http://www.exploretock.com/elmarovineyard
URL:https://elmarovineyard.com/event/adaptive-yoga-29/2026-07-02/
ATTACH;FMTTYPE=image/jpeg:https://elmarovineyard.com/wp-content/uploads/2026/04/adaptive1-scaled.jpg
END:VEVENT
BEGIN:VEVENT
DTSTART;TZID=UTC:20260702T180000
DTEND;TZID=UTC:20260702T190000
DTSTAMP:20260425T023122
CREATED:20260424T191141Z
LAST-MODIFIED:20260424T191141Z
UID:7337-1783015200-1783018800@elmarovineyard.com
SUMMARY:Sunset Yoga
DESCRIPTION:Join Laura (co-owner and winemaker) for a one-hour vinyasa yoga flow practice. This class begins at 6:00 p.m.\, includes a complimentary beverage\, and no former yoga training required. Please bring your own mat and water bottle\, $15 per person\, reservations at http://www.exploretock.com/elmarovineyard (We welcome walk-ins!)
URL:https://elmarovineyard.com/event/sunset-yoga-13/2026-07-02/
ATTACH;FMTTYPE=image/jpeg:https://elmarovineyard.com/wp-content/uploads/2026/04/yoga-outside.jpg
END:VEVENT
BEGIN:VEVENT
DTSTART;TZID=UTC:20260704T120000
DTEND;TZID=UTC:20260704T180000
DTSTAMP:20260425T023122
CREATED:20260221T200606Z
LAST-MODIFIED:20260221T200606Z
UID:7128-1783166400-1783188000@elmarovineyard.com
SUMMARY:Open Saturday\, July 4th
DESCRIPTION:Elmaro Vineyard is open Saturday\, July 4th\, 12-6 p.m.!
URL:https://elmarovineyard.com/event/open-saturday-july-4th/
ATTACH;FMTTYPE=image/jpeg:https://elmarovineyard.com/wp-content/uploads/2026/02/Closed-July-4th-1920-x-1080-px-1.jpg
END:VEVENT
BEGIN:VEVENT
DTSTART;TZID=UTC:20260709T160000
DTEND;TZID=UTC:20260709T170000
DTSTAMP:20260425T023122
CREATED:20260424T173545Z
LAST-MODIFIED:20260424T213221Z
UID:7315-1783612800-1783616400@elmarovineyard.com
SUMMARY:Adaptive Yoga
DESCRIPTION:At 4:00 p.m.\, Join Laura (co-owner and winemaker) for a one-hour yoga practice for anyone with a modified range of motion. Chairs are available for sitting or standing prop\, no former yoga training is required\, and please bring your own mat and water bottle\, $2 per person. Reserve your spot (but pay when you arrive) at http://www.exploretock.com/elmarovineyard
URL:https://elmarovineyard.com/event/adaptive-yoga-29/2026-07-09/
ATTACH;FMTTYPE=image/jpeg:https://elmarovineyard.com/wp-content/uploads/2026/04/adaptive1-scaled.jpg
END:VEVENT
BEGIN:VEVENT
DTSTART;TZID=UTC:20260709T180000
DTEND;TZID=UTC:20260709T190000
DTSTAMP:20260425T023122
CREATED:20260424T191141Z
LAST-MODIFIED:20260424T191141Z
UID:7338-1783620000-1783623600@elmarovineyard.com
SUMMARY:Sunset Yoga
DESCRIPTION:Join Laura (co-owner and winemaker) for a one-hour vinyasa yoga flow practice. This class begins at 6:00 p.m.\, includes a complimentary beverage\, and no former yoga training required. Please bring your own mat and water bottle\, $15 per person\, reservations at http://www.exploretock.com/elmarovineyard (We welcome walk-ins!)
URL:https://elmarovineyard.com/event/sunset-yoga-13/2026-07-09/
ATTACH;FMTTYPE=image/jpeg:https://elmarovineyard.com/wp-content/uploads/2026/04/yoga-outside.jpg
END:VEVENT
BEGIN:VEVENT
DTSTART;TZID=UTC:20260711T123000
DTEND;TZID=UTC:20260711T170000
DTSTAMP:20260425T023122
CREATED:20260221T200755Z
LAST-MODIFIED:20260221T200755Z
UID:7131-1783773000-1783789200@elmarovineyard.com
SUMMARY:Mia's Kitchen Food Truck
DESCRIPTION:Serving up Southern soul with a Caribbean twist made with love.
URL:https://elmarovineyard.com/event/mias-kitchen-food-truck-2/
ATTACH;FMTTYPE=image/jpeg:https://elmarovineyard.com/wp-content/uploads/2026/02/mia4-scaled.jpeg
END:VEVENT
BEGIN:VEVENT
DTSTART;TZID=UTC:20260716T160000
DTEND;TZID=UTC:20260716T170000
DTSTAMP:20260425T023122
CREATED:20260424T173545Z
LAST-MODIFIED:20260424T213246Z
UID:7316-1784217600-1784221200@elmarovineyard.com
SUMMARY:Adaptive Yoga
DESCRIPTION:At 4:00 p.m.\, Join Laura (co-owner and winemaker) for a one-hour yoga practice for anyone with a modified range of motion. Chairs are available for sitting or standing prop\, no former yoga training is required\, and please bring your own mat and water bottle\, $2 per person. Reserve your spot (but pay when you arrive) at http://www.exploretock.com/elmarovineyard
URL:https://elmarovineyard.com/event/adaptive-yoga-29/2026-07-16/
ATTACH;FMTTYPE=image/jpeg:https://elmarovineyard.com/wp-content/uploads/2026/04/adaptive1-scaled.jpg
END:VEVENT
BEGIN:VEVENT
DTSTART;TZID=UTC:20260716T180000
DTEND;TZID=UTC:20260716T190000
DTSTAMP:20260425T023122
CREATED:20260424T191141Z
LAST-MODIFIED:20260424T191141Z
UID:7339-1784224800-1784228400@elmarovineyard.com
SUMMARY:Sunset Yoga
DESCRIPTION:Join Laura (co-owner and winemaker) for a one-hour vinyasa yoga flow practice. This class begins at 6:00 p.m.\, includes a complimentary beverage\, and no former yoga training required. Please bring your own mat and water bottle\, $15 per person\, reservations at http://www.exploretock.com/elmarovineyard (We welcome walk-ins!)
URL:https://elmarovineyard.com/event/sunset-yoga-13/2026-07-16/
ATTACH;FMTTYPE=image/jpeg:https://elmarovineyard.com/wp-content/uploads/2026/04/yoga-outside.jpg
END:VEVENT
BEGIN:VEVENT
DTSTART;TZID=UTC:20260718T123000
DTEND;TZID=UTC:20260718T170000
DTSTAMP:20260425T023122
CREATED:20260221T200942Z
LAST-MODIFIED:20260221T200942Z
UID:7134-1784377800-1784394000@elmarovineyard.com
SUMMARY:Taco Town Food Cart
DESCRIPTION:Tacos\, warm weather\, wine\, music\, friends….
URL:https://elmarovineyard.com/event/taco-town-food-cart-17/
ATTACH;FMTTYPE=image/jpeg:https://elmarovineyard.com/wp-content/uploads/2026/02/taco-town-taco.jpg
END:VEVENT
BEGIN:VEVENT
DTSTART;TZID=UTC:20260719T120000
DTEND;TZID=UTC:20260719T160000
DTSTAMP:20260425T023122
CREATED:20260216T221212Z
LAST-MODIFIED:20260216T221212Z
UID:7068-1784462400-1784476800@elmarovineyard.com
SUMMARY:July 19th Sunday Street Market
DESCRIPTION:The July Sunday Street Market is hot with activity! Stroll and shop a vineyard full of artisan makers\, sip on wine and sangria\, munch on crepes\, and dance to the music of Jeani & The Dreamers.
URL:https://elmarovineyard.com/event/july-19th-sunday-street-market/
ATTACH;FMTTYPE=image/jpeg:https://elmarovineyard.com/wp-content/uploads/2026/02/20242025-street-market-fb-event-21.jpg
END:VEVENT
BEGIN:VEVENT
DTSTART;TZID=UTC:20260723T160000
DTEND;TZID=UTC:20260723T170000
DTSTAMP:20260425T023122
CREATED:20260424T173545Z
LAST-MODIFIED:20260424T173545Z
UID:7322-1784822400-1784826000@elmarovineyard.com
SUMMARY:Adaptive Yoga
DESCRIPTION:At 4:00 p.m.\, Join Laura (co-owner and winemaker) for a one-hour yoga practice for anyone with a modified range of motion. Chairs are available for sitting or standing prop\, no former yoga training is required\, and please bring your own mat and water bottle\, $2 per person. Reserve your spot (but pay when you arrive) at http://www.exploretock.com/elmarovineyard
URL:https://elmarovineyard.com/event/adaptive-yoga-29/2026-07-23/
ATTACH;FMTTYPE=image/jpeg:https://elmarovineyard.com/wp-content/uploads/2026/04/adaptive1-scaled.jpg
END:VEVENT
BEGIN:VEVENT
DTSTART;TZID=UTC:20260723T180000
DTEND;TZID=UTC:20260723T190000
DTSTAMP:20260425T023122
CREATED:20260424T191141Z
LAST-MODIFIED:20260424T191141Z
UID:7341-1784829600-1784833200@elmarovineyard.com
SUMMARY:Sunset Yoga
DESCRIPTION:Join Laura (co-owner and winemaker) for a one-hour vinyasa yoga flow practice. This class begins at 6:00 p.m.\, includes a complimentary beverage\, and no former yoga training required. Please bring your own mat and water bottle\, $15 per person\, reservations at http://www.exploretock.com/elmarovineyard (We welcome walk-ins!)
URL:https://elmarovineyard.com/event/sunset-yoga-13/2026-07-23/
ATTACH;FMTTYPE=image/jpeg:https://elmarovineyard.com/wp-content/uploads/2026/04/yoga-outside.jpg
END:VEVENT
BEGIN:VEVENT
DTSTART;TZID=UTC:20260725T123000
DTEND;TZID=UTC:20260725T170000
DTSTAMP:20260425T023122
CREATED:20260221T201117Z
LAST-MODIFIED:20260221T201117Z
UID:7136-1784982600-1784998800@elmarovineyard.com
SUMMARY:Woodshed Pizza
DESCRIPTION:It’s summer\, eat pizza\, drink wine\, and listend to live music at Elmaro.
URL:https://elmarovineyard.com/event/woodshed-pizza-9/
ATTACH;FMTTYPE=image/jpeg:https://elmarovineyard.com/wp-content/uploads/2026/02/woodshed5-rotated.jpg
END:VEVENT
END:VCALENDAR