BEGIN:VCALENDAR
VERSION:2.0
PRODID:-//Elmaro Vineyard - ECPv6.15.20//NONSGML v1.0//EN
CALSCALE:GREGORIAN
METHOD:PUBLISH
X-WR-CALNAME:Elmaro Vineyard
X-ORIGINAL-URL:https://elmarovineyard.com
X-WR-CALDESC:Events for Elmaro Vineyard
REFRESH-INTERVAL;VALUE=DURATION:PT1H
X-Robots-Tag:noindex
X-PUBLISHED-TTL:PT1H
BEGIN:VTIMEZONE
TZID:UTC
BEGIN:STANDARD
TZOFFSETFROM:+0000
TZOFFSETTO:+0000
TZNAME:UTC
DTSTART:20240101T000000
END:STANDARD
END:VTIMEZONE
BEGIN:VEVENT
DTSTART;TZID=UTC:20260212T110000
DTEND;TZID=UTC:20260212T120000
DTSTAMP:20260422T214941
CREATED:20251227T190503Z
LAST-MODIFIED:20251227T190503Z
UID:6872-1770894000-1770897600@elmarovineyard.com
SUMMARY:Adaptive Yoga
DESCRIPTION:At 11:00 a.m.\, Join Laura (co-owner and winemaker) for a one-hour yoga practice for anyone with a modified range of motion. Chairs are available for sitting or standing prop\, no former yoga training is required\, and please bring your own mat and water bottle\, $2 per person. (We welcome drop-ins!)
URL:https://elmarovineyard.com/event/adaptive-yoga-27/2026-02-12/
ATTACH;FMTTYPE=image/jpeg:https://elmarovineyard.com/wp-content/uploads/2025/10/adaptive1-scaled.jpg
END:VEVENT
BEGIN:VEVENT
DTSTART;TZID=UTC:20260208T130000
DTEND;TZID=UTC:20260208T160000
DTSTAMP:20260422T214941
CREATED:20260113T191819Z
LAST-MODIFIED:20260113T191819Z
UID:6940-1770555600-1770566400@elmarovineyard.com
SUMMARY:Music by James Grant
DESCRIPTION:James Grant has been making music for over 50 years and his tunes will resonate with you as he spins his style on classic 60s and 70s covers.
URL:https://elmarovineyard.com/event/music-by-james-grant-36/
ATTACH;FMTTYPE=image/jpeg:https://elmarovineyard.com/wp-content/uploads/2025/11/James-Grant3.jpg
END:VEVENT
BEGIN:VEVENT
DTSTART;TZID=UTC:20260207T140000
DTEND;TZID=UTC:20260207T170000
DTSTAMP:20260422T214941
CREATED:20260113T191427Z
LAST-MODIFIED:20260113T191427Z
UID:6938-1770472800-1770483600@elmarovineyard.com
SUMMARY:Music by Josie Legler
DESCRIPTION:Local musician Josie Legler will put her acoustic spin on the classics!
URL:https://elmarovineyard.com/event/music-by-josie-legler-9/
ATTACH;FMTTYPE=image/jpeg:https://elmarovineyard.com/wp-content/uploads/2025/11/josie-legler3.jpg
END:VEVENT
BEGIN:VEVENT
DTSTART;TZID=UTC:20260206T180000
DTEND;TZID=UTC:20260206T190000
DTSTAMP:20260422T214941
CREATED:20260114T190718Z
LAST-MODIFIED:20260114T190718Z
UID:6973-1770400800-1770404400@elmarovineyard.com
SUMMARY:Chocolate & Wine Pairing Class
DESCRIPTION:Sip and savor chocolate and wine with Elmaro’s owners and winemakers\, and become versed in the nuances of how chocolate and wine make the perfect couple. $38/couple\, and this includes six + wine and chocolate pairings\, register at http://www.exploretock.com/elmarovineyard\nFor a single registration\, please call the tasting room at 608-534-6456.
URL:https://elmarovineyard.com/event/chocolate-wine-pairing-class/
ATTACH;FMTTYPE=image/jpeg:https://elmarovineyard.com/wp-content/uploads/2026/01/Chocolate-Wine-Pairing-Class.jpg
END:VEVENT
BEGIN:VEVENT
DTSTART;TZID=UTC:20260205T110000
DTEND;TZID=UTC:20260205T120000
DTSTAMP:20260422T214941
CREATED:20251227T190503Z
LAST-MODIFIED:20251227T190503Z
UID:6871-1770289200-1770292800@elmarovineyard.com
SUMMARY:Adaptive Yoga
DESCRIPTION:At 11:00 a.m.\, Join Laura (co-owner and winemaker) for a one-hour yoga practice for anyone with a modified range of motion. Chairs are available for sitting or standing prop\, no former yoga training is required\, and please bring your own mat and water bottle\, $2 per person. (We welcome drop-ins!)
URL:https://elmarovineyard.com/event/adaptive-yoga-27/2026-02-05/
ATTACH;FMTTYPE=image/jpeg:https://elmarovineyard.com/wp-content/uploads/2025/10/adaptive1-scaled.jpg
END:VEVENT
BEGIN:VEVENT
DTSTART;TZID=UTC:20260201T130000
DTEND;TZID=UTC:20260201T150000
DTSTAMP:20260422T214941
CREATED:20260113T213029Z
LAST-MODIFIED:20260113T213029Z
UID:6946-1769950800-1769958000@elmarovineyard.com
SUMMARY:February 1st Sunday Bingo
DESCRIPTION:February 1st Sunday Bingo! Let’s keep these good vibes going with Sunday Bingo on February 1st\, 1-3 p.m.! No fee\, but you must reserve your spots at http://www.exploretock.com/elmarovineyard. Two complimentary bingo cards for each guest\, assorted prizes\, with bingo will begining at 1:00 p.m.
URL:https://elmarovineyard.com/event/february-1st-sunday-bingo/
ATTACH;FMTTYPE=image/jpeg:https://elmarovineyard.com/wp-content/uploads/2026/01/BINGO-facebook-event-cover-28.jpg
END:VEVENT
BEGIN:VEVENT
DTSTART;TZID=UTC:20260131T140000
DTEND;TZID=UTC:20260131T170000
DTSTAMP:20260422T214941
CREATED:20260105T154820Z
LAST-MODIFIED:20260105T154820Z
UID:6912-1769868000-1769878800@elmarovineyard.com
SUMMARY:Music by Jeani & The Dreamers
DESCRIPTION:Get ready to dance! Jeani & The Dreamers will be rockin’ the winery from 2-5 p.m.
URL:https://elmarovineyard.com/event/music-by-jeani-the-dreamers-19/
ATTACH;FMTTYPE=image/jpeg:https://elmarovineyard.com/wp-content/uploads/2025/10/Jeaniandthedreamers.jpg
END:VEVENT
BEGIN:VEVENT
DTSTART;TZID=UTC:20260130T180000
DTEND;TZID=UTC:20260130T193000
DTSTAMP:20260422T214941
CREATED:20260105T154704Z
LAST-MODIFIED:20260120T210015Z
UID:6909-1769796000-1769801400@elmarovineyard.com
SUMMARY:Trivia Night
DESCRIPTION:You and your team of up to 6 people can vie for bragging rights of trivial knowledge\, all at Trivia Night at Elmaro\, January 30th 6:00 p.m. Prizes for 1st\, 2nd\, and 3rd place teams. No fee to play\, but register your team of up to 6 people at http://www.exploretock.com/elmarovineyard
URL:https://elmarovineyard.com/event/trivia-night-12/
ATTACH;FMTTYPE=image/jpeg:https://elmarovineyard.com/wp-content/uploads/2026/01/Trivia-questins-3.jpg
END:VEVENT
BEGIN:VEVENT
DTSTART;TZID=UTC:20260130T120000
DTEND;TZID=UTC:20260130T180000
DTSTAMP:20260422T214941
CREATED:20260120T205821Z
LAST-MODIFIED:20260120T205821Z
UID:6976-1769774400-1769796000@elmarovineyard.com
SUMMARY:Date Day
DESCRIPTION:It’s Date Day\, all day at Elmaro on Friday\, January 30th\, 12-6 p.m.  Bring your favorite human to Elmaro and enjoy a local or artisan cheese plate and a dessert for $22.
URL:https://elmarovineyard.com/event/date-day/
ATTACH;FMTTYPE=image/jpeg:https://elmarovineyard.com/wp-content/uploads/2026/01/Date-Night-1920-x-1080-px-15.jpg
END:VEVENT
BEGIN:VEVENT
DTSTART;TZID=UTC:20260129T110000
DTEND;TZID=UTC:20260129T120000
DTSTAMP:20260422T214941
CREATED:20251227T190503Z
LAST-MODIFIED:20251227T190503Z
UID:6870-1769684400-1769688000@elmarovineyard.com
SUMMARY:Adaptive Yoga
DESCRIPTION:At 11:00 a.m.\, Join Laura (co-owner and winemaker) for a one-hour yoga practice for anyone with a modified range of motion. Chairs are available for sitting or standing prop\, no former yoga training is required\, and please bring your own mat and water bottle\, $2 per person. (We welcome drop-ins!)
URL:https://elmarovineyard.com/event/adaptive-yoga-27/2026-01-29/
ATTACH;FMTTYPE=image/jpeg:https://elmarovineyard.com/wp-content/uploads/2025/10/adaptive1-scaled.jpg
END:VEVENT
BEGIN:VEVENT
DTSTART;TZID=UTC:20260125T130000
DTEND;TZID=UTC:20260125T150000
DTSTAMP:20260422T214941
CREATED:20251227T190157Z
LAST-MODIFIED:20251227T190157Z
UID:6864-1769346000-1769353200@elmarovineyard.com
SUMMARY:January 25th Sunday Bingo
DESCRIPTION:January 25th Sunday Bingo! Bingo is at Elmaro every Sunday in January from 1-3 p.m.! No registration fee\, but you must reserve your spots here (https://www.exploretock.com/…/january-25th-sunday-bingo) Two complimentary bingo cards for each guest\, assorted prizes\, with bingo will begining at 1:00 p.m.
URL:https://elmarovineyard.com/event/january-25th-sunday-bingo/
ATTACH;FMTTYPE=image/jpeg:https://elmarovineyard.com/wp-content/uploads/2025/12/BINGO-facebook-event-cover-25.jpg
END:VEVENT
BEGIN:VEVENT
DTSTART;TZID=UTC:20260124T140000
DTEND;TZID=UTC:20260124T170000
DTSTAMP:20260422T214941
CREATED:20251227T191706Z
LAST-MODIFIED:20251227T191706Z
UID:6888-1769263200-1769274000@elmarovineyard.com
SUMMARY:Music by Quenten Brown
DESCRIPTION:Quenten Brown is just strumming strings…playing tunes. Meeting fine people along the way…
URL:https://elmarovineyard.com/event/music-by-quenten-brown-7/
ATTACH;FMTTYPE=image/jpeg:https://elmarovineyard.com/wp-content/uploads/2025/12/quenten-brown.jpg
END:VEVENT
BEGIN:VEVENT
DTSTART;TZID=UTC:20260122T110000
DTEND;TZID=UTC:20260122T120000
DTSTAMP:20260422T214941
CREATED:20251227T190503Z
LAST-MODIFIED:20251227T190503Z
UID:6869-1769079600-1769083200@elmarovineyard.com
SUMMARY:Adaptive Yoga
DESCRIPTION:At 11:00 a.m.\, Join Laura (co-owner and winemaker) for a one-hour yoga practice for anyone with a modified range of motion. Chairs are available for sitting or standing prop\, no former yoga training is required\, and please bring your own mat and water bottle\, $2 per person. (We welcome drop-ins!)
URL:https://elmarovineyard.com/event/adaptive-yoga-27/2026-01-22/
ATTACH;FMTTYPE=image/jpeg:https://elmarovineyard.com/wp-content/uploads/2025/10/adaptive1-scaled.jpg
END:VEVENT
BEGIN:VEVENT
DTSTART;TZID=UTC:20260118T130000
DTEND;TZID=UTC:20260118T150000
DTSTAMP:20260422T214941
CREATED:20251227T190036Z
LAST-MODIFIED:20251227T191823Z
UID:6861-1768741200-1768748400@elmarovineyard.com
SUMMARY:January 18th Sunday Bingo
DESCRIPTION:January 18th Sunday Bingo! Bingo is at Elmaro every Sunday in January from 1-3 p.m.! No registration fee\, but you must reserve your spots here (https://www.exploretock.com/…/january-18th-sunday-bingo Two complimentary bingo cards for each guest\, assorted prizes\, with bingo will begining at 1:00 p.m.
URL:https://elmarovineyard.com/event/january-a18th-sunday-bingo/
ATTACH;FMTTYPE=image/jpeg:https://elmarovineyard.com/wp-content/uploads/2025/12/BINGO-facebook-event-cover-24.jpg
END:VEVENT
BEGIN:VEVENT
DTSTART;TZID=UTC:20260117T140000
DTEND;TZID=UTC:20260117T170000
DTSTAMP:20260422T214941
CREATED:20251227T191512Z
LAST-MODIFIED:20251227T191512Z
UID:6885-1768658400-1768669200@elmarovineyard.com
SUMMARY:Music by Greg Gall
DESCRIPTION:Greg performs Acoustic Folk/Rock from the seventies and beyond.
URL:https://elmarovineyard.com/event/music-by-greg-gall-4/
ATTACH;FMTTYPE=image/jpeg:https://elmarovineyard.com/wp-content/uploads/2025/12/greg-gall-solo2-scaled.jpg
END:VEVENT
BEGIN:VEVENT
DTSTART;TZID=UTC:20260117T100000
DTEND;TZID=UTC:20260117T113000
DTSTAMP:20260422T214941
CREATED:20260105T154432Z
LAST-MODIFIED:20260105T154432Z
UID:6906-1768644000-1768649400@elmarovineyard.com
SUMMARY:Yoga & Brunch
DESCRIPTION:Join Laura (co-owner and winemaker) on Saturday\, January 17th at 10 a.m. for a relaxing hour of vinyasa flow yoga practice\, followed by a continental brunch and a mimosa. $23/person\, register at http://www.exploretock.com/elmarovineyard
URL:https://elmarovineyard.com/event/yoga-brunch-26/
ATTACH;FMTTYPE=image/jpeg:https://elmarovineyard.com/wp-content/uploads/2026/01/New-Years-Eve-Yoga-Brunch-10-a.m.-1920-x-1080-px-20.jpg
END:VEVENT
BEGIN:VEVENT
DTSTART;TZID=UTC:20260116T120000
DTEND;TZID=UTC:20260116T180000
DTSTAMP:20260422T214941
CREATED:20260105T154150Z
LAST-MODIFIED:20260106T165958Z
UID:6902-1768564800-1768586400@elmarovineyard.com
SUMMARY:Pick Your Own Charcuterie
DESCRIPTION:You’ll select six options from cheeses\, salami\, summer sausage\, sweet treats\, and crackers to fit your mood and cravings for $16\, and you can add on two glasses of wine for only $6 more\, no registration needed.
URL:https://elmarovineyard.com/event/pick-your-own-charcuterie-2/
ATTACH;FMTTYPE=image/jpeg:https://elmarovineyard.com/wp-content/uploads/2026/01/build-your-own-9.jpg
END:VEVENT
BEGIN:VEVENT
DTSTART;TZID=UTC:20260115T110000
DTEND;TZID=UTC:20260115T120000
DTSTAMP:20260422T214941
CREATED:20251227T190503Z
LAST-MODIFIED:20251227T190503Z
UID:6868-1768474800-1768478400@elmarovineyard.com
SUMMARY:Adaptive Yoga
DESCRIPTION:At 11:00 a.m.\, Join Laura (co-owner and winemaker) for a one-hour yoga practice for anyone with a modified range of motion. Chairs are available for sitting or standing prop\, no former yoga training is required\, and please bring your own mat and water bottle\, $2 per person. (We welcome drop-ins!)
URL:https://elmarovineyard.com/event/adaptive-yoga-27/2026-01-15/
ATTACH;FMTTYPE=image/jpeg:https://elmarovineyard.com/wp-content/uploads/2025/10/adaptive1-scaled.jpg
END:VEVENT
BEGIN:VEVENT
DTSTART;TZID=UTC:20260111T130000
DTEND;TZID=UTC:20260111T150000
DTSTAMP:20260422T214941
CREATED:20251227T185917Z
LAST-MODIFIED:20251227T185917Z
UID:6858-1768136400-1768143600@elmarovineyard.com
SUMMARY:Sunday\, January 11th Bingo
DESCRIPTION:January 11th Sunday Bingo! Bingo is at Elmaro every Sunday in January from 1-3 p.m.! No registration fee\, but you must reserve your spots here (https://www.exploretock.com/…/january-11th-sunday-bingo) Two complimentary bingo cards for each guest\, assorted prizes\, with bingo will begining at 1:00 p.m.
URL:https://elmarovineyard.com/event/sunday-january-11th-bingo/
ATTACH;FMTTYPE=image/jpeg:https://elmarovineyard.com/wp-content/uploads/2025/12/BINGO-facebook-event-cover-23.jpg
END:VEVENT
BEGIN:VEVENT
DTSTART;TZID=UTC:20260110T140000
DTEND;TZID=UTC:20260110T170000
DTSTAMP:20260422T214941
CREATED:20251227T191101Z
LAST-MODIFIED:20251227T191101Z
UID:6879-1768053600-1768064400@elmarovineyard.com
SUMMARY:Music by Allison Sky
DESCRIPTION:Allison Sky’s music is a reflection of her journey—raw\, honest\, and full of emotion. With a voice that speaks directly to the heart\, her songs are a blend of vulnerability and strength\, crafted from real-life experiences and a deep connection to her listeners. Each track tells a story\, inviting you to experience her world through soulful melodies and powerful lyrics. Whether it’s overcoming personal challenges or celebrating life’s triumphs\, Allison’s music is designed to move you\, inspire you\, and remind you that you’re never alone in your journey.
URL:https://elmarovineyard.com/event/music-by-allison-sky-3/
ATTACH;FMTTYPE=image/jpeg:https://elmarovineyard.com/wp-content/uploads/2025/12/allison-sky.jpg
END:VEVENT
BEGIN:VEVENT
DTSTART;TZID=UTC:20260110T120000
DTEND;TZID=UTC:20260110T180000
DTSTAMP:20260422T214941
CREATED:20260105T154014Z
LAST-MODIFIED:20260105T154014Z
UID:6899-1768046400-1768068000@elmarovineyard.com
SUMMARY:National Dark Chocolate Day
DESCRIPTION:National (Dark) Chocolate Day! Why celebrate just dark chocolate\, when so many different chocolates are available? Elmaro will have Chocolate and Wine specials available all day\, 12-6 p.m.
URL:https://elmarovineyard.com/event/national-dark-chocolate-day/
ATTACH;FMTTYPE=image/jpeg:https://elmarovineyard.com/wp-content/uploads/2026/01/January-event-covers-1.jpg
END:VEVENT
BEGIN:VEVENT
DTSTART;TZID=UTC:20260109T120000
DTEND;TZID=UTC:20260109T180000
DTSTAMP:20260422T214941
CREATED:20260105T153906Z
LAST-MODIFIED:20260105T153906Z
UID:6896-1767960000-1767981600@elmarovineyard.com
SUMMARY:Apricots & Cheese
DESCRIPTION:National Apricot Day means we celebrate with a special apricot charcuterie board\, and amazing apricot and wine pairings.
URL:https://elmarovineyard.com/event/apricots-cheese/
ATTACH;FMTTYPE=image/jpeg:https://elmarovineyard.com/wp-content/uploads/2026/01/Heading-29.jpg
END:VEVENT
BEGIN:VEVENT
DTSTART;TZID=UTC:20260108T180000
DTEND;TZID=UTC:20260108T193000
DTSTAMP:20260422T214941
CREATED:20251227T190709Z
LAST-MODIFIED:20251227T191950Z
UID:6876-1767895200-1767900600@elmarovineyard.com
SUMMARY:Storytime For Adults
DESCRIPTION:Our adult storytime this month will be held at Elmaro Vineyard!\nJoin us for stories & fun hosted by Ty Webster:)\n6 PM – apps & drinks available for purchase. 21+
URL:https://elmarovineyard.com/event/storytime-for-adults/
ATTACH;FMTTYPE=image/jpeg:https://elmarovineyard.com/wp-content/uploads/2025/12/595309932_1246799014142409_7320364717189879687_n.jpg
END:VEVENT
BEGIN:VEVENT
DTSTART;TZID=UTC:20260108T120000
DTEND;TZID=UTC:20260108T190000
DTSTAMP:20260422T214941
CREATED:20260105T153755Z
LAST-MODIFIED:20260106T165917Z
UID:6893-1767873600-1767898800@elmarovineyard.com
SUMMARY:Pick Your Own Charcuterie
DESCRIPTION:You’ll select six options from cheeses\, salami\, summer sausage\, sweet treats\, and crackers to fit your mood and cravings for $16\, and you can add on two glasses of wine for only $6 more\, no registration needed.
URL:https://elmarovineyard.com/event/pick-your-own-charcuterie/
ATTACH;FMTTYPE=image/jpeg:https://elmarovineyard.com/wp-content/uploads/2026/01/build-your-own-8.jpg
END:VEVENT
BEGIN:VEVENT
DTSTART;TZID=UTC:20260108T110000
DTEND;TZID=UTC:20260108T120000
DTSTAMP:20260422T214941
CREATED:20251227T190503Z
LAST-MODIFIED:20251227T190503Z
UID:6867-1767870000-1767873600@elmarovineyard.com
SUMMARY:Adaptive Yoga
DESCRIPTION:At 11:00 a.m.\, Join Laura (co-owner and winemaker) for a one-hour yoga practice for anyone with a modified range of motion. Chairs are available for sitting or standing prop\, no former yoga training is required\, and please bring your own mat and water bottle\, $2 per person. (We welcome drop-ins!)
URL:https://elmarovineyard.com/event/adaptive-yoga-27/2026-01-08/
ATTACH;FMTTYPE=image/jpeg:https://elmarovineyard.com/wp-content/uploads/2025/10/adaptive1-scaled.jpg
END:VEVENT
BEGIN:VEVENT
DTSTART;TZID=UTC:20260104T130000
DTEND;TZID=UTC:20260104T150000
DTSTAMP:20260422T214941
CREATED:20251227T185714Z
LAST-MODIFIED:20251227T185714Z
UID:6855-1767531600-1767538800@elmarovineyard.com
SUMMARY:Sunday\, January 4th Bingo
DESCRIPTION:Bingo is at Elmaro every Sunday in January from 1-3 p.m.! No registration fee\, but you must reserve your spots here (https://www.exploretock.com/…/january-4th-sunday-bingo). Two complimentary bingo cards for each guest\, assorted prizes\, with bingo will begining at 1:00 p.m.
URL:https://elmarovineyard.com/event/sunday-january-4th-bingo/
ATTACH;FMTTYPE=image/jpeg:https://elmarovineyard.com/wp-content/uploads/2025/12/BINGO-facebook-event-cover-22.jpg
END:VEVENT
BEGIN:VEVENT
DTSTART;TZID=UTC:20260101T120000
DTEND;TZID=UTC:20260101T180000
DTSTAMP:20260422T214941
CREATED:20251203T204922Z
LAST-MODIFIED:20251203T204922Z
UID:6822-1767268800-1767290400@elmarovineyard.com
SUMMARY:Closed Thursday\, January 1st
DESCRIPTION:Elmaro Vineyard is closed on Thursday\, January 1st.  We will see you on the 2nd at noon!
URL:https://elmarovineyard.com/event/closed-thursday-january-1st/
ATTACH;FMTTYPE=image/jpeg:https://elmarovineyard.com/wp-content/uploads/2025/12/merry-christmas-and-happy-new-year-facebook-cover-2.jpg
END:VEVENT
BEGIN:VEVENT
DTSTART;TZID=UTC:20251231T170000
DTEND;TZID=UTC:20251231T190000
DTSTAMP:20260422T214941
CREATED:20251125T221829Z
LAST-MODIFIED:20251215T194255Z
UID:6795-1767200400-1767207600@elmarovineyard.com
SUMMARY:New Year's Eve Cheese & Wine Tasting
DESCRIPTION:It’s an evening of cheese\, wine\, and the finer things. Taste and score 15+ cheeses from award winning cheese makers. You’ll sample Port Style and chocolate\, caviar\, and assorted accompaniments\, with music by Under Paris Skies. It’s the perfect way to start your New Year’s Eve celebrations. 5-7 p.m. $35/person\, registration att https://www.exploretock.com/elmarovineyard/event/582169/new-years-eve
URL:https://elmarovineyard.com/event/new-years-eve-wine-cheese-and-appetizers/
ATTACH;FMTTYPE=image/jpeg:https://elmarovineyard.com/wp-content/uploads/2025/11/NYE-bingo-ticket-1920-x-1080-px.jpg
END:VEVENT
BEGIN:VEVENT
DTSTART;TZID=UTC:20251231T120000
DTEND;TZID=UTC:20251231T170000
DTSTAMP:20260422T214941
CREATED:20251203T220358Z
LAST-MODIFIED:20251203T220358Z
UID:6836-1767182400-1767200400@elmarovineyard.com
SUMMARY:Melacato and a caramel
DESCRIPTION:It’s New Year’s Eve\, enjoy a glass of Elmaro’s sparkling Melacato with a Mayana Chocolate Caramel\, $8\, 12-5 p.m.
URL:https://elmarovineyard.com/event/melacato-and-a-caramel/
ATTACH;FMTTYPE=image/jpeg:https://elmarovineyard.com/wp-content/uploads/2025/12/IMG_5395-scaled.jpg
END:VEVENT
BEGIN:VEVENT
DTSTART;TZID=UTC:20251231T120000
DTEND;TZID=UTC:20251231T170000
DTSTAMP:20260422T214941
CREATED:20251203T215746Z
LAST-MODIFIED:20251222T172337Z
UID:6834-1767182400-1767200400@elmarovineyard.com
SUMMARY:Open 12-5 p.m.
DESCRIPTION:December Holiday Hours\, Open 12-5 p.m. on the 26th\, 27th\, 28th\, 30th\, and 31st. Thank you!
URL:https://elmarovineyard.com/event/open-12-5-p-m-5/2025-12-31/
ATTACH;FMTTYPE=image/jpeg:https://elmarovineyard.com/wp-content/uploads/2025/12/Wednesday-24th-12-p.m.-Thursday-25th-Closed-Friday-26th-12-5-p.m.-Saturday-27th-12-5-p.m.-Sunday-28th-12-5-p.m.-Tuesday-30th-12-5-p.m.-Wednesday-31st-12-5-p.m.-1-scaled.jpg
END:VEVENT
END:VCALENDAR