BEGIN:VCALENDAR
VERSION:2.0
PRODID:-//Elmaro Vineyard - ECPv6.15.20//NONSGML v1.0//EN
CALSCALE:GREGORIAN
METHOD:PUBLISH
X-ORIGINAL-URL:https://elmarovineyard.com
X-WR-CALDESC:Events for Elmaro Vineyard
REFRESH-INTERVAL;VALUE=DURATION:PT1H
X-Robots-Tag:noindex
X-PUBLISHED-TTL:PT1H
BEGIN:VTIMEZONE
TZID:UTC
BEGIN:STANDARD
TZOFFSETFROM:+0000
TZOFFSETTO:+0000
TZNAME:UTC
DTSTART:20240101T000000
END:STANDARD
END:VTIMEZONE
BEGIN:VEVENT
DTSTART;TZID=UTC:20250426T140000
DTEND;TZID=UTC:20250426T170000
DTSTAMP:20260425T023251
CREATED:20250309T200320Z
LAST-MODIFIED:20250309T200320Z
UID:5982-1745676000-1745686800@elmarovineyard.com
SUMMARY:Music by Under Paris Skies
DESCRIPTION:UNDER PARIS SKIES features a unique musical blend of vintage swing\, cabaret\, tango & Latin influences.
URL:https://elmarovineyard.com/event/music-by-under-paris-skies-6/
ATTACH;FMTTYPE=image/jpeg:https://elmarovineyard.com/wp-content/uploads/2025/03/Under-Paris-Skies-3-scaled.jpg
END:VEVENT
BEGIN:VEVENT
DTSTART;TZID=UTC:20250427T120000
DTEND;TZID=UTC:20250427T163000
DTSTAMP:20260425T023251
CREATED:20250317T195523Z
LAST-MODIFIED:20250317T195605Z
UID:6021-1745755200-1745771400@elmarovineyard.com
SUMMARY:Dog Walk in the Vineyard
DESCRIPTION:Pssst….this is for the dogs! Celebrate your humans (it’s Pet Parent Day) and bring them to Elmaro on April 27th for a self-guided dog walk through the vineyard. There will be dog treat stops along they way\, and there’s no fee or registration.  Maps and info are available upon arrival.
URL:https://elmarovineyard.com/event/6021/
ATTACH;FMTTYPE=image/png:https://elmarovineyard.com/wp-content/uploads/2025/03/Self-Guided-Dog-Walk-in-the-Vines-Facebook-Event-Cover-11-x-8.5-in-3.png
END:VEVENT
BEGIN:VEVENT
DTSTART;TZID=UTC:20250501T110000
DTEND;TZID=UTC:20250501T120000
DTSTAMP:20260425T023251
CREATED:20250309T194117Z
LAST-MODIFIED:20250309T194117Z
UID:5960-1746097200-1746100800@elmarovineyard.com
SUMMARY:Adaptive Yoga
DESCRIPTION:At 11:00 a.m.\, Join Laura (co-owner and winemaker) for a one-hour yoga practice for anyone with a modified range of motion. Chairs are available for sitting or standing prop\, no former yoga training is required\, and please bring your own mat and water bottle\, $2 per person. (We welcome drop-ins!)
URL:https://elmarovineyard.com/event/adaptive-yoga-23/2025-05-01/
ATTACH;FMTTYPE=image/jpeg:https://elmarovineyard.com/wp-content/uploads/2024/10/adaptive1-1-scaled.jpg
END:VEVENT
BEGIN:VEVENT
DTSTART;TZID=UTC:20250502T150000
DTEND;TZID=UTC:20250502T180000
DTSTAMP:20260425T023251
CREATED:20250327T190332Z
LAST-MODIFIED:20250327T190332Z
UID:6033-1746198000-1746208800@elmarovineyard.com
SUMMARY:Music by David Hartman
DESCRIPTION:David plays 6 and 12 string guitar for soft rock\, country\, folk\, and modern music primarily from the 60’s and 70’s. It’s a little something for everyone!
URL:https://elmarovineyard.com/event/music-by-david-hartman-19/
ATTACH;FMTTYPE=image/jpeg:https://elmarovineyard.com/wp-content/uploads/2025/03/david-hartman4-1.jpg
END:VEVENT
BEGIN:VEVENT
DTSTART;TZID=UTC:20250503T090000
DTEND;TZID=UTC:20250503T110000
DTSTAMP:20260425T023251
CREATED:20250129T224117Z
LAST-MODIFIED:20250129T224117Z
UID:5880-1746262800-1746270000@elmarovineyard.com
SUMMARY:Springtime Bird Wreath Creation
DESCRIPTION:Come celebrate spring and bird migration with this seasonal wreath workshop! This event includes a grapevine wreath\, natural greenery and bird-themed elements to create a 16-18 inch finished wreath that will look lovely on your wall or door. This wreath will dry well if you want to store it for the following year. $53/person.  Registration at https://www.exploretock.com/elmarovineyard/event/531606/springtime-bird-wreath-creation
URL:https://elmarovineyard.com/event/springtime-bird-wreath-creation/
ATTACH;FMTTYPE=image/png:https://elmarovineyard.com/wp-content/uploads/2025/01/Springtime-Bird-Wreath.png
END:VEVENT
BEGIN:VEVENT
DTSTART;TZID=UTC:20250503T140000
DTEND;TZID=UTC:20250503T170000
DTSTAMP:20260425T023251
CREATED:20250327T190614Z
LAST-MODIFIED:20250327T190614Z
UID:6036-1746280800-1746291600@elmarovineyard.com
SUMMARY:Music by Sampson & Son
DESCRIPTION:This duo of local musicians put a fun twist on your favorite tunes!
URL:https://elmarovineyard.com/event/music-by-sampson-son-18/
ATTACH;FMTTYPE=image/jpeg:https://elmarovineyard.com/wp-content/uploads/2025/03/sampson-duo4.jpg
END:VEVENT
BEGIN:VEVENT
DTSTART;TZID=UTC:20250504T130000
DTEND;TZID=UTC:20250504T160000
DTSTAMP:20260425T023251
CREATED:20250327T190755Z
LAST-MODIFIED:20250327T190755Z
UID:6039-1746363600-1746374400@elmarovineyard.com
SUMMARY:Music by Jeani & The Dreamers
DESCRIPTION:Jeani & The Dreamers are at Elmaro! It’s time to dance\, vibe\, sing\, and have some wine with your favorite band.
URL:https://elmarovineyard.com/event/music-by-jeani-the-dreamers-13/
ATTACH;FMTTYPE=image/jpeg:https://elmarovineyard.com/wp-content/uploads/2025/03/Jeaniandthedreamers.jpg
END:VEVENT
BEGIN:VEVENT
DTSTART;TZID=UTC:20250504T130000
DTEND;TZID=UTC:20250504T160000
DTSTAMP:20260425T023251
CREATED:20250408T185359Z
LAST-MODIFIED:20250408T185359Z
UID:6087-1746363600-1746374400@elmarovineyard.com
SUMMARY:Meet the May artist\, Darcy Skibba
DESCRIPTION:Inspired by the natural world\, Darcy Johnson Skibba uses her photographs to create acrylic paintings that reflect the light\, color\, textures and shapes of the landscapes around us. Each image embodies an experience of a place or time that connects her to something greater at its origin. In a circular way\, she hopes that each person finds a personal connection to her work\,  a kindred appreciation of the natural world we share\, and a deeper\, more meaningful relationship with our creator and ultimately with one another. Questions or requests for a commission may be sent to artbydajs@gmail.com.
URL:https://elmarovineyard.com/event/meet-the-may-artist-darcy-skibba/
ATTACH;FMTTYPE=image/jpeg:https://elmarovineyard.com/wp-content/uploads/2025/04/Meet-the-July-Artist-Lyndsey-Mickelson-6.jpg
END:VEVENT
BEGIN:VEVENT
DTSTART;TZID=UTC:20250508T110000
DTEND;TZID=UTC:20250508T120000
DTSTAMP:20260425T023251
CREATED:20250309T194117Z
LAST-MODIFIED:20250309T194117Z
UID:5961-1746702000-1746705600@elmarovineyard.com
SUMMARY:Adaptive Yoga
DESCRIPTION:At 11:00 a.m.\, Join Laura (co-owner and winemaker) for a one-hour yoga practice for anyone with a modified range of motion. Chairs are available for sitting or standing prop\, no former yoga training is required\, and please bring your own mat and water bottle\, $2 per person. (We welcome drop-ins!)
URL:https://elmarovineyard.com/event/adaptive-yoga-23/2025-05-08/
ATTACH;FMTTYPE=image/jpeg:https://elmarovineyard.com/wp-content/uploads/2024/10/adaptive1-1-scaled.jpg
END:VEVENT
BEGIN:VEVENT
DTSTART;TZID=UTC:20250509T173000
DTEND;TZID=UTC:20250509T193000
DTSTAMP:20260425T023251
CREATED:20250409T170148Z
LAST-MODIFIED:20250409T170148Z
UID:6108-1746811800-1746819000@elmarovineyard.com
SUMMARY:World Migratory Bird Day Social Hour and Presentation
DESCRIPTION:The Friends of the Trempealeau Refuge invite you to Elmaro Vineyard for the World Migratory Bird Day celebration with the social hour at 5:30 p.m.\, followed by the always entertaining presentation by Scott Lee at 6:30 PM.\nAs part of International Migratory Bird Day celebration and in conjunction with Elmaro Vineyard and Environment for America’s\, a special “Bird Day Red” wine is being released at Elmaro on May 9th.
URL:https://elmarovineyard.com/event/world-migratory-bird-day-social-hour-and-presentation-2/
ATTACH;FMTTYPE=image/png:https://elmarovineyard.com/wp-content/uploads/2025/04/Bird-day-2024-2.png
END:VEVENT
BEGIN:VEVENT
DTSTART;TZID=UTC:20250510T123000
DTEND;TZID=UTC:20250510T170000
DTSTAMP:20260425T023251
CREATED:20250327T190930Z
LAST-MODIFIED:20250327T190930Z
UID:6042-1746880200-1746896400@elmarovineyard.com
SUMMARY:Woodshed Pizza Truck
DESCRIPTION:It’s Elmaro’s first food truck of the season!  Come hungry\, it’s Woodshed Wood-Fired Pizza\, and yes\, it all pairs perfectly with wine.
URL:https://elmarovineyard.com/event/woodshed-pizza-truck-4/
ATTACH;FMTTYPE=image/jpeg:https://elmarovineyard.com/wp-content/uploads/2025/03/woodshed4.jpg
END:VEVENT
BEGIN:VEVENT
DTSTART;TZID=UTC:20250510T140000
DTEND;TZID=UTC:20250510T170000
DTSTAMP:20260425T023251
CREATED:20250408T182848Z
LAST-MODIFIED:20250408T182848Z
UID:6084-1746885600-1746896400@elmarovineyard.com
SUMMARY:Music by Greg Gall and His Sisters From Another Mother
DESCRIPTION:Greg Gall and My Sisters From Another Mother\, 2-5 p.m.  They perform acoustic olk/rock from the seventies and beyond.
URL:https://elmarovineyard.com/event/music-by-greg-gall-and-his-sisters-from-another-mother-5/
ATTACH;FMTTYPE=image/jpeg:https://elmarovineyard.com/wp-content/uploads/2025/04/Greg-Gall-scaled.jpg
END:VEVENT
BEGIN:VEVENT
DTSTART;TZID=UTC:20250511T120000
DTEND;TZID=UTC:20250511T150000
DTSTAMP:20260425T023251
CREATED:20250408T181851Z
LAST-MODIFIED:20250408T181851Z
UID:6078-1746964800-1746975600@elmarovineyard.com
SUMMARY:Classical guitar by Chris Rude
DESCRIPTION:Classical guitar on Mother’s Day is the perfect relaxing Sunday!  12-3 p.m.
URL:https://elmarovineyard.com/event/classical-guitar-by-chris-rude-13/
ATTACH;FMTTYPE=image/jpeg:https://elmarovineyard.com/wp-content/uploads/2024/11/Chris-Rude.jpg
END:VEVENT
BEGIN:VEVENT
DTSTART;TZID=UTC:20250511T120000
DTEND;TZID=UTC:20250511T170000
DTSTAMP:20260425T023251
CREATED:20250408T182420Z
LAST-MODIFIED:20250408T182420Z
UID:6080-1746964800-1746982800@elmarovineyard.com
SUMMARY:Mother's Day Mimosa and Dessert Bar
DESCRIPTION:Mimosa Bar and Dessert Bar at Elmaro on May 11th\, 12-5 p.m.  What else is there to say?
URL:https://elmarovineyard.com/event/mothers-day-mimosa-and-dessert-bar/
ATTACH;FMTTYPE=image/png:https://elmarovineyard.com/wp-content/uploads/2025/04/Mothers-Day-Mimosa-Bar-Dessert-Bar-1-1.png
END:VEVENT
BEGIN:VEVENT
DTSTART;TZID=UTC:20250515T110000
DTEND;TZID=UTC:20250515T120000
DTSTAMP:20260425T023251
CREATED:20250309T194117Z
LAST-MODIFIED:20250309T194117Z
UID:5962-1747306800-1747310400@elmarovineyard.com
SUMMARY:Adaptive Yoga
DESCRIPTION:At 11:00 a.m.\, Join Laura (co-owner and winemaker) for a one-hour yoga practice for anyone with a modified range of motion. Chairs are available for sitting or standing prop\, no former yoga training is required\, and please bring your own mat and water bottle\, $2 per person. (We welcome drop-ins!)
URL:https://elmarovineyard.com/event/adaptive-yoga-23/2025-05-15/
ATTACH;FMTTYPE=image/jpeg:https://elmarovineyard.com/wp-content/uploads/2024/10/adaptive1-1-scaled.jpg
END:VEVENT
BEGIN:VEVENT
DTSTART;TZID=UTC:20250516T120000
DTEND;TZID=UTC:20250516T180000
DTSTAMP:20260425T023251
CREATED:20250327T191428Z
LAST-MODIFIED:20250327T193334Z
UID:6045-1747396800-1747418400@elmarovineyard.com
SUMMARY:Rockin' Robyn Music Extravaganza
DESCRIPTION:A weekend of music\, food\, and great times\, May 16th-18th. Raffle ticket sales all weekend with the drawing on Sunday\, Friday is music themed trivia\, Saturday is the community talent show and Taco Town food cart\, and Sunday is the G-E-T High School music groups\, grilling by the Friends of Robyn\, and music by Jen Zemke from 2-4 p.m.
URL:https://elmarovineyard.com/event/rockin-robyn-music-extravaganza-5/2025-05-16/
ATTACH;FMTTYPE=image/png:https://elmarovineyard.com/wp-content/uploads/2025/03/Rockin-Robyn-facebook-events-6.png
END:VEVENT
BEGIN:VEVENT
DTSTART;TZID=UTC:20250516T170000
DTEND;TZID=UTC:20250516T183000
DTSTAMP:20260425T023251
CREATED:20250409T210422Z
LAST-MODIFIED:20250409T210422Z
UID:6111-1747414800-1747420200@elmarovineyard.com
SUMMARY:Music Themed Trivia
DESCRIPTION:It’s Rockin’ Robyn weekend at Elmaro\, and that means all things music!  May 16th is music themed trivia at 5 p.m. under the tent.  There’s no registration or fee\, teams of 6 or fewer people can play\, and prizes awarded for 1st\, 2nd\, and 3rd place teams.
URL:https://elmarovineyard.com/event/music-themed-trivia-2/
ATTACH;FMTTYPE=image/png:https://elmarovineyard.com/wp-content/uploads/2025/04/ROCKIN-ROBYN-fb-posts-11-x-8.5-in-9.png
END:VEVENT
BEGIN:VEVENT
DTSTART;TZID=UTC:20250517T100000
DTEND;TZID=UTC:20250517T113000
DTSTAMP:20260425T023251
CREATED:20250408T203927Z
LAST-MODIFIED:20250408T203927Z
UID:6099-1747476000-1747481400@elmarovineyard.com
SUMMARY:Yoga & Brunch
DESCRIPTION:Join Laura (co-owner and winemaker) for a relaxing hour of vinyasa flow yoga practice\, followed by a continental brunch and a mimosa. $23/person\, registration at http://Join Laura (co-owner and winemaker) for a relaxing hour of vinyasa flow yoga practice\, followed by a continental brunch and a mimosa. $23/person\, registration at https://www.exploretock.com/elmarovineyard/event/545670/yoga-brunch
URL:https://elmarovineyard.com/event/yoga-brunch-22/
ATTACH;FMTTYPE=image/jpeg:https://elmarovineyard.com/wp-content/uploads/2025/04/New-Years-Eve-Yoga-Brunch-10-a.m.-1920-x-1080-px-11.jpg
END:VEVENT
BEGIN:VEVENT
DTSTART;TZID=UTC:20250517T120000
DTEND;TZID=UTC:20250517T180000
DTSTAMP:20260425T023251
CREATED:20250327T191428Z
LAST-MODIFIED:20250327T193335Z
UID:6047-1747483200-1747504800@elmarovineyard.com
SUMMARY:Rockin' Robyn Music Extravaganza
DESCRIPTION:A weekend of music\, food\, and great times\, May 16th-18th. Raffle ticket sales all weekend with the drawing on Sunday\, Friday is music themed trivia\, Saturday is the community talent show and Taco Town food cart\, and Sunday is the G-E-T High School music groups\, grilling by the Friends of Robyn\, and music by Jen Zemke from 2-4 p.m.
URL:https://elmarovineyard.com/event/rockin-robyn-music-extravaganza-5/2025-05-17/
ATTACH;FMTTYPE=image/png:https://elmarovineyard.com/wp-content/uploads/2025/03/Rockin-Robyn-facebook-events-6.png
END:VEVENT
BEGIN:VEVENT
DTSTART;TZID=UTC:20250517T123000
DTEND;TZID=UTC:20250517T170000
DTSTAMP:20260425T023251
CREATED:20250428T194449Z
LAST-MODIFIED:20250428T194449Z
UID:6222-1747485000-1747501200@elmarovineyard.com
SUMMARY:Taco Town Food Cart
DESCRIPTION:It’s Rockin’ Robyn weekend at Elmaro\, and that means Taco Town Food Cart is serving up their amazing tacos!
URL:https://elmarovineyard.com/event/taco-town-food-cart-10/
ATTACH;FMTTYPE=image/jpeg:https://elmarovineyard.com/wp-content/uploads/2025/04/taco-town-taco.jpg
END:VEVENT
BEGIN:VEVENT
DTSTART;TZID=UTC:20250517T140000
DTEND;TZID=UTC:20250517T170000
DTSTAMP:20260425T023251
CREATED:20250414T185731Z
LAST-MODIFIED:20250414T185731Z
UID:6181-1747490400-1747501200@elmarovineyard.com
SUMMARY:Community Talent Show
DESCRIPTION:Celebrate our local talent of musicians\, comedians\, and more! The talent show is emceed by The Nutty Professors Jazz\, and you can email events@elmarovineyard.com for more information about registering.
URL:https://elmarovineyard.com/event/community-talent-show-2/
ATTACH;FMTTYPE=image/png:https://elmarovineyard.com/wp-content/uploads/2025/04/Rockin-Robyn-facebook-events-9.png
END:VEVENT
BEGIN:VEVENT
DTSTART;TZID=UTC:20250518T120000
DTEND;TZID=UTC:20250518T140000
DTSTAMP:20260425T023251
CREATED:20250409T210854Z
LAST-MODIFIED:20250409T210854Z
UID:6114-1747569600-1747576800@elmarovineyard.com
SUMMARY:G-E-T High School Music Extravaganza
DESCRIPTION:G-E-T High School Music Extravaganza! Performances by the Jazz Band\, Sandlot\, Vocal Point\, and Out of the Blue\, 12:00-2:00 p.m.  Music by Jen Zemke will follow from 2-4 p.m.  And during all of this\, Friends of Robyn will be selling brats and hot dogs\, as supplies last.  It’s a great day to get out and hear amazing music.
URL:https://elmarovineyard.com/event/g-e-t-high-school-music-extravaganza/
ATTACH;FMTTYPE=image/png:https://elmarovineyard.com/wp-content/uploads/2025/04/ROCKIN-ROBYN-fb-posts-11-x-8.5-in-10.png
END:VEVENT
BEGIN:VEVENT
DTSTART;TZID=UTC:20250518T120000
DTEND;TZID=UTC:20250518T180000
DTSTAMP:20260425T023251
CREATED:20250327T191428Z
LAST-MODIFIED:20250327T193336Z
UID:6048-1747569600-1747591200@elmarovineyard.com
SUMMARY:Rockin' Robyn Music Extravaganza
DESCRIPTION:A weekend of music\, food\, and great times\, May 16th-18th. Raffle ticket sales all weekend with the drawing on Sunday\, Friday is music themed trivia\, Saturday is the community talent show and Taco Town food cart\, and Sunday is the G-E-T High School music groups\, grilling by the Friends of Robyn\, and music by Jen Zemke from 2-4 p.m.
URL:https://elmarovineyard.com/event/rockin-robyn-music-extravaganza-5/2025-05-18/
ATTACH;FMTTYPE=image/png:https://elmarovineyard.com/wp-content/uploads/2025/03/Rockin-Robyn-facebook-events-6.png
END:VEVENT
BEGIN:VEVENT
DTSTART;TZID=UTC:20250518T140000
DTEND;TZID=UTC:20250518T160000
DTSTAMP:20260425T023251
CREATED:20250409T213008Z
LAST-MODIFIED:20250409T213008Z
UID:6117-1747576800-1747584000@elmarovineyard.com
SUMMARY:Music by Jen Zemke
DESCRIPTION:Jen Zemke is a chemistry professor by day and a moonlighting singer and song writer. She enjoys playing everything from Janis to GaGa\, all while throwing in her original songs here and there. Her energy is high and she likes to have a great time on stage! Elmaro is excited to have Jen perform for you!
URL:https://elmarovineyard.com/event/music-by-jen-zemke-3/
ATTACH;FMTTYPE=image/jpeg:https://elmarovineyard.com/wp-content/uploads/2025/04/Jen-Zemke.jpg
END:VEVENT
BEGIN:VEVENT
DTSTART;TZID=UTC:20250522T110000
DTEND;TZID=UTC:20250522T120000
DTSTAMP:20260425T023251
CREATED:20250309T194117Z
LAST-MODIFIED:20250309T194117Z
UID:5963-1747911600-1747915200@elmarovineyard.com
SUMMARY:Adaptive Yoga
DESCRIPTION:At 11:00 a.m.\, Join Laura (co-owner and winemaker) for a one-hour yoga practice for anyone with a modified range of motion. Chairs are available for sitting or standing prop\, no former yoga training is required\, and please bring your own mat and water bottle\, $2 per person. (We welcome drop-ins!)
URL:https://elmarovineyard.com/event/adaptive-yoga-23/2025-05-22/
ATTACH;FMTTYPE=image/jpeg:https://elmarovineyard.com/wp-content/uploads/2024/10/adaptive1-1-scaled.jpg
END:VEVENT
BEGIN:VEVENT
DTSTART;TZID=UTC:20250523T150000
DTEND;TZID=UTC:20250523T180000
DTSTAMP:20260425T023251
CREATED:20250428T194825Z
LAST-MODIFIED:20250428T194825Z
UID:6225-1748012400-1748023200@elmarovineyard.com
SUMMARY:Music by Tim Dallman
DESCRIPTION:Tim is a rock/pop/Americana singer-songwriter who also performs a wide range of cover songs.
URL:https://elmarovineyard.com/event/music-by-tim-dallman-16/
ATTACH;FMTTYPE=image/jpeg:https://elmarovineyard.com/wp-content/uploads/2025/04/tim-dallman4.jpg
END:VEVENT
BEGIN:VEVENT
DTSTART;TZID=UTC:20250524T123000
DTEND;TZID=UTC:20250524T170000
DTSTAMP:20260425T023251
CREATED:20250327T191717Z
LAST-MODIFIED:20250327T191717Z
UID:6050-1748089800-1748106000@elmarovineyard.com
SUMMARY:Woodshed Pizza Truck
DESCRIPTION:A weekend of Woodshed Wood Fired Pizza at Elmaro.  It starts on Saturday\, May 24th\, 12:30-5:00 p.m.\, and continues on May 25th\, 12:00-4:30.  It’s a holiday weekend\, don’t do the cooking!
URL:https://elmarovineyard.com/event/woodshed-pizza-truck-5/
ATTACH;FMTTYPE=image/jpeg:https://elmarovineyard.com/wp-content/uploads/2025/03/woodshed-pie2.jpg
END:VEVENT
BEGIN:VEVENT
DTSTART;TZID=UTC:20250524T140000
DTEND;TZID=UTC:20250524T170000
DTSTAMP:20260425T023251
CREATED:20250327T192627Z
LAST-MODIFIED:20250327T192627Z
UID:6062-1748095200-1748106000@elmarovineyard.com
SUMMARY:Music by James Grant
DESCRIPTION:James Grant covers 60s and 70s easy rock\, and he’s filling the winery with music from 2-5 p.m.
URL:https://elmarovineyard.com/event/music-by-james-grant-30/
ATTACH;FMTTYPE=image/jpeg:https://elmarovineyard.com/wp-content/uploads/2025/03/James-Grant6-1.jpg
END:VEVENT
BEGIN:VEVENT
DTSTART;TZID=UTC:20250525T120000
DTEND;TZID=UTC:20250525T163000
DTSTAMP:20260425T023251
CREATED:20250327T191831Z
LAST-MODIFIED:20250327T191831Z
UID:6053-1748174400-1748190600@elmarovineyard.com
SUMMARY:Woodshed Pizza Truck
DESCRIPTION:You’re hungry\, you don’t want to cook.  Come to Elmaro\, we have pizza!  And wine!!
URL:https://elmarovineyard.com/event/woodshed-pizza-truck-6/
ATTACH;FMTTYPE=image/jpeg:https://elmarovineyard.com/wp-content/uploads/2025/03/woodshed4-1.jpg
END:VEVENT
BEGIN:VEVENT
DTSTART;TZID=UTC:20250525T130000
DTEND;TZID=UTC:20250525T150000
DTSTAMP:20260425T023251
CREATED:20250428T195349Z
LAST-MODIFIED:20250428T195349Z
UID:6228-1748178000-1748185200@elmarovineyard.com
SUMMARY:Music by Too Darn Hot
DESCRIPTION:It’s Dixieland Jazz at its finest!
URL:https://elmarovineyard.com/event/music-by-too-darn-hot-8/
ATTACH;FMTTYPE=image/jpeg:https://elmarovineyard.com/wp-content/uploads/2025/04/Too-Darn-Hot-Band.jpg
END:VEVENT
END:VCALENDAR