BEGIN:VCALENDAR
VERSION:2.0
PRODID:-//Elmaro Vineyard - ECPv6.15.20//NONSGML v1.0//EN
CALSCALE:GREGORIAN
METHOD:PUBLISH
X-WR-CALNAME:Elmaro Vineyard
X-ORIGINAL-URL:https://elmarovineyard.com
X-WR-CALDESC:Events for Elmaro Vineyard
REFRESH-INTERVAL;VALUE=DURATION:PT1H
X-Robots-Tag:noindex
X-PUBLISHED-TTL:PT1H
BEGIN:VTIMEZONE
TZID:UTC
BEGIN:STANDARD
TZOFFSETFROM:+0000
TZOFFSETTO:+0000
TZNAME:UTC
DTSTART:20240101T000000
END:STANDARD
END:VTIMEZONE
BEGIN:VEVENT
DTSTART;TZID=UTC:20250320T180000
DTEND;TZID=UTC:20250320T190000
DTSTAMP:20260424T231332
CREATED:20250210T225032Z
LAST-MODIFIED:20250210T225032Z
UID:5891-1742493600-1742497200@elmarovineyard.com
SUMMARY:Candlelight Yoga
DESCRIPTION:Embrace the joy of candlelight\, and join Laura (co-owner and winemaker) for a one-hour vinyasa yoga flow practice at 6:00 p.m. This class includes a complimentary beverage\, and no former yoga training required. Please bring your own mat and water bottle\, $10 per person\, registration at https://www.exploretock.com/elmarovineyard/event/533461/candlelight-yoga
URL:https://elmarovineyard.com/event/candlelight-yoga-6/
ATTACH;FMTTYPE=image/jpeg:https://elmarovineyard.com/wp-content/uploads/2025/02/indoor-pose6-scaled.jpeg
END:VEVENT
BEGIN:VEVENT
DTSTART;TZID=UTC:20250321T120000
DTEND;TZID=UTC:20250321T190000
DTSTAMP:20260424T231332
CREATED:20250210T155715Z
LAST-MODIFIED:20250210T155715Z
UID:5888-1742558400-1742583600@elmarovineyard.com
SUMMARY:Tinned Fish Fridays
DESCRIPTION:Pick your own SeaCuterie adventure at Elmaro on Fridays in March\, 12-7 p.m. Select your favorite tinned fish\, and for $3 more\, Elmaro will add the accoutrements of baguette and exciting flavors. Or\, pick two tinned fish\, and the added accoutrements for both is only $5. No reservations needed.
URL:https://elmarovineyard.com/event/tinned-fish-fridays/2025-03-21/
ATTACH;FMTTYPE=image/png:https://elmarovineyard.com/wp-content/uploads/2025/02/SeaCuterie.png
END:VEVENT
BEGIN:VEVENT
DTSTART;TZID=UTC:20250321T150000
DTEND;TZID=UTC:20250321T180000
DTSTAMP:20260424T231332
CREATED:20250211T171816Z
LAST-MODIFIED:20250211T171816Z
UID:5934-1742569200-1742580000@elmarovineyard.com
SUMMARY:Music by Mike Nanstad
DESCRIPTION:Mike Nanstad is a Central Wisconsin native whose singing and acoustic guitar playing of classic country and rock has captivated friends\, family\, and local audiences at a variety of venues.  Mike’s song list ranges from legends like Tom Petty\, Eric Clapton\, and Jimmy Buffet to the outlaw country of Waylon Jennings\, Willie Nelson\, and Jonhhy Cash.
URL:https://elmarovineyard.com/event/music-by-mike-nanstad/
ATTACH;FMTTYPE=image/jpeg:https://elmarovineyard.com/wp-content/uploads/2025/02/mike-nanstad2-scaled.jpg
END:VEVENT
BEGIN:VEVENT
DTSTART;TZID=UTC:20250322T090000
DTEND;TZID=UTC:20250322T110000
DTSTAMP:20260424T231332
CREATED:20250129T184809Z
LAST-MODIFIED:20250129T184809Z
UID:5875-1742634000-1742641200@elmarovineyard.com
SUMMARY:Eucalyptus Swag or Wreath Class
DESCRIPTION:Welcome spring energy and scents into your home with a eucalyptus swag or wreath (select at checkout). This workshop comes with a variety of eucalyptus greens\, fresh spring florals\, and selection of dried accents to create a piece that fits your style. Looks stunningly fresh as it dries\, and can easily be kept for many months in the dried state. Embellished with a ribbon\, many options to choose from\, or leave simple.  Swag\, $52\, Wreath $52+$10 upgrade.  Full descriptions and registration is at  https://www.exploretock.com/elmarovineyard/event/531604/spring-eucalyptus-wreath-or-swag \n 
URL:https://elmarovineyard.com/event/eucalyptus-swag-or-wreath-class/
ATTACH;FMTTYPE=image/jpeg:https://elmarovineyard.com/wp-content/uploads/2025/01/Springtime-Bird-Wreath-3.jpg
END:VEVENT
BEGIN:VEVENT
DTSTART;TZID=UTC:20250322T140000
DTEND;TZID=UTC:20250322T170000
DTSTAMP:20260424T231332
CREATED:20250211T153407Z
LAST-MODIFIED:20250211T153407Z
UID:5904-1742652000-1742662800@elmarovineyard.com
SUMMARY:Music by James Grant
DESCRIPTION:James Grant covers 60s and 70s easy rock\, and he’s filling the winery with music from 2-5 p.m.
URL:https://elmarovineyard.com/event/music-by-james-grant-28/
ATTACH;FMTTYPE=image/jpeg:https://elmarovineyard.com/wp-content/uploads/2025/02/James-Grant6.jpg
END:VEVENT
BEGIN:VEVENT
DTSTART;TZID=UTC:20250323T130000
DTEND;TZID=UTC:20250323T160000
DTSTAMP:20260424T231332
CREATED:20250211T153534Z
LAST-MODIFIED:20250211T153534Z
UID:5907-1742734800-1742745600@elmarovineyard.com
SUMMARY:Music by Jeani & The Dreamers
DESCRIPTION:Jeani & The Dreamers are at Elmaro! Keep the weekend vibes going and start a dance party in the crush pad!
URL:https://elmarovineyard.com/event/music-by-jeani-the-dreamers-12/
ATTACH;FMTTYPE=image/jpeg:https://elmarovineyard.com/wp-content/uploads/2025/02/Jeaniandthedreamers.jpg
END:VEVENT
BEGIN:VEVENT
DTSTART;TZID=UTC:20250328T120000
DTEND;TZID=UTC:20250328T190000
DTSTAMP:20260424T231332
CREATED:20250210T155715Z
LAST-MODIFIED:20250210T155715Z
UID:5889-1743163200-1743188400@elmarovineyard.com
SUMMARY:Tinned Fish Fridays
DESCRIPTION:Pick your own SeaCuterie adventure at Elmaro on Fridays in March\, 12-7 p.m. Select your favorite tinned fish\, and for $3 more\, Elmaro will add the accoutrements of baguette and exciting flavors. Or\, pick two tinned fish\, and the added accoutrements for both is only $5. No reservations needed.
URL:https://elmarovineyard.com/event/tinned-fish-fridays/2025-03-28/
ATTACH;FMTTYPE=image/png:https://elmarovineyard.com/wp-content/uploads/2025/02/SeaCuterie.png
END:VEVENT
BEGIN:VEVENT
DTSTART;TZID=UTC:20250329T140000
DTEND;TZID=UTC:20250329T170000
DTSTAMP:20260424T231332
CREATED:20250211T153700Z
LAST-MODIFIED:20250211T153700Z
UID:5910-1743256800-1743267600@elmarovineyard.com
SUMMARY:Music by Doug Mahlum
DESCRIPTION:Doug Mahlum is a veteran musician in this area with over 40 years of experience. He can easily draw from over 60 years of songs in a number of different genres including Rock\, Pop\, Country\, Folk\, Show tunes\, and Jazz standards. Doug likes to have fun and interact with the group and will encourage sing-a-longs (if it’s okay with your neighbors).
URL:https://elmarovineyard.com/event/music-by-doug-mahlum-20/
ATTACH;FMTTYPE=image/jpeg:https://elmarovineyard.com/wp-content/uploads/2025/02/Doug-Mahlum3.jpg
END:VEVENT
BEGIN:VEVENT
DTSTART;TZID=UTC:20250330T130000
DTEND;TZID=UTC:20250330T160000
DTSTAMP:20260424T231332
CREATED:20250211T172451Z
LAST-MODIFIED:20250211T172451Z
UID:5937-1743339600-1743350400@elmarovineyard.com
SUMMARY:Music by Jaggedease
DESCRIPTION:Jaggedease performs rock\, blues\, jazz\, & fold style jam\, playing originals and covers. \nwww.jaggedease.com
URL:https://elmarovineyard.com/event/music-by-jaggedease/
ATTACH;FMTTYPE=image/webp:https://elmarovineyard.com/wp-content/uploads/2025/02/jaggedease.webp
END:VEVENT
BEGIN:VEVENT
DTSTART;TZID=UTC:20250403T110000
DTEND;TZID=UTC:20250403T120000
DTSTAMP:20260424T231332
CREATED:20250309T194117Z
LAST-MODIFIED:20250309T194117Z
UID:5956-1743678000-1743681600@elmarovineyard.com
SUMMARY:Adaptive Yoga
DESCRIPTION:At 11:00 a.m.\, Join Laura (co-owner and winemaker) for a one-hour yoga practice for anyone with a modified range of motion. Chairs are available for sitting or standing prop\, no former yoga training is required\, and please bring your own mat and water bottle\, $2 per person. (We welcome drop-ins!)
URL:https://elmarovineyard.com/event/adaptive-yoga-23/2025-04-03/
ATTACH;FMTTYPE=image/jpeg:https://elmarovineyard.com/wp-content/uploads/2024/10/adaptive1-1-scaled.jpg
END:VEVENT
BEGIN:VEVENT
DTSTART;TZID=UTC:20250403T180000
DTEND;TZID=UTC:20250403T193000
DTSTAMP:20260424T231332
CREATED:20250317T175904Z
LAST-MODIFIED:20250317T175904Z
UID:5998-1743703200-1743708600@elmarovineyard.com
SUMMARY:Trivia Night
DESCRIPTION:It’s Trivia Time! Get your team registered for April Trivia Night at Elmaro! Thursday\, April 3rd\, 6:00-7:30 p.m. There’s no fee\, but registration of teams is required. Team sizes of up to 6 people only\, and prizes awarded for 1st\, 2nd\, and 3rd place teams. When registering\, please register the total number of guests on your team\, registration at https://www.exploretock.com/elmarovineyard/event/541159/april-trivia-night
URL:https://elmarovineyard.com/event/trivia-night-10/
ATTACH;FMTTYPE=image/jpeg:https://elmarovineyard.com/wp-content/uploads/2025/03/trivia-night-16.jpg
END:VEVENT
BEGIN:VEVENT
DTSTART;TZID=UTC:20250405T100000
DTEND;TZID=UTC:20250405T113000
DTSTAMP:20260424T231332
CREATED:20250317T180555Z
LAST-MODIFIED:20250317T180555Z
UID:6001-1743847200-1743852600@elmarovineyard.com
SUMMARY:Yoga & Brunch
DESCRIPTION:Join Laura (co-owner and winemaker) for a relaxing hour of vinyasa flow yoga practice\, followed by a continental brunch and a mimosa. $23/person\, registration at https://www.exploretock.com/elmarovineyard/event/541162/yoga-brunch
URL:https://elmarovineyard.com/event/yoga-brunch-21/
ATTACH;FMTTYPE=image/png:https://elmarovineyard.com/wp-content/uploads/2025/03/New-Years-Eve-Yoga-Brunch-10-a.m.-1920-x-1080-px-8.png
END:VEVENT
BEGIN:VEVENT
DTSTART;TZID=UTC:20250405T140000
DTEND;TZID=UTC:20250405T170000
DTSTAMP:20260424T231332
CREATED:20250309T195706Z
LAST-MODIFIED:20250309T195706Z
UID:5973-1743861600-1743872400@elmarovineyard.com
SUMMARY:Music by Josie Legler
DESCRIPTION:Josie is a local\, one-woman show. She plays guitar and puts her own spin on modern tunes.
URL:https://elmarovineyard.com/event/music-by-josie-legler-6/
ATTACH;FMTTYPE=image/png:https://elmarovineyard.com/wp-content/uploads/2025/03/Josie-legler-11-x-8.5-in-3.png
END:VEVENT
BEGIN:VEVENT
DTSTART;TZID=UTC:20250406T130000
DTEND;TZID=UTC:20250406T160000
DTSTAMP:20260424T231332
CREATED:20250317T181212Z
LAST-MODIFIED:20250317T181212Z
UID:6004-1743944400-1743955200@elmarovineyard.com
SUMMARY:Meet the April artist\, Connie Helgerson
DESCRIPTION:Connie Helgerson gains much inspiration from the surrounding countryside of Wisconsin\, on road trips\, the Tetons of Wyoming\, and walking amongst elk herds. The wondrous feeling of capturing the beautiful sights surrounding her with pencil or brush has inspired her for as long as she can remember. Connie uses many media\, including pencil\, acrylic\, oil\, and watercolor. Meet Connie on April 6th from 1-4 p.m.!
URL:https://elmarovineyard.com/event/meet-the-april-artist-connie-helgerson/
ATTACH;FMTTYPE=image/png:https://elmarovineyard.com/wp-content/uploads/2025/03/March-Artist-of-the-Month-3.png
END:VEVENT
BEGIN:VEVENT
DTSTART;TZID=UTC:20250406T130000
DTEND;TZID=UTC:20250406T160000
DTSTAMP:20260424T231332
CREATED:20250317T194025Z
LAST-MODIFIED:20250317T194025Z
UID:6010-1743944400-1743955200@elmarovineyard.com
SUMMARY:Classical Guitar by Chris Rude
DESCRIPTION:Classical guitar fill the winery today\, it’s perfect for a relaxing Sunday afternoon.
URL:https://elmarovineyard.com/event/classical-guitar-by-chris-rude-12/
ATTACH;FMTTYPE=image/jpeg:https://elmarovineyard.com/wp-content/uploads/2024/11/Chris-Rude.jpg
END:VEVENT
BEGIN:VEVENT
DTSTART;TZID=UTC:20250410T110000
DTEND;TZID=UTC:20250410T120000
DTSTAMP:20260424T231332
CREATED:20250309T194117Z
LAST-MODIFIED:20250309T194117Z
UID:5957-1744282800-1744286400@elmarovineyard.com
SUMMARY:Adaptive Yoga
DESCRIPTION:At 11:00 a.m.\, Join Laura (co-owner and winemaker) for a one-hour yoga practice for anyone with a modified range of motion. Chairs are available for sitting or standing prop\, no former yoga training is required\, and please bring your own mat and water bottle\, $2 per person. (We welcome drop-ins!)
URL:https://elmarovineyard.com/event/adaptive-yoga-23/2025-04-10/
ATTACH;FMTTYPE=image/jpeg:https://elmarovineyard.com/wp-content/uploads/2024/10/adaptive1-1-scaled.jpg
END:VEVENT
BEGIN:VEVENT
DTSTART;TZID=UTC:20250410T120000
DTEND;TZID=UTC:20250410T190000
DTSTAMP:20260424T231332
CREATED:20250326T185107Z
LAST-MODIFIED:20250326T192949Z
UID:6027-1744286400-1744311600@elmarovineyard.com
SUMMARY:Marquette Tasting
DESCRIPTION:It’s National Library Week\, which means Elmaro’s Wine Library is open for two days! Try a flight of five Marquette vintages (2013\, 2014\, 2015\, 2019\, 2021) for $15. This is available on April 1oth and 11th\, no reservations are needed. \nElmaro’s Marquette wine is barrel aged\, a medium bodied red with notes of red berries\, plum\, and vanilla.  Learn how this wine ages as you sample through the vintages.
URL:https://elmarovineyard.com/event/marquette-tasting/2025-04-10/
ATTACH;FMTTYPE=image/jpeg:https://elmarovineyard.com/wp-content/uploads/2025/03/marquette-flight-scaled.jpeg
END:VEVENT
BEGIN:VEVENT
DTSTART;TZID=UTC:20250411T120000
DTEND;TZID=UTC:20250411T190000
DTSTAMP:20260424T231332
CREATED:20250326T185107Z
LAST-MODIFIED:20250326T192949Z
UID:6029-1744372800-1744398000@elmarovineyard.com
SUMMARY:Marquette Tasting
DESCRIPTION:It’s National Library Week\, which means Elmaro’s Wine Library is open for two days! Try a flight of five Marquette vintages (2013\, 2014\, 2015\, 2019\, 2021) for $15. This is available on April 1oth and 11th\, no reservations are needed. \nElmaro’s Marquette wine is barrel aged\, a medium bodied red with notes of red berries\, plum\, and vanilla.  Learn how this wine ages as you sample through the vintages.
URL:https://elmarovineyard.com/event/marquette-tasting/2025-04-11/
ATTACH;FMTTYPE=image/jpeg:https://elmarovineyard.com/wp-content/uploads/2025/03/marquette-flight-scaled.jpeg
END:VEVENT
BEGIN:VEVENT
DTSTART;TZID=UTC:20250412T140000
DTEND;TZID=UTC:20250412T170000
DTSTAMP:20260424T231332
CREATED:20250309T195837Z
LAST-MODIFIED:20250309T195837Z
UID:5976-1744466400-1744477200@elmarovineyard.com
SUMMARY:Music by James Grant
DESCRIPTION:James Grant covers 60s and 70s easy rock\, and he’s filling the winery with music from 2-5 p.m.
URL:https://elmarovineyard.com/event/music-by-james-grant-29/
ATTACH;FMTTYPE=image/jpeg:https://elmarovineyard.com/wp-content/uploads/2025/03/James-Grant6.jpg
END:VEVENT
BEGIN:VEVENT
DTSTART;TZID=UTC:20250413T130000
DTEND;TZID=UTC:20250413T160000
DTSTAMP:20260424T231332
CREATED:20250309T200031Z
LAST-MODIFIED:20250309T200031Z
UID:5979-1744549200-1744560000@elmarovineyard.com
SUMMARY:Music by David Hartman
DESCRIPTION:David plays 6 and 12 string guitar for soft rock\, country\, folk\, and modern music primarily from the 60’s and 70’s. It’s a little something for everyone!
URL:https://elmarovineyard.com/event/music-by-david-hartman-18/
ATTACH;FMTTYPE=image/jpeg:https://elmarovineyard.com/wp-content/uploads/2025/03/david-hartman4.jpg
END:VEVENT
BEGIN:VEVENT
DTSTART;TZID=UTC:20250417T110000
DTEND;TZID=UTC:20250417T120000
DTSTAMP:20260424T231332
CREATED:20250309T194117Z
LAST-MODIFIED:20250309T194117Z
UID:5958-1744887600-1744891200@elmarovineyard.com
SUMMARY:Adaptive Yoga
DESCRIPTION:At 11:00 a.m.\, Join Laura (co-owner and winemaker) for a one-hour yoga practice for anyone with a modified range of motion. Chairs are available for sitting or standing prop\, no former yoga training is required\, and please bring your own mat and water bottle\, $2 per person. (We welcome drop-ins!)
URL:https://elmarovineyard.com/event/adaptive-yoga-23/2025-04-17/
ATTACH;FMTTYPE=image/jpeg:https://elmarovineyard.com/wp-content/uploads/2024/10/adaptive1-1-scaled.jpg
END:VEVENT
BEGIN:VEVENT
DTSTART;TZID=UTC:20250417T180000
DTEND;TZID=UTC:20250417T190000
DTSTAMP:20260424T231332
CREATED:20250317T181942Z
LAST-MODIFIED:20250317T181942Z
UID:6007-1744912800-1744916400@elmarovineyard.com
SUMMARY:Sunset Yoga
DESCRIPTION:Celebrate the arrival of spring\, and join Laura (co-owner and winemaker) for a one-hour vinyasa yoga flow practice at 6:00 p.m. This class includes a complimentary beverage\, and no former yoga training required. Please bring your own mat and water bottle\, $10 per person\, registration at https://www.exploretock.com/elmarovineyard/event/541168/sunset-yoga
URL:https://elmarovineyard.com/event/sunset-yoga-10/
ATTACH;FMTTYPE=image/png:https://elmarovineyard.com/wp-content/uploads/2025/03/Candlelight-Yoga-Thursday-January-30th-600-p.m.-1920-x-1080-px-6.png
END:VEVENT
BEGIN:VEVENT
DTSTART;TZID=UTC:20250418T150000
DTEND;TZID=UTC:20250418T180000
DTSTAMP:20260424T231332
CREATED:20250309T201032Z
LAST-MODIFIED:20250311T215844Z
UID:5988-1744988400-1744999200@elmarovineyard.com
SUMMARY:Music by Abbey Lane
DESCRIPTION:Abbey is a singer\, songwriter\, guitarist\, that’s had has a passion for music her whole life. She plays a little bit of everyhting from the 50’s to now.
URL:https://elmarovineyard.com/event/music-by-abbey-lane/
ATTACH;FMTTYPE=image/jpeg:https://elmarovineyard.com/wp-content/uploads/2025/03/Abbey-Lane-scaled.jpg
END:VEVENT
BEGIN:VEVENT
DTSTART;TZID=UTC:20250419T093000
DTEND;TZID=UTC:20250419T123000
DTSTAMP:20260424T231332
CREATED:20250309T193840Z
LAST-MODIFIED:20250309T193840Z
UID:5953-1745055000-1745065800@elmarovineyard.com
SUMMARY:Easter Egg Hunt
DESCRIPTION:It’s Elmaro’s annual Easter Egg Hunt on Saturday\, April 19th! No cost event\, but registration is required. To register\, select your desired time\, 9:45\, 10:45\, or 11:45\, and then only register the number of children that will be hunting the eggs. You can bring as many grown ups as you like!\nRemember: bring a basket for each child\, come dressed for the weather\, and Elmaro will also have treats for the kids and grown ups available for purchase.  Registration at http://www.exploretock.com/elmarovineyard
URL:https://elmarovineyard.com/event/easter-egg-hunt-2/
ATTACH;FMTTYPE=image/png:https://elmarovineyard.com/wp-content/uploads/2025/03/Easter-Eggs-Brunch-Party-Facebook-Post-Facebook-Cover-5.png
END:VEVENT
BEGIN:VEVENT
DTSTART;TZID=UTC:20250419T140000
DTEND;TZID=UTC:20250419T170000
DTSTAMP:20260424T231332
CREATED:20250317T194236Z
LAST-MODIFIED:20250317T194236Z
UID:6012-1745071200-1745082000@elmarovineyard.com
SUMMARY:Music by Doug Mahlum
DESCRIPTION:Doug Mahlum is a veteran musician in this area with over 40 years of experience. He can easily draw from over 60 years of songs in a number of different genres including Rock\, Pop\, Country\, Folk\, Show tunes\, and Jazz standards. Doug likes to have fun and interact with the group and will encourage sing-a-longs (if it’s okay with your neighbors).
URL:https://elmarovineyard.com/event/music-by-doug-mahlum-21/
ATTACH;FMTTYPE=image/jpeg:https://elmarovineyard.com/wp-content/uploads/2025/03/Doug-Mahlum3.jpg
END:VEVENT
BEGIN:VEVENT
DTSTART;TZID=UTC:20250420T120000
DTEND;TZID=UTC:20250420T170000
DTSTAMP:20260424T231332
CREATED:20250309T200647Z
LAST-MODIFIED:20250309T200647Z
UID:5985-1745150400-1745168400@elmarovineyard.com
SUMMARY:Closed for Easter
DESCRIPTION:Elmaro Vineyard is closed today so that we can spend Easter with our friends and family.
URL:https://elmarovineyard.com/event/closed-for-easter-4/
ATTACH;FMTTYPE=image/png:https://elmarovineyard.com/wp-content/uploads/2025/03/Happy-Easter-Facebook-Post-1.png
END:VEVENT
BEGIN:VEVENT
DTSTART;TZID=UTC:20250424T110000
DTEND;TZID=UTC:20250424T120000
DTSTAMP:20260424T231332
CREATED:20250309T194117Z
LAST-MODIFIED:20250309T194117Z
UID:5959-1745492400-1745496000@elmarovineyard.com
SUMMARY:Adaptive Yoga
DESCRIPTION:At 11:00 a.m.\, Join Laura (co-owner and winemaker) for a one-hour yoga practice for anyone with a modified range of motion. Chairs are available for sitting or standing prop\, no former yoga training is required\, and please bring your own mat and water bottle\, $2 per person. (We welcome drop-ins!)
URL:https://elmarovineyard.com/event/adaptive-yoga-23/2025-04-24/
ATTACH;FMTTYPE=image/jpeg:https://elmarovineyard.com/wp-content/uploads/2024/10/adaptive1-1-scaled.jpg
END:VEVENT
BEGIN:VEVENT
DTSTART;TZID=UTC:20250424T160000
DTEND;TZID=UTC:20250424T200000
DTSTAMP:20260424T231332
CREATED:20250317T194615Z
LAST-MODIFIED:20250317T194615Z
UID:6015-1745510400-1745524800@elmarovineyard.com
SUMMARY:Pick Your Own Charcuterie Night
DESCRIPTION:You’ll select seven options from cheeses\, salami\, summer sausage\, sweet treats\, and crackers to fit your mood and cravings for $19\, and you can add on two glasses of wine for only $6 more\, no registration needed.
URL:https://elmarovineyard.com/event/pick-your-own-charcuterie-night-2/
ATTACH;FMTTYPE=image/png:https://elmarovineyard.com/wp-content/uploads/2025/03/build-your-own-board-6.png
END:VEVENT
BEGIN:VEVENT
DTSTART;TZID=UTC:20250425T190000
DTEND;TZID=UTC:20250425T210000
DTSTAMP:20260424T231332
CREATED:20250408T181405Z
LAST-MODIFIED:20250408T181446Z
UID:6073-1745607600-1745614800@elmarovineyard.com
SUMMARY:Bingo Night at Elmaro
DESCRIPTION:Bingo Night at Elmaro Vineyard\, Friday\, April 25th\, 7:00 p.m.! No registration fee\, but required reservations are at https://www.exploretock.com/elmarovineyard/event/544392/bingo-nightTwo complimentary bingo cards for each guest and assorted prizes. Bingo will begin promptly at 7:00 p.m.
URL:https://elmarovineyard.com/event/6073/
ATTACH;FMTTYPE=image/png:https://elmarovineyard.com/wp-content/uploads/2025/04/BINGO-facebook-event-cover-3.png
END:VEVENT
BEGIN:VEVENT
DTSTART;TZID=UTC:20250426T120000
DTEND;TZID=UTC:20250426T170000
DTSTAMP:20260424T231332
CREATED:20250317T195052Z
LAST-MODIFIED:20250317T195052Z
UID:6018-1745668800-1745686800@elmarovineyard.com
SUMMARY:Arbor Day White Pine Seedling Giveaway
DESCRIPTION:On this Arbor Day\, Saturday\, April 26th\, a national day to focus on the importance of trees\, Elmaro Vineyard will give away a white pine seedling to our guests\, as supplies last. By planting this seedling\, you can do your part to benefit local communities\, increase wildlife habitat\, and combat climate change.
URL:https://elmarovineyard.com/event/arbor-day-white-pine-seedling-giveaway/
ATTACH;FMTTYPE=image/jpeg:https://elmarovineyard.com/wp-content/uploads/2025/03/white-pine-seedlings.jpg
END:VEVENT
END:VCALENDAR