BEGIN:VCALENDAR
VERSION:2.0
PRODID:-//Elmaro Vineyard - ECPv6.15.20//NONSGML v1.0//EN
CALSCALE:GREGORIAN
METHOD:PUBLISH
X-WR-CALNAME:Elmaro Vineyard
X-ORIGINAL-URL:https://elmarovineyard.com
X-WR-CALDESC:Events for Elmaro Vineyard
REFRESH-INTERVAL;VALUE=DURATION:PT1H
X-Robots-Tag:noindex
X-PUBLISHED-TTL:PT1H
BEGIN:VTIMEZONE
TZID:UTC
BEGIN:STANDARD
TZOFFSETFROM:+0000
TZOFFSETTO:+0000
TZNAME:UTC
DTSTART:20190101T000000
END:STANDARD
END:VTIMEZONE
BEGIN:VEVENT
DTSTART;TZID=UTC:20220123T180000
DTEND;TZID=UTC:20220123T190000
DTSTAMP:20260424T203348
CREATED:20211221T202133Z
LAST-MODIFIED:20220122T200104Z
UID:2357-1642960800-1642964400@elmarovineyard.com
SUMMARY:CANCELLED - How to: Visit Wisconsin State Parks in One Year!
DESCRIPTION:THIS EVENT IS POSTPONED TO A DATE TBD. \nJonathan Ringdahl will take us through the exploration of Wisconsin State Park System.  No fee\, Please call for reservation.
URL:https://elmarovineyard.com/event/how-to-visit-wisconsin-state-parks-in-one-year/
END:VEVENT
BEGIN:VEVENT
DTSTART;TZID=UTC:20220123T130000
DTEND;TZID=UTC:20220123T160000
DTSTAMP:20260424T203348
CREATED:20211214T203220Z
LAST-MODIFIED:20211214T203220Z
UID:2334-1642942800-1642953600@elmarovineyard.com
SUMMARY:Music by Chris Rude
DESCRIPTION:Enjoy music in the Crush Pad by Chris Rude
URL:https://elmarovineyard.com/event/music-by-chris-rude/
END:VEVENT
BEGIN:VEVENT
DTSTART;TZID=UTC:20220122T140000
DTEND;TZID=UTC:20220122T170000
DTSTAMP:20260424T203348
CREATED:20211221T201641Z
LAST-MODIFIED:20211221T201837Z
UID:2353-1642860000-1642870800@elmarovineyard.com
SUMMARY:Music by Doug Mahlum
DESCRIPTION:Enjoy music in the Crush Pad by Doug Mahlum
URL:https://elmarovineyard.com/event/music-by-doug-mahlum/
END:VEVENT
BEGIN:VEVENT
DTSTART;TZID=UTC:20220121T190000
DTEND;TZID=UTC:20220121T204500
DTSTAMP:20260424T203348
CREATED:20211221T201457Z
LAST-MODIFIED:20220119T154020Z
UID:2351-1642791600-1642797900@elmarovineyard.com
SUMMARY:Sold Out- Bingo Night at Elmaro
DESCRIPTION:Come enjoy an evening of Bingo.  No Fee\, reservation required for table.   Escalating prizes throughout the night.
URL:https://elmarovineyard.com/event/bingo-night-at-elmaro/
END:VEVENT
BEGIN:VEVENT
DTSTART;TZID=UTC:20220116T160000
DTEND;TZID=UTC:20220116T190000
DTSTAMP:20260424T203348
CREATED:20211221T201134Z
LAST-MODIFIED:20211221T202548Z
UID:2349-1642348800-1642359600@elmarovineyard.com
SUMMARY:Mulled Wine and Cookie Walk
DESCRIPTION:Munch on cookies and sip on mulled wine as you stroll through the vineyard!  $12 per person\, call for reservation required.
URL:https://elmarovineyard.com/event/mulled-wine-and-cookie-walk/
END:VEVENT
BEGIN:VEVENT
DTSTART;TZID=UTC:20220116T130000
DTEND;TZID=UTC:20220116T160000
DTSTAMP:20260424T203348
CREATED:20211221T200953Z
LAST-MODIFIED:20211221T200953Z
UID:2347-1642338000-1642348800@elmarovineyard.com
SUMMARY:Music by Sampson & Son
DESCRIPTION:Music by Sampson & Son in the Crush Pad.
URL:https://elmarovineyard.com/event/music-by-sampson-son-4/
END:VEVENT
BEGIN:VEVENT
DTSTART;TZID=UTC:20220115T140000
DTEND;TZID=UTC:20220115T170000
DTSTAMP:20260424T203348
CREATED:20220111T202247Z
LAST-MODIFIED:20220111T202247Z
UID:2442-1642255200-1642266000@elmarovineyard.com
SUMMARY:Music by Right Side Up
DESCRIPTION:Right Side Up is an acoustic duo based in Winona\, Minnesota. From folk to rock\, Ward and Terry provide the rhythm to get your foot a tapping and your heart a beatin’.
URL:https://elmarovineyard.com/event/music-by-right-side-up-7/
ATTACH;FMTTYPE=image/jpeg:https://elmarovineyard.com/wp-content/uploads/2020/07/104962802_3015950765137660_1566157910955782888_o.jpg
END:VEVENT
BEGIN:VEVENT
DTSTART;TZID=UTC:20220115T100000
DTEND;TZID=UTC:20220115T113000
DTSTAMP:20260424T203348
CREATED:20211221T200811Z
LAST-MODIFIED:20211222T172348Z
UID:2345-1642240800-1642246200@elmarovineyard.com
SUMMARY:Raptors at Elmaro!
DESCRIPTION:River Valley Raptors will showcase live raptors!  10am\, $5 per person\, children 2 and under are free.   Reservations Required \n 
URL:https://elmarovineyard.com/event/raptors-at-elmaro/
ATTACH;FMTTYPE=image/jpeg:https://elmarovineyard.com/wp-content/uploads/2021/12/raptor1-1.jpg
END:VEVENT
BEGIN:VEVENT
DTSTART;TZID=UTC:20220113T163000
DTEND;TZID=UTC:20220113T173000
DTSTAMP:20260424T203348
CREATED:20211214T202548Z
LAST-MODIFIED:20220113T170002Z
UID:2315-1642091400-1642095000@elmarovineyard.com
SUMMARY:Yoga at the Winery
DESCRIPTION:Adaptive Yoga ONLY today\, 4:30pm\, $2.  $10-call to reserve a spot.    Candlelight Yoga\, 6pm is CANCELLED.
URL:https://elmarovineyard.com/event/yoga-at-the-winery-2022-01-13/
END:VEVENT
BEGIN:VEVENT
DTSTART;TZID=UTC:20220108T140000
DTEND;TZID=UTC:20220108T170000
DTSTAMP:20260424T203348
CREATED:20211214T202204Z
LAST-MODIFIED:20211214T203442Z
UID:2304-1641650400-1641661200@elmarovineyard.com
SUMMARY:Music by Right Side Up
DESCRIPTION:Enjoy live music in our Crush Pad by Right Side Up
URL:https://elmarovineyard.com/event/music-by-right-side-up-5/
END:VEVENT
BEGIN:VEVENT
DTSTART;TZID=UTC:20220102T130000
DTEND;TZID=UTC:20220102T160000
DTSTAMP:20260424T203348
CREATED:20211221T200625Z
LAST-MODIFIED:20211221T200625Z
UID:2343-1641128400-1641139200@elmarovineyard.com
SUMMARY:Music by James Grant
DESCRIPTION:Music by James Grant in the Crush Pad.
URL:https://elmarovineyard.com/event/music-by-james-grant-4/
END:VEVENT
BEGIN:VEVENT
DTSTART;VALUE=DATE:20220101
DTEND;VALUE=DATE:20220102
DTSTAMP:20260424T203348
CREATED:20211201T152503Z
LAST-MODIFIED:20211201T152503Z
UID:2243-1640995200-1641081599@elmarovineyard.com
SUMMARY:Closed for New Years
DESCRIPTION:
URL:https://elmarovineyard.com/event/closed-for-new-years/
END:VEVENT
BEGIN:VEVENT
DTSTART;TZID=UTC:20211231T120000
DTEND;TZID=UTC:20211231T170000
DTSTAMP:20260424T203348
CREATED:20211201T151451Z
LAST-MODIFIED:20211201T151451Z
UID:2235-1640952000-1640970000@elmarovineyard.com
SUMMARY:Open 12-5 pm
DESCRIPTION:
URL:https://elmarovineyard.com/event/open-12-5-pm-2/
END:VEVENT
BEGIN:VEVENT
DTSTART;TZID=UTC:20211231T100000
DTEND;TZID=UTC:20211231T110000
DTSTAMP:20260424T203348
CREATED:20211222T174648Z
LAST-MODIFIED:20211222T174648Z
UID:2383-1640944800-1640948400@elmarovineyard.com
SUMMARY:Vinyasa Yoga and Brunch
DESCRIPTION:Join Laura (co-owner and winemaker) for a relaxing hour of yoga followed by a continental brunch and a mimosa. $23/person\, and reservations can be made by calling 608-534-6456.
URL:https://elmarovineyard.com/event/vinyasa-yoga-and-brunch/
ATTACH;FMTTYPE=image/jpeg:https://elmarovineyard.com/wp-content/uploads/2020/07/101969834_2967789796620424_8814722223811067904_n.jpg
END:VEVENT
BEGIN:VEVENT
DTSTART;TZID=UTC:20211231T083000
DTEND;TZID=UTC:20211231T093000
DTSTAMP:20260424T203348
CREATED:20211222T174406Z
LAST-MODIFIED:20211222T174406Z
UID:2380-1640939400-1640943000@elmarovineyard.com
SUMMARY:Adaptive Yoga and Brunch
DESCRIPTION:Join Laura (co-owner and winemaker) for a relaxing hour of adaptive yoga practice for anyone with a modified range of motion\, and participants will always have a chair option for sitting or as a standing prop. Continental brunch and a mimosa will follow\, $23/person\, and reservations can be made by calling 608-534-6456.
URL:https://elmarovineyard.com/event/adaptive-yoga-and-brunch/
ATTACH;FMTTYPE=image/jpeg:https://elmarovineyard.com/wp-content/uploads/2021/12/adaptive1-scaled.jpg
END:VEVENT
BEGIN:VEVENT
DTSTART;TZID=UTC:20211230T120000
DTEND;TZID=UTC:20211230T180000
DTSTAMP:20260424T203348
CREATED:20211222T184523Z
LAST-MODIFIED:20211222T184523Z
UID:2400-1640865600-1640887200@elmarovineyard.com
SUMMARY:Open 12-6 p.m.
DESCRIPTION:Come for wine\, stay for yoga!
URL:https://elmarovineyard.com/event/open-12-6-p-m-3/
END:VEVENT
BEGIN:VEVENT
DTSTART;TZID=UTC:20211229T120000
DTEND;TZID=UTC:20211229T180000
DTSTAMP:20260424T203348
CREATED:20211222T183629Z
LAST-MODIFIED:20211222T183629Z
UID:2391-1640779200-1640800800@elmarovineyard.com
SUMMARY:Open 12-6 p.m.
DESCRIPTION:Enjoy a glass of wine today!
URL:https://elmarovineyard.com/event/open-12-6-p-m-2/
END:VEVENT
BEGIN:VEVENT
DTSTART;TZID=UTC:20211228T120000
DTEND;TZID=UTC:20211228T180000
DTSTAMP:20260424T203348
CREATED:20211222T175835Z
LAST-MODIFIED:20211222T175835Z
UID:2389-1640692800-1640714400@elmarovineyard.com
SUMMARY:Open 12-6 p.m.
DESCRIPTION:Bored at home?  Elmaro’s pods are available all week!  Call 608-534-6456 for reservations.
URL:https://elmarovineyard.com/event/open-12-6-p-m/
END:VEVENT
BEGIN:VEVENT
DTSTART;TZID=UTC:20211226T120000
DTEND;TZID=UTC:20211226T170000
DTSTAMP:20260424T203348
CREATED:20211222T175347Z
LAST-MODIFIED:20211222T175434Z
UID:2387-1640520000-1640538000@elmarovineyard.com
SUMMARY:Open 12-5 p.m.
DESCRIPTION:Enjoy a beautiful Sunday at Elmaro Vineyard!
URL:https://elmarovineyard.com/event/open-12-5-p-m/
END:VEVENT
BEGIN:VEVENT
DTSTART;TZID=UTC:20211225T120000
DTEND;TZID=UTC:20211225T180000
DTSTAMP:20260424T203348
CREATED:20211222T174942Z
LAST-MODIFIED:20211222T175530Z
UID:2385-1640433600-1640455200@elmarovineyard.com
SUMMARY:Merry Christmas!
DESCRIPTION:Elmaro is closed today so we can be with family and friends.
URL:https://elmarovineyard.com/event/merry-christmas/
END:VEVENT
BEGIN:VEVENT
DTSTART;TZID=UTC:20211224T130000
DTEND;TZID=UTC:20211224T160000
DTSTAMP:20260424T203348
CREATED:20211201T151013Z
LAST-MODIFIED:20211201T151138Z
UID:2229-1640350800-1640361600@elmarovineyard.com
SUMMARY:Music by James Grant
DESCRIPTION:Music in the Crush Pad
URL:https://elmarovineyard.com/event/open-12-5-pm/
END:VEVENT
BEGIN:VEVENT
DTSTART;TZID=UTC:20211218T140000
DTEND;TZID=UTC:20211218T170000
DTSTAMP:20260424T203348
CREATED:20211201T150924Z
LAST-MODIFIED:20211201T150924Z
UID:2227-1639836000-1639846800@elmarovineyard.com
SUMMARY:Music by Right Side Up
DESCRIPTION:
URL:https://elmarovineyard.com/event/music-by-right-side-up-4/
END:VEVENT
BEGIN:VEVENT
DTSTART;TZID=UTC:20211212T130000
DTEND;TZID=UTC:20211212T160000
DTSTAMP:20260424T203348
CREATED:20211201T150838Z
LAST-MODIFIED:20211201T150838Z
UID:2225-1639314000-1639324800@elmarovineyard.com
SUMMARY:Music by Josie Legler
DESCRIPTION:
URL:https://elmarovineyard.com/event/music-by-josie-legler/
END:VEVENT
BEGIN:VEVENT
DTSTART;TZID=UTC:20211211T130000
DTEND;TZID=UTC:20211211T160000
DTSTAMP:20260424T203348
CREATED:20211201T150744Z
LAST-MODIFIED:20211201T150744Z
UID:2223-1639227600-1639238400@elmarovineyard.com
SUMMARY:Kris Kringle Market
DESCRIPTION:Outdoor market.  Art and craft vendors\, mulled wine\, hot cocoa and warm treats!
URL:https://elmarovineyard.com/event/kris-kringle-market/
END:VEVENT
BEGIN:VEVENT
DTSTART;TZID=UTC:20211210T120000
DTEND;TZID=UTC:20211210T180000
DTSTAMP:20260424T203348
CREATED:20211201T150533Z
LAST-MODIFIED:20211201T150533Z
UID:2220-1639137600-1639159200@elmarovineyard.com
SUMMARY:Wine Club Pickup
DESCRIPTION:
URL:https://elmarovineyard.com/event/wine-club-pickup/
END:VEVENT
BEGIN:VEVENT
DTSTART;TZID=UTC:20211205T120000
DTEND;TZID=UTC:20211205T170000
DTSTAMP:20260424T203348
CREATED:20211130T164535Z
LAST-MODIFIED:20211201T152145Z
UID:2202-1638705600-1638723600@elmarovineyard.com
SUMMARY:Holliday Truffles and Wine
DESCRIPTION:Sumptuous Sundays with Holiday Truffles and Wine!  Six holiday themed truffles and two glasses of wine.
URL:https://elmarovineyard.com/event/holliday-truffles-and-wine/2021-12-05/
END:VEVENT
BEGIN:VEVENT
DTSTART;TZID=UTC:20211204T130000
DTEND;TZID=UTC:20211204T160000
DTSTAMP:20260424T203348
CREATED:20211130T164317Z
LAST-MODIFIED:20211202T151919Z
UID:2200-1638622800-1638633600@elmarovineyard.com
SUMMARY:Music in the Crush Pad
DESCRIPTION:Music by Time Dallman 1-4pm
URL:https://elmarovineyard.com/event/music-in-the-crush-pad/
LOCATION:Elmaro Vineyard
END:VEVENT
BEGIN:VEVENT
DTSTART;TZID=UTC:20211202T163000
DTEND;TZID=UTC:20211202T193000
DTSTAMP:20260424T203348
CREATED:20211129T210238Z
LAST-MODIFIED:20211201T151943Z
UID:2186-1638462600-1638473400@elmarovineyard.com
SUMMARY:Yoga at the Winery
DESCRIPTION:Adaptive Yoga\, 4:30pm\, $2. \nCandlelight Yoga\, 6pm. $10-call to reserve a spot.
URL:https://elmarovineyard.com/event/adaptive-yoga-3/2021-12-02/
LOCATION:Elmaro Vineyard
END:VEVENT
BEGIN:VEVENT
DTSTART;TZID=UTC:20201231T163000
DTEND;TZID=UTC:20201231T173000
DTSTAMP:20260424T203348
CREATED:20201130T204014Z
LAST-MODIFIED:20201130T204014Z
UID:1922-1609432200-1609435800@elmarovineyard.com
SUMMARY:Trails\, Truffles\, and Bubbles
DESCRIPTION:As the sun sets on 2020\, join the Trails\, Truffles\, and Bubbles Hike at Elmaro\, followed by an outdoor sampling of Truffles and sparkling wine. You will select between the Marshland Hike to the refuge and back\, or the more rugged Homestead Hike around the vineyard grounds. $12 per person\, call the tasting room at 608-534-6456 for required reservations.
URL:https://elmarovineyard.com/event/trails-truffles-and-bubbles/
ATTACH;FMTTYPE=image/jpeg:https://elmarovineyard.com/wp-content/uploads/2020/11/sunset2-scaled.jpg
END:VEVENT
BEGIN:VEVENT
DTSTART;TZID=UTC:20201225T120000
DTEND;TZID=UTC:20201225T180000
DTSTAMP:20260424T203348
CREATED:20201130T204548Z
LAST-MODIFIED:20201130T204548Z
UID:1925-1608897600-1608919200@elmarovineyard.com
SUMMARY:Closed for Christmas
DESCRIPTION:Elmaro Vineyard is closed on Christmas Day so we can spend time with our families.
URL:https://elmarovineyard.com/event/closed-for-christmas/
ATTACH;FMTTYPE=image/jpeg:https://elmarovineyard.com/wp-content/uploads/2020/11/closedchristmas.jpg
END:VEVENT
END:VCALENDAR