BEGIN:VCALENDAR
VERSION:2.0
PRODID:-//Elmaro Vineyard - ECPv6.15.20//NONSGML v1.0//EN
CALSCALE:GREGORIAN
METHOD:PUBLISH
X-WR-CALNAME:Elmaro Vineyard
X-ORIGINAL-URL:https://elmarovineyard.com
X-WR-CALDESC:Events for Elmaro Vineyard
REFRESH-INTERVAL;VALUE=DURATION:PT1H
X-Robots-Tag:noindex
X-PUBLISHED-TTL:PT1H
BEGIN:VTIMEZONE
TZID:UTC
BEGIN:STANDARD
TZOFFSETFROM:+0000
TZOFFSETTO:+0000
TZNAME:UTC
DTSTART:20210101T000000
END:STANDARD
END:VTIMEZONE
BEGIN:VEVENT
DTSTART;TZID=UTC:20220424T180000
DTEND;TZID=UTC:20220424T190000
DTSTAMP:20260422T170421
CREATED:20220324T195509Z
LAST-MODIFIED:20220324T195853Z
UID:2683-1650823200-1650826800@elmarovineyard.com
SUMMARY:How To: Visit all Wisconsin State Parks in a Year
DESCRIPTION:In 2012\, Jonathan wanted to do something to make the year memorable. Since going to the moon and run a 5 minute mile were taken\, Jonathan decided to visit all Wisconsin State Park properties in one year. Come to laugh\, cry\, and be inspired to dream big when you want to do something memorable. Come to learn about the most beautiful spots in Wisconsin\, and leave feeling empowered to chase your dreams.  No fee\, but please call 608-534-6456 for reservations.
URL:https://elmarovineyard.com/event/how-to-visit-all-wisconsin-state-parks-in-a-year/
ATTACH;FMTTYPE=image/jpeg:https://elmarovineyard.com/wp-content/uploads/2022/03/bradys-bluff.jpeg
END:VEVENT
BEGIN:VEVENT
DTSTART;TZID=UTC:20220424T130000
DTEND;TZID=UTC:20220424T160000
DTSTAMP:20260422T170421
CREATED:20220307T161947Z
LAST-MODIFIED:20220325T175544Z
UID:2641-1650805200-1650816000@elmarovineyard.com
SUMMARY:Music on the patio by Julie Bodendein
DESCRIPTION:Julie B is a musician from La Crosse.\nYou can find her playing at restaurants\, vineyards\, wineries\, breweries and farmers markets around the western Wisconsin area.\nHer solo guitar and vocal stylings include pop and country hits from 70’s to current but with her own acoustic spin
URL:https://elmarovineyard.com/event/music-by-julie-bodendein/
ATTACH;FMTTYPE=image/png:https://elmarovineyard.com/wp-content/uploads/2022/03/Julie-Bodendein.png
END:VEVENT
BEGIN:VEVENT
DTSTART;TZID=UTC:20220423T140000
DTEND;TZID=UTC:20220423T170000
DTSTAMP:20260422T170421
CREATED:20220307T161710Z
LAST-MODIFIED:20220307T161710Z
UID:2637-1650722400-1650733200@elmarovineyard.com
SUMMARY:Music by James Grant
DESCRIPTION:James Grant is back in the Crush Pad with his 70s covers!
URL:https://elmarovineyard.com/event/music-by-james-grant-7/
ATTACH;FMTTYPE=image/jpeg:https://elmarovineyard.com/wp-content/uploads/2022/03/James-Grant_new-scaled.jpg
END:VEVENT
BEGIN:VEVENT
DTSTART;TZID=UTC:20220423T090000
DTEND;TZID=UTC:20220423T103000
DTSTAMP:20260422T170421
CREATED:20220223T190355Z
LAST-MODIFIED:20220223T190355Z
UID:2613-1650704400-1650709800@elmarovineyard.com
SUMMARY:Saturday Spring Succulent Class
DESCRIPTION:Are you eager to get your hands in the dirt and start gardening and planting? We sure are! Now is the perfect time to plant a succulent container that you can enjoy inside until the weather permits it to be added to your outside decorations\, or continue to enjoy it year-round in the house. Bring a container of your choice 12 inches or less in size\, or two or more smaller containers – if it will hold soil (pail\, metal can\, boots) you can plant it so be creative! We will supply instruction\, soil\, and succulents for you to create the perfect reflection of your style and personality. $45+tax/person\, call 608-534-6456 for reservations.
URL:https://elmarovineyard.com/event/saturday-spring-succulent-class/
ATTACH;FMTTYPE=image/jpeg:https://elmarovineyard.com/wp-content/uploads/2022/02/succulent-container-1.jpg
END:VEVENT
BEGIN:VEVENT
DTSTART;TZID=UTC:20220422T190000
DTEND;TZID=UTC:20220422T210000
DTSTAMP:20260422T170421
CREATED:20220223T190203Z
LAST-MODIFIED:20220223T190203Z
UID:2610-1650654000-1650661200@elmarovineyard.com
SUMMARY:Friday Spring Succulent Class
DESCRIPTION:Are you eager to get your hands in the dirt and start gardening and planting? We sure are! Now is the perfect time to plant a succulent container that you can enjoy inside until the weather permits it to be added to your outside decorations\, or continue to enjoy it year-round in the house. Bring a container of your choice 12 inches or less in size\, or two or more smaller containers – if it will hold soil (pail\, metal can\, boots) you can plant it so be creative! We will supply instruction\, soil\, and succulents for you to create the perfect reflection of your style and personality. $45+tax/person\, call 608-534-6456 for reservations.
URL:https://elmarovineyard.com/event/friday-spring-succulent-class/
ATTACH;FMTTYPE=image/jpeg:https://elmarovineyard.com/wp-content/uploads/2022/02/succulent-container.jpg
END:VEVENT
BEGIN:VEVENT
DTSTART;TZID=UTC:20220422T120000
DTEND;TZID=UTC:20220422T180000
DTSTAMP:20260422T170421
CREATED:20220307T154739Z
LAST-MODIFIED:20220307T154739Z
UID:2634-1650628800-1650650400@elmarovineyard.com
SUMMARY:White Pine Seedling Giveaway
DESCRIPTION:Celebrate Earth Day by planting a white pine seedling. When you make a purchase at Elmaro\, you will receive a white pine seedling\, as well as planting instructions.  While supplies last.
URL:https://elmarovineyard.com/event/white-pine-seedling-giveaway/
ATTACH;FMTTYPE=image/jpeg:https://elmarovineyard.com/wp-content/uploads/2022/03/seedlings.jpg
END:VEVENT
BEGIN:VEVENT
DTSTART;TZID=UTC:20220417T120000
DTEND;TZID=UTC:20220417T170000
DTSTAMP:20260422T170421
CREATED:20220307T154512Z
LAST-MODIFIED:20220307T154512Z
UID:2630-1650196800-1650214800@elmarovineyard.com
SUMMARY:Closed for Easter
DESCRIPTION:Elmaro Vineyard is closed today so we can spend time with our families and friends.
URL:https://elmarovineyard.com/event/closed-for-easter/
ATTACH;FMTTYPE=image/png:https://elmarovineyard.com/wp-content/uploads/2022/03/Happy-Easter-Facebook-Post-2.png
END:VEVENT
BEGIN:VEVENT
DTSTART;TZID=UTC:20220416T140000
DTEND;TZID=UTC:20220416T170000
DTSTAMP:20260422T170421
CREATED:20220324T201238Z
LAST-MODIFIED:20220324T201238Z
UID:2686-1650117600-1650128400@elmarovineyard.com
SUMMARY:Music on the patio by Doug Mahlum
DESCRIPTION:Doug’s a local favorite with his covers from some great decades!
URL:https://elmarovineyard.com/event/music-on-the-patio-by-doug-mahlum/
ATTACH;FMTTYPE=image/jpeg:https://elmarovineyard.com/wp-content/uploads/2022/03/doug-mahlum.jpg
END:VEVENT
BEGIN:VEVENT
DTSTART;TZID=UTC:20220416T093000
DTEND;TZID=UTC:20220416T123000
DTSTAMP:20260422T170421
CREATED:20220324T185042Z
LAST-MODIFIED:20220324T185042Z
UID:2654-1650101400-1650112200@elmarovineyard.com
SUMMARY:Reserve Your Spot Easter Egg Hunt
DESCRIPTION:On Saturday\, April 16th\, Elmaro Vineyard is hosting an Easter Egg Hunt\, but you need to call the tasting room at 608-534-6456 to reserve your family’s time\, at 9:45\, 10:45\, or 11:45 a.m. Your kids will hunt for eggs and receive entertaining prizes.
URL:https://elmarovineyard.com/event/reserve-your-spot-easter-egg-hunt/
ATTACH;FMTTYPE=image/png:https://elmarovineyard.com/wp-content/uploads/2022/03/Easter-Eggs-Brunch-Party-Facebook-Post-1.png
END:VEVENT
BEGIN:VEVENT
DTSTART;TZID=UTC:20220415T120000
DTEND;TZID=UTC:20220415T180000
DTSTAMP:20260422T170421
CREATED:20220324T201507Z
LAST-MODIFIED:20220324T201507Z
UID:2689-1650024000-1650045600@elmarovineyard.com
SUMMARY:134th Anniversary of the Fire of 1888 in Trempealeau
DESCRIPTION:Honor the anniversary of the great fire of 1888 in Trempealeau. Elmaro Vineyard will have DIY s’mores and 1888 Port Style Reserve pairings\, $8 each
URL:https://elmarovineyard.com/event/134th-anniversary-of-the-fire-of-1888-in-trempealeau/
ATTACH;FMTTYPE=image/jpeg:https://elmarovineyard.com/wp-content/uploads/2022/03/Fire-of-1888.jpg
END:VEVENT
BEGIN:VEVENT
DTSTART;TZID=UTC:20220410T130000
DTEND;TZID=UTC:20220410T160000
DTSTAMP:20260422T170421
CREATED:20220307T164020Z
LAST-MODIFIED:20220329T151101Z
UID:2644-1649595600-1649606400@elmarovineyard.com
SUMMARY:Music by David Hartman
DESCRIPTION:David plays 6 and 12 string guitar for soft rock\, country\, folk\, and modern music primarily from the 60’s and 70’s.  It’s a little something for everyone!
URL:https://elmarovineyard.com/event/music-by-david-hartman-4/
ATTACH;FMTTYPE=image/jpeg:https://elmarovineyard.com/wp-content/uploads/2022/03/DSCN0330.jpeg
END:VEVENT
BEGIN:VEVENT
DTSTART;TZID=UTC:20220410T130000
DTEND;TZID=UTC:20220410T160000
DTSTAMP:20260422T170421
CREATED:20220307T154143Z
LAST-MODIFIED:20220307T154143Z
UID:2628-1649595600-1649606400@elmarovineyard.com
SUMMARY:Artist Meet and Greet with Lori Ehlke
DESCRIPTION:Meet Elmaro’s April artist of the month\, Lori Ehlke. Lori is an Onalaska\, Wisconsin based artist and Art Educator. She has taught art in schools\, camps\, community centers\, and in homes. She enjoys painting portraits in watercolor and has written and illustrated a few books. Lori loves to paint and share her love of art with others.
URL:https://elmarovineyard.com/event/artist-meet-and-greet-with-lori-ehlke/
END:VEVENT
BEGIN:VEVENT
DTSTART;TZID=UTC:20220410T120000
DTEND;TZID=UTC:20220410T170000
DTSTAMP:20260422T170421
CREATED:20220307T165450Z
LAST-MODIFIED:20220307T165450Z
UID:2651-1649592000-1649610000@elmarovineyard.com
SUMMARY:National Pet Day Observance
DESCRIPTION:Bring your dog to Elmaro for a self-guided walk through the vineyard\, with dog treat stops along the way.  No registration or fee.
URL:https://elmarovineyard.com/event/national-pet-day-observance/
ATTACH;FMTTYPE=image/jpeg:https://elmarovineyard.com/wp-content/uploads/2022/03/ziggy.jpg
END:VEVENT
BEGIN:VEVENT
DTSTART;TZID=UTC:20220409T140000
DTEND;TZID=UTC:20220409T170000
DTSTAMP:20260422T170421
CREATED:20220223T185344Z
LAST-MODIFIED:20220223T185344Z
UID:2606-1649512800-1649523600@elmarovineyard.com
SUMMARY:Music by Don D. Harvey
DESCRIPTION:A musician\, songwriter\, performer\, school teacher\, and man about town.  Join Don in the crush pad as he performs from 2-5 p.m.
URL:https://elmarovineyard.com/event/music-by-don-d-harvey-2/
ATTACH;FMTTYPE=image/jpeg:https://elmarovineyard.com/wp-content/uploads/2022/02/Don-D-Harvey.jpg
END:VEVENT
BEGIN:VEVENT
DTSTART;TZID=UTC:20220408T190000
DTEND;TZID=UTC:20220408T210000
DTSTAMP:20260422T170421
CREATED:20220328T183218Z
LAST-MODIFIED:20220328T183218Z
UID:2647-1649444400-1649451600@elmarovineyard.com
SUMMARY:Sold Out-Bingo Night!
DESCRIPTION:Bingo night at Elmaro Vineyard! Two complimentary bingo cards for each guest\, and escalating prizes! Please call 608-534-6456 for reservations.
URL:https://elmarovineyard.com/event/sold-out-bingo-night-3/
ATTACH;FMTTYPE=image/png:https://elmarovineyard.com/wp-content/uploads/2022/03/at-Elmaro-Vineyard-Friday-January-21st-700-845-p.m.-7.png
END:VEVENT
BEGIN:VEVENT
DTSTART;TZID=UTC:20220403T180000
DTEND;TZID=UTC:20220403T190000
DTSTAMP:20260422T170421
CREATED:20220324T191133Z
LAST-MODIFIED:20220324T194746Z
UID:2660-1649008800-1649012400@elmarovineyard.com
SUMMARY:Marquette Vertical Tastings
DESCRIPTION:Elmaro is opening the wine library in honor of Library Week! This is a rare event at Elmaro\, as Elmaro’s winemakers will lead the guests through a tasting of 5 vintages of Marquette\, from oldest to youngest vintage. The winemakers will educate guests on the differences in each vintage. $25 plus tax per person\, call 608-534-6456 for reservations.
URL:https://elmarovineyard.com/event/marquette-vertical-tastings/
ATTACH;FMTTYPE=image/jpeg:https://elmarovineyard.com/wp-content/uploads/2022/03/vertical-tasting.jpg
END:VEVENT
BEGIN:VEVENT
DTSTART;TZID=UTC:20220403T130000
DTEND;TZID=UTC:20220403T160000
DTSTAMP:20260422T170421
CREATED:20220329T165725Z
LAST-MODIFIED:20220329T165725Z
UID:2794-1648990800-1649001600@elmarovineyard.com
SUMMARY:Music in the Crush Pad by Chris Rude
DESCRIPTION:Join us on Sunday for classical guitar performed by Chris Rude.
URL:https://elmarovineyard.com/event/music-in-the-crush-pad-by-chris-rude/
ATTACH;FMTTYPE=image/jpeg:https://elmarovineyard.com/wp-content/uploads/2022/03/Chris-Rude.jpg
END:VEVENT
BEGIN:VEVENT
DTSTART;TZID=UTC:20220402T140000
DTEND;TZID=UTC:20220402T170000
DTSTAMP:20260422T170421
CREATED:20220324T192046Z
LAST-MODIFIED:20220324T192046Z
UID:2672-1648908000-1648918800@elmarovineyard.com
SUMMARY:Music in the crush pad by Quenten Brown
DESCRIPTION:Quenten is a solo acoustic musician with a show that includes originals\, Americana\, Roots\, Blues and Bluegrass covers. Don’t miss his debut at Elmaro Vineyard!
URL:https://elmarovineyard.com/event/music-in-the-crush-pad-by-quenten-brown/
ATTACH;FMTTYPE=image/jpeg:https://elmarovineyard.com/wp-content/uploads/2022/03/quenten-brown.jpg
END:VEVENT
BEGIN:VEVENT
DTSTART;TZID=UTC:20220402T120000
DTEND;TZID=UTC:20220402T180000
DTSTAMP:20260422T170421
CREATED:20220217T231858Z
LAST-MODIFIED:20220324T191413Z
UID:2561-1648900800-1648922400@elmarovineyard.com
SUMMARY:Sangria and Nachos
DESCRIPTION:Celebrate the start of spring with Homestead Red and Citrus Sangria and Nachos!
URL:https://elmarovineyard.com/event/sangria-and-nachos/
ATTACH;FMTTYPE=image/jpeg:https://elmarovineyard.com/wp-content/uploads/2022/02/IMG_9598-scaled.jpg
END:VEVENT
BEGIN:VEVENT
DTSTART;TZID=UTC:20220401T190000
DTEND;TZID=UTC:20220401T210000
DTSTAMP:20260422T170421
CREATED:20220223T184917Z
LAST-MODIFIED:20220307T212228Z
UID:2603-1648839600-1648846800@elmarovineyard.com
SUMMARY:Sold Out-Sip and Paint
DESCRIPTION:Sip and Paint is back at Elmaro! Lori Ehlke will lead the class on Friday\, April 1st at 7:00 p.m.  All supplies are provided\, and one glass of wine is included. $35+tax/person\, call 608-534-6456 for required reservations.
URL:https://elmarovineyard.com/event/sip-and-paint-2/
ATTACH;FMTTYPE=image/jpeg:https://elmarovineyard.com/wp-content/uploads/2022/02/wine-glass-and-paint.jpg
END:VEVENT
BEGIN:VEVENT
DTSTART;TZID=UTC:20220327T130000
DTEND;TZID=UTC:20220327T160000
DTSTAMP:20260422T170421
CREATED:20220217T233814Z
LAST-MODIFIED:20220217T233814Z
UID:2574-1648386000-1648396800@elmarovineyard.com
SUMMARY:Music by Sampson & Son
DESCRIPTION:Go ahead and sing along with the father/son duo of Rick and Aric Sampson!
URL:https://elmarovineyard.com/event/music-by-sampson-son-6/
ATTACH;FMTTYPE=image/jpeg:https://elmarovineyard.com/wp-content/uploads/2022/02/Sampson-duo-2.jpg
END:VEVENT
BEGIN:VEVENT
DTSTART;TZID=UTC:20220326T140000
DTEND;TZID=UTC:20220326T170000
DTSTAMP:20260422T170421
CREATED:20220217T233407Z
LAST-MODIFIED:20220217T233407Z
UID:2570-1648303200-1648314000@elmarovineyard.com
SUMMARY:Music by Sal & Dean
DESCRIPTION:Live entertainment in the crush pad from 2-5 p.m.!
URL:https://elmarovineyard.com/event/music-by-sal-dean/
ATTACH;FMTTYPE=image/jpeg:https://elmarovineyard.com/wp-content/uploads/2022/02/sal-and-dean.jpg
END:VEVENT
BEGIN:VEVENT
DTSTART;TZID=UTC:20220326T100000
DTEND;TZID=UTC:20220326T110000
DTSTAMP:20260422T170421
CREATED:20220218T000311Z
LAST-MODIFIED:20220218T000311Z
UID:2584-1648288800-1648292400@elmarovineyard.com
SUMMARY:Vinyasa Yoga and Brunch
DESCRIPTION:Join Laura (co-owner and winemaker) for a relaxing hour of vinyasa flow yoga practice.  Continental brunch and a mimosa will follow\, $23/person\, and reservations can be made by calling 608-534-6456.
URL:https://elmarovineyard.com/event/vinyasa-yoga-and-brunch-2/
ATTACH;FMTTYPE=image/jpeg:https://elmarovineyard.com/wp-content/uploads/2020/07/101969834_2967789796620424_8814722223811067904_n.jpg
END:VEVENT
BEGIN:VEVENT
DTSTART;TZID=UTC:20220326T083000
DTEND;TZID=UTC:20220326T093000
DTSTAMP:20260422T170421
CREATED:20220217T231141Z
LAST-MODIFIED:20220217T231141Z
UID:2557-1648283400-1648287000@elmarovineyard.com
SUMMARY:Adaptive Yoga and Brunch
DESCRIPTION:Join Laura (co-owner and winemaker) for a relaxing hour of adaptive yoga practice for anyone with a modified range of motion\, and participants will always have a chair option for sitting or as a standing prop. Continental brunch and a mimosa will follow\, $23/person\, and reservations can be made by calling 608-534-6456.
URL:https://elmarovineyard.com/event/adaptive-yoga-and-brunch-2/
ATTACH;FMTTYPE=image/jpeg:https://elmarovineyard.com/wp-content/uploads/2021/12/adaptive1-1-scaled.jpg
END:VEVENT
BEGIN:VEVENT
DTSTART;TZID=UTC:20220325T190000
DTEND;TZID=UTC:20220325T210000
DTSTAMP:20260422T170421
CREATED:20220302T155202Z
LAST-MODIFIED:20220302T155202Z
UID:2588-1648234800-1648242000@elmarovineyard.com
SUMMARY:Sold Out-Bingo Night!
DESCRIPTION:Bingo night at Elmaro Vineyard!  Two complimentary bingo cards for each guest\, and escalating prizes! Table reservations are highly recommended and can be made by calling 608-534-6456.
URL:https://elmarovineyard.com/event/sold-out-bingo-night-2/
ATTACH;FMTTYPE=image/png:https://elmarovineyard.com/wp-content/uploads/2022/02/at-Elmaro-Vineyard-Friday-January-21st-700-845-p.m.-6.png
END:VEVENT
BEGIN:VEVENT
DTSTART;TZID=UTC:20220320T130000
DTEND;TZID=UTC:20220320T160000
DTSTAMP:20260422T170421
CREATED:20220125T203016Z
LAST-MODIFIED:20220125T203016Z
UID:2494-1647781200-1647792000@elmarovineyard.com
SUMMARY:Meet the Artist\, Annie Gasper
DESCRIPTION:Annie has been painting with watercolors well over 20 years.  An avid nature lover\, Annie gets her inspiration from the beauty all around this driftless area.  She has won several awards\, such as through the Wisconsin Regional Arts Program\, and other art venues.  She feels truly blessed to have been given the gift of seeing the beauty in nature and putting her feelings into her paintings for all to enjoy.  She offers a variety of subjects in framed originals\, framed prints\, and unframed prints\, at a price range all can afford. \nWe hope you enjoy Annie’s artwork.  Please feel free to contact her at anniegasper480@gmail.com \n 
URL:https://elmarovineyard.com/event/meet-the-artist-annie-gasper/
ATTACH;FMTTYPE=image/jpeg:https://elmarovineyard.com/wp-content/uploads/2022/01/broadway-flowers-scaled.jpg
END:VEVENT
BEGIN:VEVENT
DTSTART;TZID=UTC:20220320T130000
DTEND;TZID=UTC:20220320T160000
DTSTAMP:20260422T170421
CREATED:20220125T202705Z
LAST-MODIFIED:20220125T202705Z
UID:2491-1647781200-1647792000@elmarovineyard.com
SUMMARY:Music by Chris Rude
DESCRIPTION:The soothing sounds of classical guitar will fill the air from 1-4 p.m.
URL:https://elmarovineyard.com/event/music-by-chris-rude-2/
ATTACH;FMTTYPE=image/jpeg:https://elmarovineyard.com/wp-content/uploads/2022/01/Chris-Rude-2.jpg
END:VEVENT
BEGIN:VEVENT
DTSTART;TZID=UTC:20220319T140000
DTEND;TZID=UTC:20220319T170000
DTSTAMP:20260422T170421
CREATED:20220125T203631Z
LAST-MODIFIED:20220125T203631Z
UID:2501-1647698400-1647709200@elmarovineyard.com
SUMMARY:Music by James Grant
DESCRIPTION:Local musician\, James Grant\, will perform many 60s and 70s covers from 2-5 p.m.
URL:https://elmarovineyard.com/event/music-by-james-grant-6/
ATTACH;FMTTYPE=image/jpeg:https://elmarovineyard.com/wp-content/uploads/2022/01/James-Grant_new-1-scaled.jpg
END:VEVENT
BEGIN:VEVENT
DTSTART;TZID=UTC:20220318T190000
DTEND;TZID=UTC:20220318T210000
DTSTAMP:20260422T170421
CREATED:20220302T155110Z
LAST-MODIFIED:20220302T155110Z
UID:2580-1647630000-1647637200@elmarovineyard.com
SUMMARY:Sold Out-Bingo Night
DESCRIPTION:Bingo night at Elmaro Vineyard!  Two complimentary bingo cards for each guest\, and escalating prizes! Table reservations are highly recommended and can be made by calling 608-534-6456.
URL:https://elmarovineyard.com/event/sold-out-bingo-night/
ATTACH;FMTTYPE=image/png:https://elmarovineyard.com/wp-content/uploads/2022/02/at-Elmaro-Vineyard-Friday-January-21st-700-845-p.m.-5.png
END:VEVENT
BEGIN:VEVENT
DTSTART;TZID=UTC:20220317T120000
DTEND;TZID=UTC:20220317T180000
DTSTAMP:20260422T170421
CREATED:20220223T174555Z
LAST-MODIFIED:20220223T174555Z
UID:2599-1647518400-1647540000@elmarovineyard.com
SUMMARY:Paddy's Palate Puzzle Box
DESCRIPTION:Go a little green on St. Patrick’s Day with Paddy’s Palate Puzzle Box – Guess the green wine game! Includes 5 wines\, clues\, and game sheets for $18! Call Elmaro at 608-534-6456 to reserve your box to either enjoy at Elmaro or at home. Pick up of boxes is March 17th\, 12-6 p.m.
URL:https://elmarovineyard.com/event/paddys-palate-puzzle-box/
ATTACH;FMTTYPE=image/jpeg:https://elmarovineyard.com/wp-content/uploads/2022/02/palate-puzzle.jpg
END:VEVENT
END:VCALENDAR