BEGIN:VCALENDAR
VERSION:2.0
PRODID:-//Elmaro Vineyard - ECPv6.15.20//NONSGML v1.0//EN
CALSCALE:GREGORIAN
METHOD:PUBLISH
X-WR-CALNAME:Elmaro Vineyard
X-ORIGINAL-URL:https://elmarovineyard.com
X-WR-CALDESC:Events for Elmaro Vineyard
REFRESH-INTERVAL;VALUE=DURATION:PT1H
X-Robots-Tag:noindex
X-PUBLISHED-TTL:PT1H
BEGIN:VTIMEZONE
TZID:UTC
BEGIN:STANDARD
TZOFFSETFROM:+0000
TZOFFSETTO:+0000
TZNAME:UTC
DTSTART:20210101T000000
END:STANDARD
END:VTIMEZONE
BEGIN:VEVENT
DTSTART;TZID=UTC:20220604T083000
DTEND;TZID=UTC:20220604T093000
DTSTAMP:20260422T070152
CREATED:20220517T210916Z
LAST-MODIFIED:20220517T211032Z
UID:2915-1654331400-1654335000@elmarovineyard.com
SUMMARY:Adaptive Yoga & Brunch
DESCRIPTION:Join Laura (co-owner and winemaker) for a relaxing hour of adaptive yoga practice for anyone with a modified range of motion\, and participants will always have a chair option for sitting or as a standing prop. Continental brunch and a mimosa will follow\, $23/person\, and reservations can be made by calling 608-534-6456.
URL:https://elmarovineyard.com/event/adaptive-yoga-brunch-2/
ATTACH;FMTTYPE=image/png:https://elmarovineyard.com/wp-content/uploads/2022/05/Adaptive-yoga-brunch-fb-post.png
END:VEVENT
BEGIN:VEVENT
DTSTART;TZID=UTC:20220604T083000
DTEND;TZID=UTC:20220604T093000
DTSTAMP:20260422T070152
CREATED:20220517T210724Z
LAST-MODIFIED:20220517T210724Z
UID:2912-1654331400-1654335000@elmarovineyard.com
SUMMARY:Vinyasa Yoga & Brunch
DESCRIPTION:Join Laura (co-owner and winemaker) for a relaxing hour of yoga followed by a continental brunch and a mimosa. $23/person\, and reservations can be made by calling 608-534-6456.
URL:https://elmarovineyard.com/event/vinyasa-yoga-brunch-2/
ATTACH;FMTTYPE=image/jpeg:https://elmarovineyard.com/wp-content/uploads/2022/05/Yomosas_1.jpg
END:VEVENT
BEGIN:VEVENT
DTSTART;TZID=UTC:20220603T150000
DTEND;TZID=UTC:20220603T180000
DTSTAMP:20260422T070152
CREATED:20220517T211649Z
LAST-MODIFIED:20220517T211649Z
UID:2918-1654268400-1654279200@elmarovineyard.com
SUMMARY:Outdoor painting demonstration
DESCRIPTION:Visit with Colleen as she does an outdoor painting demonstration at Elmaro Vineyard\, and shows her talents and techniques.\nJoin her while she paints onsite\, Friday June 3 from 3-6 and Sunday\, June 12 from 1-4. She would love to hear about your favorite places.\nDiscover more at cshoreartwork.blogspot.com
URL:https://elmarovineyard.com/event/outdoor-painting-demonstration/
ATTACH;FMTTYPE=image/jpeg:https://elmarovineyard.com/wp-content/uploads/2022/05/Soaking-It-Up-at-Elmaro-scaled.jpg
END:VEVENT
BEGIN:VEVENT
DTSTART;TZID=UTC:20220530T120000
DTEND;TZID=UTC:20220530T180000
DTSTAMP:20260422T070152
CREATED:20220525T154658Z
LAST-MODIFIED:20220525T154658Z
UID:2973-1653912000-1653933600@elmarovineyard.com
SUMMARY:Closed for Memorial Day
DESCRIPTION:Elmaro Vineyard is closed to observe Memorial Day.
URL:https://elmarovineyard.com/event/closed-for-memorial-day/
ATTACH;FMTTYPE=image/png:https://elmarovineyard.com/wp-content/uploads/2022/05/Dark-Blue-Fall-Festival-Leaves-Facebook-Event-Cover-Photo-2.png
END:VEVENT
BEGIN:VEVENT
DTSTART;TZID=UTC:20220529T130000
DTEND;TZID=UTC:20220529T160000
DTSTAMP:20260422T070152
CREATED:20220330T173738Z
LAST-MODIFIED:20220330T173738Z
UID:2805-1653829200-1653840000@elmarovineyard.com
SUMMARY:Music under the tent by Paul Leithold
DESCRIPTION:Paul’s musical skills are the perfect accompaniment to wine and a Sunday afternoon.
URL:https://elmarovineyard.com/event/music-under-the-tent-by-paul-leithold/
ATTACH;FMTTYPE=image/jpeg:https://elmarovineyard.com/wp-content/uploads/2022/03/paul-leithold1.jpg
END:VEVENT
BEGIN:VEVENT
DTSTART;TZID=UTC:20220528T140000
DTEND;TZID=UTC:20220528T170000
DTSTAMP:20260422T070152
CREATED:20220330T170412Z
LAST-MODIFIED:20220330T170412Z
UID:2802-1653746400-1653757200@elmarovineyard.com
SUMMARY:Music on the stage by Ryan Howe
DESCRIPTION:Ryan uses many instruments to play everything from Sinatra to James Taylor\, from Eagles to John Mayer\, from Irish folk music to Coldplay and everything in between.
URL:https://elmarovineyard.com/event/music-on-the-stage-by-ryan-howe/
ATTACH;FMTTYPE=image/jpeg:https://elmarovineyard.com/wp-content/uploads/2022/03/ryan-howe.jpg
END:VEVENT
BEGIN:VEVENT
DTSTART;TZID=UTC:20220522T150000
DTEND;TZID=UTC:20220522T170000
DTSTAMP:20260422T070152
CREATED:20220328T184531Z
LAST-MODIFIED:20220328T184531Z
UID:2788-1653231600-1653238800@elmarovineyard.com
SUMMARY:Music in the vineyard by Too Darn Hot
DESCRIPTION:Wine pairs perfectly with the authentic sounds of Dixieland Jazz.
URL:https://elmarovineyard.com/event/music-in-the-vineyard-by-too-darn-hot/
ATTACH;FMTTYPE=image/jpeg:https://elmarovineyard.com/wp-content/uploads/2022/03/Too-darn-hott.jpg
END:VEVENT
BEGIN:VEVENT
DTSTART;TZID=UTC:20220522T123000
DTEND;TZID=UTC:20220522T140000
DTSTAMP:20260422T070152
CREATED:20220503T153023Z
LAST-MODIFIED:20220503T153023Z
UID:2860-1653222600-1653228000@elmarovineyard.com
SUMMARY:Rockin' Robyn High School Extravaganza!
DESCRIPTION:Music and food all day! G-E-T High School Jazz Band\, Out of the Blue\, and Vocal Point perform 12:30-2:00\, AND hamburger and hot dog sales by Friends of Rockin’ Robyn Scholarship!
URL:https://elmarovineyard.com/event/rockin-robyn-high-school-extravaganza/
ATTACH;FMTTYPE=image/png:https://elmarovineyard.com/wp-content/uploads/2022/05/Sunday-May-22nd-2.png
END:VEVENT
BEGIN:VEVENT
DTSTART;TZID=UTC:20220521T140000
DTEND;TZID=UTC:20220521T170000
DTSTAMP:20260422T070152
CREATED:20220428T202347Z
LAST-MODIFIED:20220428T202347Z
UID:2854-1653141600-1653152400@elmarovineyard.com
SUMMARY:Community Talent Show!
DESCRIPTION:Let’s celebrate our local talent!  Musicians\, comedians\, and more!  Contact events@elmarovineyard.com to pre-register.
URL:https://elmarovineyard.com/event/community-talent-show/
ATTACH;FMTTYPE=image/png:https://elmarovineyard.com/wp-content/uploads/2022/04/ROCKIN-ROBYNS-3-1.png
END:VEVENT
BEGIN:VEVENT
DTSTART;TZID=UTC:20220521T123000
DTEND;TZID=UTC:20220521T170000
DTSTAMP:20260422T070152
CREATED:20220428T202022Z
LAST-MODIFIED:20220428T202022Z
UID:2851-1653136200-1653152400@elmarovineyard.com
SUMMARY:Taco Town Food Cart
DESCRIPTION:Authentic Mexican fare is on the menu at Elmaro!  Come hungry\, and it all pairs perfectly with wine!
URL:https://elmarovineyard.com/event/taco-town-food-cart/
ATTACH;FMTTYPE=image/jpeg:https://elmarovineyard.com/wp-content/uploads/2022/04/taco-town-logo.jpg
END:VEVENT
BEGIN:VEVENT
DTSTART;TZID=UTC:20220520T160000
DTEND;TZID=UTC:20220520T180000
DTSTAMP:20260422T070152
CREATED:20220328T184210Z
LAST-MODIFIED:20220328T184210Z
UID:2785-1653062400-1653069600@elmarovineyard.com
SUMMARY:Broadway Musical Sing-Along
DESCRIPTION:Janette Hanson will play the piano and accompany guests as everyone sings along with Broadway favorites!  This is kicking off the Rockin’ Robyn Scholarship Weekend at Elmaro!
URL:https://elmarovineyard.com/event/broadway-musical-sing-along/
ATTACH;FMTTYPE=image/jpeg:https://elmarovineyard.com/wp-content/uploads/2022/03/Janette-Hanson.jpg
END:VEVENT
BEGIN:VEVENT
DTSTART;TZID=UTC:20220520T120000
DTEND;TZID=UTC:20220520T180000
DTSTAMP:20260422T070152
CREATED:20220428T201737Z
LAST-MODIFIED:20220428T201737Z
UID:2847-1653048000-1653069600@elmarovineyard.com
SUMMARY:Kick-off to the Rockin' Robyn Scholarship Weekend
DESCRIPTION:Raising funds for local high school music scholarships with 5% of all wine sales this weekend contributed! Join us at Elmaro all weekend for fun and music of all sorts.
URL:https://elmarovineyard.com/event/kick-off-to-the-rockin-robyn-scholarship-weekend/
ATTACH;FMTTYPE=image/png:https://elmarovineyard.com/wp-content/uploads/2022/04/ROCKIN-ROBYNS-3.png
END:VEVENT
BEGIN:VEVENT
DTSTART;TZID=UTC:20220519T180000
DTEND;TZID=UTC:20220519T190000
DTSTAMP:20260422T070152
CREATED:20220325T182002Z
LAST-MODIFIED:20220513T190919Z
UID:2743-1652983200-1652986800@elmarovineyard.com
SUMMARY:Sunset Yoga
DESCRIPTION:Join Laura (co-owner and winemaker) for a one-hour vinyasa yoga flow practice.  This class begins at 6:00 p.m.\, includes a complimentary beverage\, and no former yoga training required. Please bring your own mat and water bottle\, $10 per person.  (We welcome drop-ins!)
URL:https://elmarovineyard.com/event/sunset-yoga/2022-05-19/
ATTACH;FMTTYPE=image/jpeg:https://elmarovineyard.com/wp-content/uploads/2022/03/laura-yoga-2.jpeg
END:VEVENT
BEGIN:VEVENT
DTSTART;TZID=UTC:20220519T110000
DTEND;TZID=UTC:20220519T120000
DTSTAMP:20260422T070152
CREATED:20220325T181448Z
LAST-MODIFIED:20220513T191302Z
UID:2732-1652958000-1652961600@elmarovineyard.com
SUMMARY:Adaptive Yoga
DESCRIPTION:At 11:00 a.m.\, Join Laura (co-owner and winemaker) for a one-hour\, indoor yoga practice for anyone with a modified range of motion.  Chairs are available for sitting or standing prop\,  no former yoga training is required\, and please bring your own mat and water bottle\, $2 per person.  (We welcome drop-ins!)
URL:https://elmarovineyard.com/event/adaptive-yoga-4/2022-05-19/
ATTACH;FMTTYPE=image/jpeg:https://elmarovineyard.com/wp-content/uploads/2022/03/adaptive1-scaled.jpg
END:VEVENT
BEGIN:VEVENT
DTSTART;TZID=UTC:20220517T080000
DTEND;TZID=UTC:20220517T170000
DTSTAMP:20260422T070152
CREATED:20220517T215454Z
LAST-MODIFIED:20220517T215454Z
UID:2940-1652774400-1652806800@elmarovineyard.com
SUMMARY:Street Market Sunday
DESCRIPTION:Don’t miss the final Street Market Sunday of 2022!  Jeani and the Dreamers will rock the vines while you stroll and shop the vendors.  Jean Luc will be serving crepes\, and of course\, wine is available!
URL:https://elmarovineyard.com/event/street-market-sunday-4/
ATTACH;FMTTYPE=image/png:https://elmarovineyard.com/wp-content/uploads/2022/05/Rockin-Robyn-Saturday-3-3.png
END:VEVENT
BEGIN:VEVENT
DTSTART;TZID=UTC:20220515T130000
DTEND;TZID=UTC:20220515T160000
DTSTAMP:20260422T070152
CREATED:20220428T200616Z
LAST-MODIFIED:20220428T200616Z
UID:2841-1652619600-1652630400@elmarovineyard.com
SUMMARY:Artist Meet and Greet with the Valley Arts Association
DESCRIPTION:The Valley Arts Association is dedicated to promoting the visual arts in and around west central Wisconsin. This non-profit group supports arts and education\, and the works of many of the members are on display in the Crush Pad for the month of May. Here’s your chance to get to know them better!
URL:https://elmarovineyard.com/event/artist-meet-and-greet-with-the-valley-arts-association/
ATTACH;FMTTYPE=image/jpeg:https://elmarovineyard.com/wp-content/uploads/2022/04/VAA5.jpg
END:VEVENT
BEGIN:VEVENT
DTSTART;TZID=UTC:20220515T130000
DTEND;TZID=UTC:20220515T160000
DTSTAMP:20260422T070152
CREATED:20220401T204821Z
LAST-MODIFIED:20220514T002756Z
UID:2800-1652619600-1652630400@elmarovineyard.com
SUMMARY:Music in the vineyard by Jeani and the Dreamers
DESCRIPTION:Jeani and the Dreamers will have you dancing in the vineyard!
URL:https://elmarovineyard.com/event/music-in-the-vineyard-by-scoop-the-band/
ATTACH;FMTTYPE=image/jpeg:https://elmarovineyard.com/wp-content/uploads/2022/04/Jeani-the-Dreamers.jpg
END:VEVENT
BEGIN:VEVENT
DTSTART;TZID=UTC:20220515T120000
DTEND;TZID=UTC:20220515T170000
DTSTAMP:20260422T070152
CREATED:20220428T200308Z
LAST-MODIFIED:20220514T004230Z
UID:2838-1652616000-1652634000@elmarovineyard.com
SUMMARY:Customer Appreciation Day!
DESCRIPTION:Elmaro is celebrating you\, our customers\, today! Vineyard and winery tours\, complimentary burgers and hot dogs (while supplies last)\, cheese curds by the Trempealeau Lions\, music by Jeani and the Dreamers\, and a barrel drawing!
URL:https://elmarovineyard.com/event/customer-appreciation-day/
ATTACH;FMTTYPE=image/jpeg:https://elmarovineyard.com/wp-content/uploads/2022/04/428896_365729300159833_653312297_n.jpg
END:VEVENT
BEGIN:VEVENT
DTSTART;TZID=UTC:20220514T140000
DTEND;TZID=UTC:20220514T170000
DTSTAMP:20260422T070152
CREATED:20220330T165148Z
LAST-MODIFIED:20220330T165148Z
UID:2797-1652536800-1652547600@elmarovineyard.com
SUMMARY:Music in the vineyard by Amanda Grace
DESCRIPTION:Minnesota made Amanda Grace produces music drifting between folk and rock with a pulsating drive.
URL:https://elmarovineyard.com/event/music-in-the-vineyard-by-amanda-grace/
END:VEVENT
BEGIN:VEVENT
DTSTART;TZID=UTC:20220513T173000
DTEND;TZID=UTC:20220513T193000
DTSTAMP:20260422T070152
CREATED:20220428T200047Z
LAST-MODIFIED:20220428T200047Z
UID:2835-1652463000-1652470200@elmarovineyard.com
SUMMARY:World Migratory Bird Day Presentation
DESCRIPTION:The Friends of Trempealeau Refuge would like to invite you to unwind for a night at Elmaro Vineyard for an incredible presentation by Stan Tekiela\, titled “Uncommon Facts about Common Birds”. Stan is an author of bird and wildlife books. He’s a naturalist and wildlife photographer\, writes a syndicated nature column\, and appears on radio and nature shows.\nWe hope you can join us for his presentation at 6:30 PM!\nAs part of International Migratory Bird Day celebration and in conjunction with Elmaro Vineyard and Environment for America’s\, a special “Bird Day Red” wine is being bottled at this local winery\nin Trempealeau\, Wisconsin\, commemorative bottles will be\navailable the night of the special presentation.\nFor more information\, call 608.539.2311 ext. 6 log onto our website for a complete festival brochure: \nhttp://www.fws.gov/refuge/trempealeau/
URL:https://elmarovineyard.com/event/world-migratory-bird-day-presentation/
ATTACH;FMTTYPE=image/jpeg:https://elmarovineyard.com/wp-content/uploads/2022/04/2022-WMBD-Light-Pollution-Poster-Hz-R14-1-600x450-1.jpeg
END:VEVENT
BEGIN:VEVENT
DTSTART;TZID=UTC:20220508T130000
DTEND;TZID=UTC:20220508T160000
DTSTAMP:20260422T070152
CREATED:20220328T183845Z
LAST-MODIFIED:20220328T183845Z
UID:2782-1652014800-1652025600@elmarovineyard.com
SUMMARY:Music under the tent by Doug Mahlum
DESCRIPTION:Doug has smooth covers of decades past\, and new spins on new favorites.
URL:https://elmarovineyard.com/event/music-under-the-tent-by-doug-mahlum/
ATTACH;FMTTYPE=image/jpeg:https://elmarovineyard.com/wp-content/uploads/2022/03/doug-mahlum-1.jpg
END:VEVENT
BEGIN:VEVENT
DTSTART;TZID=UTC:20220508T120000
DTEND;TZID=UTC:20220508T170000
DTSTAMP:20260422T070152
CREATED:20220428T195748Z
LAST-MODIFIED:20220504T161824Z
UID:2832-1652011200-1652029200@elmarovineyard.com
SUMMARY:Sold Out-Mother's Day Cupcake and Wine Pairing
DESCRIPTION:Mom deserves a sweet treat! Cupcakes and wine for Mother’s Day! Six Cupcake Artistry mini-cupcakes are paired with six Elmaro wine samples\, all packaged for you to give\, share\, or enjoy all to yourself\, $25 plus tax per box. Call Elmaro at 608-534-6456 to reserve your box to either enjoy at Elmaro or at home. Pick up of boxes is May 7th 12-6 p.m. and May 8th 12-5 p.m.
URL:https://elmarovineyard.com/event/mothers-day-cupcake-and-wine-pairing/
ATTACH;FMTTYPE=image/jpeg:https://elmarovineyard.com/wp-content/uploads/2022/04/cupcake-and-wine-pairing-scaled.jpg
END:VEVENT
BEGIN:VEVENT
DTSTART;TZID=UTC:20220507T140000
DTEND;TZID=UTC:20220507T170000
DTSTAMP:20260422T070152
CREATED:20220328T183647Z
LAST-MODIFIED:20220328T183647Z
UID:2779-1651932000-1651942800@elmarovineyard.com
SUMMARY:Music in the vineyard by Sampson & Son
DESCRIPTION:This local father/son duo is a vineyard favorite!
URL:https://elmarovineyard.com/event/music-in-the-vineyard-by-sampson-son/
ATTACH;FMTTYPE=image/jpeg:https://elmarovineyard.com/wp-content/uploads/2022/03/Sampson-duo-2.jpg
END:VEVENT
BEGIN:VEVENT
DTSTART;TZID=UTC:20220506T180000
DTEND;TZID=UTC:20220506T190000
DTSTAMP:20260422T070152
CREATED:20220428T194211Z
LAST-MODIFIED:20220428T195226Z
UID:2823-1651860000-1651863600@elmarovineyard.com
SUMMARY:Foodies of the Forest Hike
DESCRIPTION:Scott Lee will lead a family-friendly hike through the Elmaro grounds and teach us about edible and medicinal plants that can be found in the area\, and even in your back yard! The hike is $5 per person\, and required reservations can be made by calling the tasting room at 608-534-6456.
URL:https://elmarovineyard.com/event/foodies-of-the-forest-hike-2/
ATTACH;FMTTYPE=image/jpeg:https://elmarovineyard.com/wp-content/uploads/2022/04/dandelion-edible-greens-scaled.jpg
END:VEVENT
BEGIN:VEVENT
DTSTART;TZID=UTC:20220504T183000
DTEND;TZID=UTC:20220504T193000
DTSTAMP:20260422T070152
CREATED:20220428T195516Z
LAST-MODIFIED:20220428T195516Z
UID:2829-1651689000-1651692600@elmarovineyard.com
SUMMARY:Vertical Tasting of Marquette
DESCRIPTION:Elmaro is opening the wine library\, with a vertical tasting of Marquette! This is a rare event at Elmaro\, as Elmaro’s winemakers will lead the guests through a tasting of 5 vintages of Marquette from oldest to youngest vintage. The winemakers will educate guests on the differences in each vintage. $25 plus tax/person\, call 608-534-6456 for reservations.
URL:https://elmarovineyard.com/event/vertical-tasting-of-marquette/
ATTACH;FMTTYPE=image/jpeg:https://elmarovineyard.com/wp-content/uploads/2022/04/marquette-vertical.jpg
END:VEVENT
BEGIN:VEVENT
DTSTART;TZID=UTC:20220501T130000
DTEND;TZID=UTC:20220501T160000
DTSTAMP:20260422T070152
CREATED:20220428T195136Z
LAST-MODIFIED:20220428T195136Z
UID:2826-1651410000-1651420800@elmarovineyard.com
SUMMARY:Music by Tim Dallman
DESCRIPTION:Tim Dallman is a guitarist/vocalist who writes and performs his own rock\, blues\, jazz and folk-infused original material\, as well as a variety of classic and contemporary rock and pop cover songs.
URL:https://elmarovineyard.com/event/music-by-tim-dallman-6/
ATTACH;FMTTYPE=image/jpeg:https://elmarovineyard.com/wp-content/uploads/2022/04/Tim-Dallman-2.jpeg
END:VEVENT
BEGIN:VEVENT
DTSTART;TZID=UTC:20220430T140000
DTEND;TZID=UTC:20220430T170000
DTSTAMP:20260422T070152
CREATED:20220324T193515Z
LAST-MODIFIED:20220324T193515Z
UID:2678-1651327200-1651338000@elmarovineyard.com
SUMMARY:Music in the vineyard by Kricket & The Kid
DESCRIPTION:Kricket & The Kid Features Maddex on guitar and lead vocals\, with Kricket backing him on bass and harmony. They perform everything from modern pop to new country. It’s another debut at Elmaro Vineyard!
URL:https://elmarovineyard.com/event/music-in-the-vineyard-by-kricket-the-kid/
ATTACH;FMTTYPE=image/jpeg:https://elmarovineyard.com/wp-content/uploads/2022/03/kricket-and-the-kid.jpg
END:VEVENT
BEGIN:VEVENT
DTSTART;TZID=UTC:20220430T100000
DTEND;TZID=UTC:20220430T110000
DTSTAMP:20260422T070152
CREATED:20220223T191737Z
LAST-MODIFIED:20220223T191737Z
UID:2619-1651312800-1651316400@elmarovineyard.com
SUMMARY:Vinyasa Yoga and Brunch
DESCRIPTION:Join Laura (co-owner and winemaker) for a relaxing hour of vinyasa flow yoga practice.  Continental brunch and a mimosa will follow\, $23/person\, and reservations can be made by calling 608-534-6456.
URL:https://elmarovineyard.com/event/vinyasa-yoga-and-brunch-3/
END:VEVENT
BEGIN:VEVENT
DTSTART;TZID=UTC:20220430T083000
DTEND;TZID=UTC:20220430T093000
DTSTAMP:20260422T070152
CREATED:20220223T191559Z
LAST-MODIFIED:20220223T191559Z
UID:2616-1651307400-1651311000@elmarovineyard.com
SUMMARY:Adaptive Yoga and Brunch
DESCRIPTION:Join Laura (co-owner and winemaker) for a relaxing hour of adaptive yoga practice for anyone with a modified range of motion\, and participants will always have a chair option for sitting or as a standing prop. Continental brunch and a mimosa will follow\, $23/person\, and reservations can be made by calling 608-534-6456.
URL:https://elmarovineyard.com/event/adaptive-yoga-and-brunch-3/
ATTACH;FMTTYPE=image/jpeg:https://elmarovineyard.com/wp-content/uploads/2022/02/adaptive1-scaled.jpg
END:VEVENT
BEGIN:VEVENT
DTSTART;TZID=UTC:20220429T180000
DTEND;TZID=UTC:20220429T190000
DTSTAMP:20260422T070152
CREATED:20220324T202740Z
LAST-MODIFIED:20220428T144614Z
UID:2692-1651255200-1651258800@elmarovineyard.com
SUMMARY:POSTPONED to MAY 6th - Foodies of the Forest Hike
DESCRIPTION:Scott Lee will lead a family-friendly hike through the Elmaro grounds and teach us about edible and medicinal plants that can be found in the area\, and even in your back yard! The hike is $5 per person\, and required reservations can be made by calling the tasting room at 608-534-6456.
URL:https://elmarovineyard.com/event/foodies-of-the-forest-hike/
ATTACH;FMTTYPE=image/jpeg:https://elmarovineyard.com/wp-content/uploads/2022/03/dandelion_729_embed.jpg
END:VEVENT
END:VCALENDAR