BEGIN:VCALENDAR
VERSION:2.0
PRODID:-//Elmaro Vineyard - ECPv6.15.20//NONSGML v1.0//EN
CALSCALE:GREGORIAN
METHOD:PUBLISH
X-WR-CALNAME:Elmaro Vineyard
X-ORIGINAL-URL:https://elmarovineyard.com
X-WR-CALDESC:Events for Elmaro Vineyard
REFRESH-INTERVAL;VALUE=DURATION:PT1H
X-Robots-Tag:noindex
X-PUBLISHED-TTL:PT1H
BEGIN:VTIMEZONE
TZID:UTC
BEGIN:STANDARD
TZOFFSETFROM:+0000
TZOFFSETTO:+0000
TZNAME:UTC
DTSTART:20210101T000000
END:STANDARD
END:VTIMEZONE
BEGIN:VEVENT
DTSTART;TZID=UTC:20220717T130000
DTEND;TZID=UTC:20220717T160000
DTSTAMP:20260422T022614
CREATED:20220630T205312Z
LAST-MODIFIED:20220630T205312Z
UID:3058-1658062800-1658073600@elmarovineyard.com
SUMMARY:Meet the July Artist\, Ruth Lundblad
DESCRIPTION:After a drawing class and watercolor class in the late 90’s\, Ruth was hooked on art! Ruth loves to experiment with watercolor and many other art media. Meet Ruth and ask her questions about her art from 1-4 p.m. today
URL:https://elmarovineyard.com/event/meet-the-july-artist-ruth-lundblad/
ATTACH;FMTTYPE=image/jpeg:https://elmarovineyard.com/wp-content/uploads/2022/06/IMG_0190.jpg
END:VEVENT
BEGIN:VEVENT
DTSTART;TZID=UTC:20220717T130000
DTEND;TZID=UTC:20220717T160000
DTSTAMP:20260422T022614
CREATED:20220608T183441Z
LAST-MODIFIED:20220608T183441Z
UID:3018-1658062800-1658073600@elmarovineyard.com
SUMMARY:Music on the stage by Patina
DESCRIPTION:Patina is a violin\, whistle\, flute\, bass\, bodhrán\, accordion\, and guitar band that plays mixed Celtic\, folk and original music.\nKara Mae is an award winning fiddler who plays the violin & sings\, Connie plays the double bass\, flute\, Celtic whistles & sings\, Sue Lee plays the guitar & sings and Greg plays the bodhrán\, Irish flute\, accordion and Celtic whistles to round out the band
URL:https://elmarovineyard.com/event/music-on-the-stage-by-patina/
ATTACH;FMTTYPE=image/jpeg:https://elmarovineyard.com/wp-content/uploads/2022/06/Patina2.jpg
END:VEVENT
BEGIN:VEVENT
DTSTART;TZID=UTC:20220716T140000
DTEND;TZID=UTC:20220716T170000
DTSTAMP:20260422T022614
CREATED:20220608T183305Z
LAST-MODIFIED:20220608T183305Z
UID:3015-1657980000-1657990800@elmarovineyard.com
SUMMARY:Music in the vineyard by The Flyin' A's
DESCRIPTION:The Flyin’ A’s are a Texas songwriting duo that perform Americana with a Texas Kick! From honky tonk to “Texified” Jazz.
URL:https://elmarovineyard.com/event/music-in-the-vineyard-by-the-flyin-as/
ATTACH;FMTTYPE=image/jpeg:https://elmarovineyard.com/wp-content/uploads/2022/06/flyin-a.jpg
END:VEVENT
BEGIN:VEVENT
DTSTART;TZID=UTC:20220710T133000
DTEND;TZID=UTC:20220710T153000
DTSTAMP:20260422T022614
CREATED:20220608T183112Z
LAST-MODIFIED:20220608T183112Z
UID:3012-1657459800-1657467000@elmarovineyard.com
SUMMARY:Music on the stage by Too Darn Hot
DESCRIPTION:It’s never too hot for the sounds of Dixieland Jazz!! Don’t miss Too Darn Hot\, 1-3 p.m.
URL:https://elmarovineyard.com/event/music-on-the-stage-by-too-darn-hot/
ATTACH;FMTTYPE=image/jpeg:https://elmarovineyard.com/wp-content/uploads/2022/06/Too-Darn-Hot-Band.jpg
END:VEVENT
BEGIN:VEVENT
DTSTART;TZID=UTC:20220709T140000
DTEND;TZID=UTC:20220709T170000
DTSTAMP:20260422T022614
CREATED:20220608T182623Z
LAST-MODIFIED:20220608T182623Z
UID:3006-1657375200-1657386000@elmarovineyard.com
SUMMARY:Music on the stage by Ryan Howe
DESCRIPTION:Ryan is a pianist/singer/songwriter from the La Crosse area. He has a huge array of covers including but not limited to Elton John\, Jackson Browne\, James Taylor\, Stevie Wonder\, John Mayer\, Doobie Brothers\, Bruce Hornsby\, and much more! Ryan also performs some of his original tunes.
URL:https://elmarovineyard.com/event/music-on-the-stage-by-ryan-howe-2/
ATTACH;FMTTYPE=image/jpeg:https://elmarovineyard.com/wp-content/uploads/2022/06/ryan-howe.jpg
END:VEVENT
BEGIN:VEVENT
DTSTART;TZID=UTC:20220709T123000
DTEND;TZID=UTC:20220709T170000
DTSTAMP:20260422T022614
CREATED:20220608T182428Z
LAST-MODIFIED:20220608T182428Z
UID:3003-1657369800-1657386000@elmarovineyard.com
SUMMARY:Sweet Lou Barbecue Food Truck
DESCRIPTION:“We are Sweet Lou Barbeque\, a family owned barbeque food truck serving the Onalaska\, WI area and beyond. Our specialty is great barbeque served how we would want our own family to enjoy it. Our customers and their families are at the heart of all the decisions we make.”\n\n\n— Owner Andy
URL:https://elmarovineyard.com/event/sweet-lou-barbecue-food-truck/
ATTACH;FMTTYPE=image/png:https://elmarovineyard.com/wp-content/uploads/2022/06/sweet-lous.png
END:VEVENT
BEGIN:VEVENT
DTSTART;TZID=UTC:20220708T150000
DTEND;TZID=UTC:20220708T180000
DTSTAMP:20260422T022614
CREATED:20220628T211323Z
LAST-MODIFIED:20220628T211323Z
UID:3043-1657292400-1657303200@elmarovineyard.com
SUMMARY:Crepes by Jean Luc
DESCRIPTION:Start your weekend with Crepes prepared by Jean Luc\, all while taking in the sounds of Under Paris Skies.
URL:https://elmarovineyard.com/event/crepes-by-jean-luc-3/
ATTACH;FMTTYPE=image/jpeg:https://elmarovineyard.com/wp-content/uploads/2022/06/Jeanluc.jpg
END:VEVENT
BEGIN:VEVENT
DTSTART;TZID=UTC:20220708T150000
DTEND;TZID=UTC:20220708T180000
DTSTAMP:20260422T022614
CREATED:20220608T182023Z
LAST-MODIFIED:20220608T182023Z
UID:2997-1657292400-1657303200@elmarovineyard.com
SUMMARY:Music in the vineyard by Under Paris Skies
DESCRIPTION:The acoustic trio\, “Under Paris Skies”\, celebrates the music of French sidewalk cafes\, vintage jazz clubs\, Argentine dance halls\, and Latin rhythms.  together\, Ron Reimer\, Steven Meger\, and Larry Dalton forge a unique musical blend of wall-of-sound accordion\, swinging guitar\, and rocking bass.  Sophisticated arrangements and sentimental melodies carry you to faraway and familiar places.
URL:https://elmarovineyard.com/event/music-in-the-vineyard-by-under-paris-skies/
ATTACH;FMTTYPE=image/jpeg:https://elmarovineyard.com/wp-content/uploads/2022/06/under-paris-skies-2.jpg
END:VEVENT
BEGIN:VEVENT
DTSTART;TZID=UTC:20220704T120000
DTEND;TZID=UTC:20220704T180000
DTSTAMP:20260422T022614
CREATED:20220628T210016Z
LAST-MODIFIED:20220628T210016Z
UID:3040-1656936000-1656957600@elmarovineyard.com
SUMMARY:Closed July 4th
DESCRIPTION:Elmaro is closed Monday\, July 4th to celebrate Independence Day.
URL:https://elmarovineyard.com/event/closed-july-4th/
ATTACH;FMTTYPE=image/jpeg:https://elmarovineyard.com/wp-content/uploads/2022/06/closed-july4.jpg
END:VEVENT
BEGIN:VEVENT
DTSTART;TZID=UTC:20220703T130000
DTEND;TZID=UTC:20220703T160000
DTSTAMP:20260422T022614
CREATED:20220608T181655Z
LAST-MODIFIED:20220608T181655Z
UID:2994-1656853200-1656864000@elmarovineyard.com
SUMMARY:Music on the stage by Tim Dallman
DESCRIPTION:Tim Dallman is a guitarist/vocalist who writes and performs his own rock\, blues\, jazz and folk-infused original material\, as well as a variety of classic and contemporary rock and pop cover songs.
URL:https://elmarovineyard.com/event/music-on-the-stage-by-tim-dallman/
ATTACH;FMTTYPE=image/jpeg:https://elmarovineyard.com/wp-content/uploads/2022/06/Tim-Dallman-2.jpeg
END:VEVENT
BEGIN:VEVENT
DTSTART;TZID=UTC:20220702T140000
DTEND;TZID=UTC:20220702T170000
DTSTAMP:20260422T022614
CREATED:20220608T175658Z
LAST-MODIFIED:20220608T175658Z
UID:2991-1656770400-1656781200@elmarovineyard.com
SUMMARY:Music in the vineyard by Sampson & Son
DESCRIPTION:Don’t let the weekend slip by without hearing the music of this local father/son duo! They’ll be performing 2-5 p.m. on July 2nd.
URL:https://elmarovineyard.com/event/music-in-the-vineyard-by-sampson-son-2/
ATTACH;FMTTYPE=image/jpeg:https://elmarovineyard.com/wp-content/uploads/2022/06/Sampson-duo-2.jpg
END:VEVENT
BEGIN:VEVENT
DTSTART;TZID=UTC:20220701T150000
DTEND;TZID=UTC:20220701T180000
DTSTAMP:20260422T022614
CREATED:20220608T175426Z
LAST-MODIFIED:20220608T175426Z
UID:2988-1656687600-1656698400@elmarovineyard.com
SUMMARY:Music on the patio by Doug Mahlum
DESCRIPTION:Get your weekend started right with relaxing music and a glass of wine! Doug will perform from 3-6 p.m.
URL:https://elmarovineyard.com/event/music-on-the-patio-by-doug-mahlum-2/
ATTACH;FMTTYPE=image/jpeg:https://elmarovineyard.com/wp-content/uploads/2022/06/Doug-Mahlum3.jpg
END:VEVENT
BEGIN:VEVENT
DTSTART;TZID=UTC:20220626T130000
DTEND;TZID=UTC:20220626T160000
DTSTAMP:20260422T022614
CREATED:20220525T153854Z
LAST-MODIFIED:20220525T153854Z
UID:2970-1656248400-1656259200@elmarovineyard.com
SUMMARY:Music in the vineyard by Jeani and the Dreamers
DESCRIPTION:Jeani and the Dreamers will have you dancing in the vineyard while you shop and stroll the vendors in the Street Market!
URL:https://elmarovineyard.com/event/music-in-the-vineyard-by-jeani-and-the-dreamers/
ATTACH;FMTTYPE=image/jpeg:https://elmarovineyard.com/wp-content/uploads/2022/05/Jeaniandthedreamers.jpg
END:VEVENT
BEGIN:VEVENT
DTSTART;TZID=UTC:20220626T120000
DTEND;TZID=UTC:20220626T160000
DTSTAMP:20260422T022614
CREATED:20220525T153251Z
LAST-MODIFIED:20220525T153251Z
UID:2967-1656244800-1656259200@elmarovineyard.com
SUMMARY:Street Market Sunday
DESCRIPTION:Summer is in full swing\, and so is the final Street Market Sunday! Stroll and shop the artists who are showcasing their talents\, nibble on a crepe prepared by Jean Luc\, sip some wine\, and dance to the music of Jeani and the Dreamers.
URL:https://elmarovineyard.com/event/street-market-sunday-5/
ATTACH;FMTTYPE=image/png:https://elmarovineyard.com/wp-content/uploads/2022/05/Rockin-Robyn-Saturday-3-4.png
END:VEVENT
BEGIN:VEVENT
DTSTART;TZID=UTC:20220625T140000
DTEND;TZID=UTC:20220625T170000
DTSTAMP:20260422T022614
CREATED:20220525T152526Z
LAST-MODIFIED:20220525T154351Z
UID:2964-1656165600-1656176400@elmarovineyard.com
SUMMARY:Music on the patio by David Hartman
DESCRIPTION:David plays 6 and 12 string guitar for soft rock\, country\, folk\, and modern music primarily from the 60’s and 70’s. It’s a little something for everyone!
URL:https://elmarovineyard.com/event/music-on-the-patio-by-david-hartman/
ATTACH;FMTTYPE=image/jpeg:https://elmarovineyard.com/wp-content/uploads/2022/05/david-hartman3.jpg
END:VEVENT
BEGIN:VEVENT
DTSTART;TZID=UTC:20220625T100000
DTEND;TZID=UTC:20220625T110000
DTSTAMP:20260422T022614
CREATED:20220525T152138Z
LAST-MODIFIED:20220525T152138Z
UID:2961-1656151200-1656154800@elmarovineyard.com
SUMMARY:Falconry Presentation at Elmaro
DESCRIPTION:What is falconry and how does one become a falconer? Falconry has been practiced for 3000 years and is still practiced today. Learn about its history\, how it can help a vineyard\, and other uses of falconry in Wisconsin. Meet live falcons for a demonstration! $5/person\, call 608-534-6456 for reservations\, children 0-2 years are free.
URL:https://elmarovineyard.com/event/falconry-presentation-at-elmaro/
ATTACH;FMTTYPE=image/jpeg:https://elmarovineyard.com/wp-content/uploads/2022/05/falcons-scaled.jpg
END:VEVENT
BEGIN:VEVENT
DTSTART;TZID=UTC:20220619T130000
DTEND;TZID=UTC:20220619T160000
DTSTAMP:20260422T022614
CREATED:20220525T151812Z
LAST-MODIFIED:20220525T151812Z
UID:2958-1655643600-1655654400@elmarovineyard.com
SUMMARY:Music in the vineyard by Jesse & The Medicine Men
DESCRIPTION:Jesse & The Medicine Men are a new addition to Elmaro! They perform a variety of music that keeps the crowd entertained\, and Great Classic Country Music Done by the Best!
URL:https://elmarovineyard.com/event/music-in-the-vineyard-by-jesse-the-medicine-men/
ATTACH;FMTTYPE=image/jpeg:https://elmarovineyard.com/wp-content/uploads/2022/05/Jesse-and-the-Medicine-Men-1.jpg
END:VEVENT
BEGIN:VEVENT
DTSTART;TZID=UTC:20220619T120000
DTEND;TZID=UTC:20220619T160000
DTSTAMP:20260422T022614
CREATED:20220517T214301Z
LAST-MODIFIED:20220517T214301Z
UID:2937-1655640000-1655654400@elmarovineyard.com
SUMMARY:Street Market Sunday
DESCRIPTION:Sip\, shop\, and stroll a vineyard full of artisan vendors!  Jean Luc will be serving sweet and savory crepes\, and Jesse & The Medicine Men will make their musical debut at Elmaro.
URL:https://elmarovineyard.com/event/street-market-sunday-3/
ATTACH;FMTTYPE=image/png:https://elmarovineyard.com/wp-content/uploads/2022/05/Rockin-Robyn-Saturday-3-2.png
END:VEVENT
BEGIN:VEVENT
DTSTART;TZID=UTC:20220618T140000
DTEND;TZID=UTC:20220618T170000
DTSTAMP:20260422T022614
CREATED:20220525T151332Z
LAST-MODIFIED:20220525T151332Z
UID:2955-1655560800-1655571600@elmarovineyard.com
SUMMARY:Music on the stage by Anderson Road
DESCRIPTION:The vineyard will be alive with the sounds of Anderson Road!
URL:https://elmarovineyard.com/event/music-on-the-stage-by-anderson-road/
ATTACH;FMTTYPE=image/jpeg:https://elmarovineyard.com/wp-content/uploads/2022/05/guitar-3.jpg
END:VEVENT
BEGIN:VEVENT
DTSTART;TZID=UTC:20220618T100000
DTEND;TZID=UTC:20220618T110000
DTSTAMP:20260422T022614
CREATED:20220517T213626Z
LAST-MODIFIED:20220517T213626Z
UID:2934-1655546400-1655550000@elmarovineyard.com
SUMMARY:Charcuterie Board Making Class
DESCRIPTION:Charcuterie boards give you creativity to excite your guests with an assortment of snacks. In this class\, you will finish an 18″ charcuterie board (live edge or flat) and personalize it with a wood burner or bring handles that you would like to attach. You’ll learn the care of your board and the type of food to use for your new event. Call 608-534-6456 for reservations\, $50+tax/person.
URL:https://elmarovineyard.com/event/charcuterie-board-making-class/
ATTACH;FMTTYPE=image/jpeg:https://elmarovineyard.com/wp-content/uploads/2022/05/boards.jpg
END:VEVENT
BEGIN:VEVENT
DTSTART;TZID=UTC:20220612T130000
DTEND;TZID=UTC:20220612T160000
DTSTAMP:20260422T022614
CREATED:20220525T151150Z
LAST-MODIFIED:20220525T151150Z
UID:2952-1655038800-1655049600@elmarovineyard.com
SUMMARY:Music in the vineyard by Crooked Willow
DESCRIPTION:Crooked Willow has been performing since 2013 around the Driftless Region. A mixture of old time music\, Jazz inspired tunes\, Americana covers\, and unique Pop covers combines to make a tasty musical cocktail.
URL:https://elmarovineyard.com/event/music-in-the-vineyard-by-crooked-willow/
ATTACH;FMTTYPE=image/jpeg:https://elmarovineyard.com/wp-content/uploads/2022/05/crooked-willow2.jpg
END:VEVENT
BEGIN:VEVENT
DTSTART;TZID=UTC:20220612T130000
DTEND;TZID=UTC:20220612T160000
DTSTAMP:20260422T022614
CREATED:20220525T150848Z
LAST-MODIFIED:20220525T150848Z
UID:2949-1655038800-1655049600@elmarovineyard.com
SUMMARY:Outdoor Painting Demonstration
DESCRIPTION:Visit with Colleen as she does an outdoor painting demonstration at Elmaro Vineyard\, and shows her talents and techniques.\nJoin her while she paints onsite\, Sunday\, June 12 from 1-4.  She would love to hear about your favorite places.\nDiscover more at cshoreartwork.blogspot.com
URL:https://elmarovineyard.com/event/outdoor-painting-demonstration-2/
ATTACH;FMTTYPE=image/jpeg:https://elmarovineyard.com/wp-content/uploads/2022/05/Trempealeau-Street-Scene-scaled.jpg
END:VEVENT
BEGIN:VEVENT
DTSTART;TZID=UTC:20220612T120000
DTEND;TZID=UTC:20220612T160000
DTSTAMP:20260422T022614
CREATED:20220517T213324Z
LAST-MODIFIED:20220517T213324Z
UID:2931-1655035200-1655049600@elmarovineyard.com
SUMMARY:Street Market Sunday
DESCRIPTION:A delicious day of food\, wine\, music\, and hand-crafted items.  Vendors will line the vineyard\, Jean Luc will be serving sweet and savory crepes\, and Crooked Willow will fill the vineyard with music.
URL:https://elmarovineyard.com/event/street-market-sunday-2/
ATTACH;FMTTYPE=image/png:https://elmarovineyard.com/wp-content/uploads/2022/05/Rockin-Robyn-Saturday-3-1.png
END:VEVENT
BEGIN:VEVENT
DTSTART;TZID=UTC:20220611T140000
DTEND;TZID=UTC:20220611T170000
DTSTAMP:20260422T022614
CREATED:20220517T212832Z
LAST-MODIFIED:20220517T212832Z
UID:2927-1654956000-1654966800@elmarovineyard.com
SUMMARY:Music by James Grant
DESCRIPTION:Local musician\, James Grant\, will fill the vineyard with 60s and 70s covers from 2-5 p.m.
URL:https://elmarovineyard.com/event/music-by-james-grant-8/
ATTACH;FMTTYPE=image/jpeg:https://elmarovineyard.com/wp-content/uploads/2022/05/James-Grant-2.jpg
END:VEVENT
BEGIN:VEVENT
DTSTART;TZID=UTC:20220611T123000
DTEND;TZID=UTC:20220611T170000
DTSTAMP:20260422T022614
CREATED:20220517T212442Z
LAST-MODIFIED:20220517T212442Z
UID:2924-1654950600-1654966800@elmarovineyard.com
SUMMARY:Woodshed Pizza Truck
DESCRIPTION:Mmmmm…..pizza! Pizza pairs perfectly with wine\, and Woodshed Pizza has authentic wood-fired pizza. They will be serving from 12:30-5:00\, and cash only.
URL:https://elmarovineyard.com/event/woodshed-pizza-truck/
ATTACH;FMTTYPE=image/jpeg:https://elmarovineyard.com/wp-content/uploads/2022/05/woodshed-at-elmaro.jpg
END:VEVENT
BEGIN:VEVENT
DTSTART;TZID=UTC:20220608T183000
DTEND;TZID=UTC:20220608T193000
DTSTAMP:20260422T022614
CREATED:20220428T200958Z
LAST-MODIFIED:20220512T183608Z
UID:2844-1654713000-1654716600@elmarovineyard.com
SUMMARY:Vertical Tastings of 1888 and Chambourcin
DESCRIPTION:For the second time this year\, Elmaro is opening the wine library! This is a rare event at Elmaro\, as Elmaro’s winemakers will lead the guests through a tasting of 4 vintages of 1888\, and 3 vintages of Chambourcin\, from oldest to youngest vintage. The winemakers will educate guests on the differences in each vintage. $25 plus tax/person\, call 608-534-6456 for reservations.
URL:https://elmarovineyard.com/event/vertical-tastings-of-1888-and-chambourcin/
ATTACH;FMTTYPE=image/jpeg:https://elmarovineyard.com/wp-content/uploads/2022/04/cham-1888-vertical.jpg
END:VEVENT
BEGIN:VEVENT
DTSTART;TZID=UTC:20220605T130000
DTEND;TZID=UTC:20220605T160000
DTSTAMP:20260422T022614
CREATED:20220517T205541Z
LAST-MODIFIED:20220517T205541Z
UID:2906-1654434000-1654444800@elmarovineyard.com
SUMMARY:Music by Patina
DESCRIPTION:The sounds of traditional and original Celtic tunes and songs will fill the vineyard from 1-4 p.m.\, all during the Street Market Sunday. Tap your foot and dance to good old Irish traditional tunes while relaxing with a crepe prepared by Jean Luc\, as well as a glass of Elmaro wine.
URL:https://elmarovineyard.com/event/music-by-patina-2/
ATTACH;FMTTYPE=image/jpeg:https://elmarovineyard.com/wp-content/uploads/2022/05/Patina-at-Elmaro.jpg
END:VEVENT
BEGIN:VEVENT
DTSTART;TZID=UTC:20220605T120000
DTEND;TZID=UTC:20220605T160000
DTSTAMP:20260422T022614
CREATED:20220517T205832Z
LAST-MODIFIED:20220525T150327Z
UID:2909-1654430400-1654444800@elmarovineyard.com
SUMMARY:Crepes by Jean Luc
DESCRIPTION:The aroma of sweet and savory crepes will fill the air and transport you to the streets of Paris. Jean Luc may even break out in song and dance!  Jean Luc will be at every Street Market Sunday in June!
URL:https://elmarovineyard.com/event/crepes-by-jean-luc-2/2022-06-05/
ATTACH;FMTTYPE=image/jpeg:https://elmarovineyard.com/wp-content/uploads/2022/05/Jeanluc.jpg
END:VEVENT
BEGIN:VEVENT
DTSTART;TZID=UTC:20220605T120000
DTEND;TZID=UTC:20220605T160000
DTSTAMP:20260422T022614
CREATED:20220517T205310Z
LAST-MODIFIED:20220517T205310Z
UID:2903-1654430400-1654444800@elmarovineyard.com
SUMMARY:Street Market Sunday
DESCRIPTION:Stroll the vines and shop the amazing vendors and their stunning hand-crafted items. Vendors will be selling from 12-4 p.m.\, Jean Luc will be selling crepes\, and enjoy the music of Patina. It’s a Sunday to remember!
URL:https://elmarovineyard.com/event/street-market-sunday/
ATTACH;FMTTYPE=image/png:https://elmarovineyard.com/wp-content/uploads/2022/05/Rockin-Robyn-Saturday-3.png
END:VEVENT
BEGIN:VEVENT
DTSTART;TZID=UTC:20220604T140000
DTEND;TZID=UTC:20220604T170000
DTSTAMP:20260422T022614
CREATED:20220517T212039Z
LAST-MODIFIED:20220517T212039Z
UID:2921-1654351200-1654362000@elmarovineyard.com
SUMMARY:Music by Sampson & Son
DESCRIPTION:The father/son duo of Rick and Aric will have you singing along with their music!
URL:https://elmarovineyard.com/event/music-by-sampson-son-7/
ATTACH;FMTTYPE=image/jpeg:https://elmarovineyard.com/wp-content/uploads/2022/05/Sampson-duo-2.jpg
END:VEVENT
END:VCALENDAR