BEGIN:VCALENDAR
VERSION:2.0
PRODID:-//Elmaro Vineyard - ECPv6.15.20//NONSGML v1.0//EN
CALSCALE:GREGORIAN
METHOD:PUBLISH
X-WR-CALNAME:Elmaro Vineyard
X-ORIGINAL-URL:https://elmarovineyard.com
X-WR-CALDESC:Events for Elmaro Vineyard
REFRESH-INTERVAL;VALUE=DURATION:PT1H
X-Robots-Tag:noindex
X-PUBLISHED-TTL:PT1H
BEGIN:VTIMEZONE
TZID:UTC
BEGIN:STANDARD
TZOFFSETFROM:+0000
TZOFFSETTO:+0000
TZNAME:UTC
DTSTART:20210101T000000
END:STANDARD
END:VTIMEZONE
BEGIN:VEVENT
DTSTART;TZID=UTC:20220814T120000
DTEND;TZID=UTC:20220814T170000
DTSTAMP:20260421T233040
CREATED:20220711T190337Z
LAST-MODIFIED:20220711T190337Z
UID:3099-1660478400-1660496400@elmarovineyard.com
SUMMARY:Canines in the Vines Portraits
DESCRIPTION:Dog portraits in the vines by Sage River Studios! Thirty minute sessions\, $20/1 dog\, $35/2 dogs. Sign the waiver\, and your dog will be in the Elmaro Canine in the Vines 2023 Calendar! Call Elmaro at 608-534-6456 to make your photo shoot reservation.
URL:https://elmarovineyard.com/event/canines-in-the-vines-portraits-2/
ATTACH;FMTTYPE=image/jpeg:https://elmarovineyard.com/wp-content/uploads/2022/07/rogi-and-basket.jpg
END:VEVENT
BEGIN:VEVENT
DTSTART;TZID=UTC:20220813T140000
DTEND;TZID=UTC:20220813T170000
DTSTAMP:20260421T233040
CREATED:20220711T171041Z
LAST-MODIFIED:20220711T171041Z
UID:3078-1660399200-1660410000@elmarovineyard.com
SUMMARY:Music on the patio by James Grant
DESCRIPTION:Aahhh….James will be performing his amazing 70s covers on a beautiful Saturday afternoon.
URL:https://elmarovineyard.com/event/music-on-the-patio-by-james-grant/
ATTACH;FMTTYPE=image/jpeg:https://elmarovineyard.com/wp-content/uploads/2022/05/James-Grant-2.jpg
END:VEVENT
BEGIN:VEVENT
DTSTART;TZID=UTC:20220813T123000
DTEND;TZID=UTC:20220813T170000
DTSTAMP:20260421T233040
CREATED:20220711T170636Z
LAST-MODIFIED:20220711T170636Z
UID:3075-1660393800-1660410000@elmarovineyard.com
SUMMARY:Trempealeau Lions Food Stand
DESCRIPTION:The Trempealeau Lions will be at Elmaro\, serving all kinds of yummy treats\, from cheese curds and burgers to a few surprises!
URL:https://elmarovineyard.com/event/trempealeau-lions-food-stand/
ATTACH;FMTTYPE=image/jpeg:https://elmarovineyard.com/wp-content/uploads/2022/07/lions.jpg
END:VEVENT
BEGIN:VEVENT
DTSTART;TZID=UTC:20220813T100000
DTEND;TZID=UTC:20220813T110000
DTSTAMP:20260421T233040
CREATED:20220711T165823Z
LAST-MODIFIED:20220727T153923Z
UID:3066-1660384800-1660388400@elmarovineyard.com
SUMMARY:Vinyasa Yoga & Brunch
DESCRIPTION:Join Laura (co-owner and winemaker) for a relaxing hour of yoga followed by a continental brunch and a mimosa. $23/person\, and reservations can be made by calling 608-534-6456.
URL:https://elmarovineyard.com/event/vinyasa-yoga-brunch-4/
ATTACH;FMTTYPE=image/jpeg:https://elmarovineyard.com/wp-content/uploads/2022/07/Yomosas_1.jpg
END:VEVENT
BEGIN:VEVENT
DTSTART;TZID=UTC:20220812T193000
DTEND;TZID=UTC:20220812T223000
DTSTAMP:20260421T233040
CREATED:20220711T192227Z
LAST-MODIFIED:20220711T192318Z
UID:3109-1660332600-1660343400@elmarovineyard.com
SUMMARY:Outdoor Movie\, "Encanto"
DESCRIPTION:Reservations Required – Outdoor movies are back! On Friday\, August 12th\, Elmaro is featuring “Encanto”!\nWe are selling tables (2 person\, 4 person\, and 5 person tables) as well as up to 6 person BYO-Blanket spots. Call 608-534-6456 for reservations!\n2 person tables for $10\, 4 and 5 person tables for $20\, and picnic blanket sites for $15 (limited availability of each).\nSeating will start at 7:00 pm\, with the movie starting shortly after sunset (8:20ish). Food & Wine served until the movie start time.\nCall 608-534-6456 for reservations.
URL:https://elmarovineyard.com/event/outdoor-movie-encanto/
ATTACH;FMTTYPE=image/png:https://elmarovineyard.com/wp-content/uploads/2022/07/Movie-Night-2021-1920-x-1005px-1.png
END:VEVENT
BEGIN:VEVENT
DTSTART;TZID=UTC:20220807T133000
DTEND;TZID=UTC:20220807T153000
DTSTAMP:20260421T233040
CREATED:20220711T170247Z
LAST-MODIFIED:20220711T170247Z
UID:3072-1659879000-1659886200@elmarovineyard.com
SUMMARY:Music in the vineyard by Too Darn Hot
DESCRIPTION:Dixieland Jazz is the theme for this Sunday!
URL:https://elmarovineyard.com/event/music-in-the-vineyard-by-too-darn-hot-2/
ATTACH;FMTTYPE=image/jpeg:https://elmarovineyard.com/wp-content/uploads/2022/07/Too-Darn-Hot-Band.jpg
END:VEVENT
BEGIN:VEVENT
DTSTART;TZID=UTC:20220806T140000
DTEND;TZID=UTC:20220806T170000
DTSTAMP:20260421T233040
CREATED:20220711T170048Z
LAST-MODIFIED:20220711T170048Z
UID:3069-1659794400-1659805200@elmarovineyard.com
SUMMARY:Music on the stage by Sampson & Son
DESCRIPTION:The tunes and smiles of this local father/son duo will fill your Saturday with fun!
URL:https://elmarovineyard.com/event/music-on-the-stage-by-sampson-son/
ATTACH;FMTTYPE=image/jpeg:https://elmarovineyard.com/wp-content/uploads/2022/07/Sampson-duo-2.jpg
END:VEVENT
BEGIN:VEVENT
DTSTART;TZID=UTC:20220805T193000
DTEND;TZID=UTC:20220805T223000
DTSTAMP:20260421T233040
CREATED:20220711T171456Z
LAST-MODIFIED:20220711T171456Z
UID:3081-1659727800-1659738600@elmarovineyard.com
SUMMARY:Outdoor Movie\, "Back to the Future"
DESCRIPTION:Reservations Required – Outdoor movies are back! On Friday\, August 5th\, Elmaro is featuring “Back to the Future”!\nWe are selling tables (2 person\, 4 person\, and 5 person tables) as well as up to 6 person BYO-Blanket spots. Call 608-534-6456 for reservations!\n2 person tables for $10\, 4 and 5 person tables for $20\, and picnic blanket sites for $15 (limited availability of each).\nSeating will start at 7:30 pm\, with the movie starting shortly after sunset (8:40ish). Food & Wine served until the movie start time.\nCall 608-534-6456 for reservations.
URL:https://elmarovineyard.com/event/outdoor-movie-back-to-the-future/
ATTACH;FMTTYPE=image/png:https://elmarovineyard.com/wp-content/uploads/2022/07/Movie-Night-2021-1920-x-1005px.png
END:VEVENT
BEGIN:VEVENT
DTSTART;TZID=UTC:20220731T130000
DTEND;TZID=UTC:20220731T160000
DTSTAMP:20260421T233040
CREATED:20220608T182210Z
LAST-MODIFIED:20220608T182210Z
UID:3000-1659272400-1659283200@elmarovineyard.com
SUMMARY:Music in the vineyard by The Coulee Region Steel Drum Band
DESCRIPTION:The Coulee Region Steel Drum Band is the region’s premiere group for relaxing steel drum music!
URL:https://elmarovineyard.com/event/music-in-the-vineyard-by-the-coulee-region-steel-drum-band/
ATTACH;FMTTYPE=image/jpeg:https://elmarovineyard.com/wp-content/uploads/2022/06/coulee-rsdb.jpg
END:VEVENT
BEGIN:VEVENT
DTSTART;TZID=UTC:20220731T120000
DTEND;TZID=UTC:20220731T170000
DTSTAMP:20260421T233040
CREATED:20220630T203655Z
LAST-MODIFIED:20220713T182418Z
UID:3052-1659268800-1659286800@elmarovineyard.com
SUMMARY:SOLD OUT-Canines in the Vines Portraits
DESCRIPTION:Dog portraits in the vines by Sage River Studios! Thirty minute sessions\, $20/1 dog\, $35/2 dogs. Sign the waiver\, and your dog will be in the Elmaro Canine in the Vines 2023 Calendar! Call Elmaro at 608-534-6456 to make your photo shoot reservation
URL:https://elmarovineyard.com/event/canines-in-the-vines-portraits/
ATTACH;FMTTYPE=image/jpeg:https://elmarovineyard.com/wp-content/uploads/2022/06/rogi-and-basket.jpg
END:VEVENT
BEGIN:VEVENT
DTSTART;TZID=UTC:20220731T120000
DTEND;TZID=UTC:20220731T170000
DTSTAMP:20260421T233040
CREATED:20220628T222422Z
LAST-MODIFIED:20220628T222422Z
UID:3049-1659268800-1659286800@elmarovineyard.com
SUMMARY:Sangria Sunday!
DESCRIPTION:Sip on sangria while relaxing to the sounds of the Coulee Region Steel Drum Band.
URL:https://elmarovineyard.com/event/sangria-sunday/
ATTACH;FMTTYPE=image/jpeg:https://elmarovineyard.com/wp-content/uploads/2022/06/homestead-red-sangria.jpg
END:VEVENT
BEGIN:VEVENT
DTSTART;TZID=UTC:20220731T120000
DTEND;TZID=UTC:20220731T163000
DTSTAMP:20260421T233040
CREATED:20220630T203849Z
LAST-MODIFIED:20220630T203849Z
UID:3055-1659268800-1659285000@elmarovineyard.com
SUMMARY:Dog Hike in the Vineyard
DESCRIPTION:Take your dog on a self-guided hike through the vineyard\, with dog treat stops along the way! No registration or fee\, maps and info will be available in the tasting room upon arrival.
URL:https://elmarovineyard.com/event/dog-hike-in-the-vineyard/
ATTACH;FMTTYPE=image/jpeg:https://elmarovineyard.com/wp-content/uploads/2022/06/E0E4970E-0177-4052-9A91-DB25E76E47B4.jpg
END:VEVENT
BEGIN:VEVENT
DTSTART;TZID=UTC:20220730T133000
DTEND;TZID=UTC:20220730T163000
DTSTAMP:20260421T233040
CREATED:20220608T182858Z
LAST-MODIFIED:20220727T190054Z
UID:3009-1659187800-1659198600@elmarovineyard.com
SUMMARY:Music on the stage by James Grant
DESCRIPTION:James Grant and his 60s and 70s covers are a perfect pairing with wine!
URL:https://elmarovineyard.com/event/music-on-the-stage-by-jeani-and-the-dreamers/
ATTACH;FMTTYPE=image/jpeg:https://elmarovineyard.com/wp-content/uploads/2022/06/James-Grant.jpg
END:VEVENT
BEGIN:VEVENT
DTSTART;TZID=UTC:20220730T123000
DTEND;TZID=UTC:20220730T170000
DTSTAMP:20260421T233040
CREATED:20220609T162936Z
LAST-MODIFIED:20220609T162936Z
UID:3036-1659184200-1659200400@elmarovineyard.com
SUMMARY:Sweet Lou Barbecue Food Truck
DESCRIPTION:Aahhh….Sweet Lou Barbecue is back at Elmaro!  Brisket\, pork\, or perhaps some mac and cheese?!  And Elmaro has the perfect wine for all of it.
URL:https://elmarovineyard.com/event/sweet-lou-barbecue-food-truck-2/
ATTACH;FMTTYPE=image/png:https://elmarovineyard.com/wp-content/uploads/2022/06/sweet-lous-1.png
END:VEVENT
BEGIN:VEVENT
DTSTART;TZID=UTC:20220729T153000
DTEND;TZID=UTC:20220729T183000
DTSTAMP:20260421T233040
CREATED:20220609T162057Z
LAST-MODIFIED:20220609T162057Z
UID:3033-1659108600-1659119400@elmarovineyard.com
SUMMARY:Music in the vineyard by Right Side Up
DESCRIPTION:Right Side Up is an acoustic duo based in Winona\, Minnesota. From folk to rock\, Ward and Terry provide the rhythm to get your foot a tapping and your heart a beatin’.
URL:https://elmarovineyard.com/event/music-in-the-vineyard-by-right-side-up/
ATTACH;FMTTYPE=image/jpeg:https://elmarovineyard.com/wp-content/uploads/2022/06/Right-Side-Up-2.jpg
END:VEVENT
BEGIN:VEVENT
DTSTART;TZID=UTC:20220724T123000
DTEND;TZID=UTC:20220724T160000
DTSTAMP:20260421T233040
CREATED:20220609T161809Z
LAST-MODIFIED:20220609T161809Z
UID:3030-1658665800-1658678400@elmarovineyard.com
SUMMARY:Bistro Day with Under Paris Skies and Crepes!
DESCRIPTION:Your dose of food\, wine\, and music awaits! Jean Luc will prepare his crepes\, and Under Paris Skies will seranade you with the sounds of a French sidewalk bistro\, and of course\, Elmaro has the wine.
URL:https://elmarovineyard.com/event/bistro-day-with-under-paris-skies-and-crepes/
ATTACH;FMTTYPE=image/png:https://elmarovineyard.com/wp-content/uploads/2022/06/Bistro-Day.png
END:VEVENT
BEGIN:VEVENT
DTSTART;TZID=UTC:20220723T140000
DTEND;TZID=UTC:20220723T170000
DTSTAMP:20260421T233040
CREATED:20220609T151942Z
LAST-MODIFIED:20220609T151942Z
UID:3027-1658584800-1658595600@elmarovineyard.com
SUMMARY:Music on the stage by Bradford Loomis
DESCRIPTION:Bradford marries grit and melody to dig to the roots of American folklore and speak of the raw reality of the human condition with soul\, passion\, and hope.
URL:https://elmarovineyard.com/event/music-on-the-stage-by-bradford-loomis/
ATTACH;FMTTYPE=image/jpeg:https://elmarovineyard.com/wp-content/uploads/2022/06/bradford-loomis2.jpg
END:VEVENT
BEGIN:VEVENT
DTSTART;TZID=UTC:20220723T100000
DTEND;TZID=UTC:20220723T110000
DTSTAMP:20260421T233040
CREATED:20220608T183909Z
LAST-MODIFIED:20220608T183909Z
UID:3024-1658570400-1658574000@elmarovineyard.com
SUMMARY:Vinyasa Yoga & Brunch
DESCRIPTION:Join Laura (co-owner and winemaker) for a relaxing hour of yoga followed by a continental brunch and a mimosa. $23/person\, and reservations can be made by calling 608-534-6456.
URL:https://elmarovineyard.com/event/vinyasa-yoga-brunch-3/
ATTACH;FMTTYPE=image/jpeg:https://elmarovineyard.com/wp-content/uploads/2022/06/Yomosas_1-Resized-FULL.jpg
END:VEVENT
BEGIN:VEVENT
DTSTART;TZID=UTC:20220723T083000
DTEND;TZID=UTC:20220723T093000
DTSTAMP:20260421T233040
CREATED:20220608T183712Z
LAST-MODIFIED:20220608T183712Z
UID:3021-1658565000-1658568600@elmarovineyard.com
SUMMARY:Adaptive Yoga & Brunch
DESCRIPTION:Join Laura (co-owner and winemaker) for a relaxing hour of adaptive yoga practice for anyone with a modified range of motion\, and participants will always have a chair option for sitting or as a standing prop. Continental brunch and a mimosa will follow\, $23/person\, and reservations can be made by calling 608-534-6456
URL:https://elmarovineyard.com/event/adaptive-yoga-brunch-3/
ATTACH;FMTTYPE=image/png:https://elmarovineyard.com/wp-content/uploads/2022/06/Adaptive-yoga-brunch-fb-post.png
END:VEVENT
BEGIN:VEVENT
DTSTART;TZID=UTC:20220722T180000
DTEND;TZID=UTC:20220722T200000
DTSTAMP:20260421T233040
CREATED:20220628T222228Z
LAST-MODIFIED:20220706T145849Z
UID:3046-1658512800-1658520000@elmarovineyard.com
SUMMARY:Sold Out-Outdoor Sip & Paint
DESCRIPTION:Relax on Friday\, July 22nd with a summer\, outdoor Sip and Paint at Elmaro! Lori Ehlke will lead the class in this “Summer Fireflies” painting\, all supplies are provided\, and one glass of wine is included. $35+tax/person\, call 608-534-6456 for required reservations.
URL:https://elmarovineyard.com/event/outdoor-sip-paint/
ATTACH;FMTTYPE=image/jpeg:https://elmarovineyard.com/wp-content/uploads/2022/06/July-2022.jpeg
END:VEVENT
BEGIN:VEVENT
DTSTART;TZID=UTC:20220717T130000
DTEND;TZID=UTC:20220717T160000
DTSTAMP:20260421T233040
CREATED:20220630T205312Z
LAST-MODIFIED:20220630T205312Z
UID:3058-1658062800-1658073600@elmarovineyard.com
SUMMARY:Meet the July Artist\, Ruth Lundblad
DESCRIPTION:After a drawing class and watercolor class in the late 90’s\, Ruth was hooked on art! Ruth loves to experiment with watercolor and many other art media. Meet Ruth and ask her questions about her art from 1-4 p.m. today
URL:https://elmarovineyard.com/event/meet-the-july-artist-ruth-lundblad/
ATTACH;FMTTYPE=image/jpeg:https://elmarovineyard.com/wp-content/uploads/2022/06/IMG_0190.jpg
END:VEVENT
BEGIN:VEVENT
DTSTART;TZID=UTC:20220717T130000
DTEND;TZID=UTC:20220717T160000
DTSTAMP:20260421T233040
CREATED:20220608T183441Z
LAST-MODIFIED:20220608T183441Z
UID:3018-1658062800-1658073600@elmarovineyard.com
SUMMARY:Music on the stage by Patina
DESCRIPTION:Patina is a violin\, whistle\, flute\, bass\, bodhrán\, accordion\, and guitar band that plays mixed Celtic\, folk and original music.\nKara Mae is an award winning fiddler who plays the violin & sings\, Connie plays the double bass\, flute\, Celtic whistles & sings\, Sue Lee plays the guitar & sings and Greg plays the bodhrán\, Irish flute\, accordion and Celtic whistles to round out the band
URL:https://elmarovineyard.com/event/music-on-the-stage-by-patina/
ATTACH;FMTTYPE=image/jpeg:https://elmarovineyard.com/wp-content/uploads/2022/06/Patina2.jpg
END:VEVENT
BEGIN:VEVENT
DTSTART;TZID=UTC:20220716T140000
DTEND;TZID=UTC:20220716T170000
DTSTAMP:20260421T233040
CREATED:20220608T183305Z
LAST-MODIFIED:20220608T183305Z
UID:3015-1657980000-1657990800@elmarovineyard.com
SUMMARY:Music in the vineyard by The Flyin' A's
DESCRIPTION:The Flyin’ A’s are a Texas songwriting duo that perform Americana with a Texas Kick! From honky tonk to “Texified” Jazz.
URL:https://elmarovineyard.com/event/music-in-the-vineyard-by-the-flyin-as/
ATTACH;FMTTYPE=image/jpeg:https://elmarovineyard.com/wp-content/uploads/2022/06/flyin-a.jpg
END:VEVENT
BEGIN:VEVENT
DTSTART;TZID=UTC:20220710T133000
DTEND;TZID=UTC:20220710T153000
DTSTAMP:20260421T233040
CREATED:20220608T183112Z
LAST-MODIFIED:20220608T183112Z
UID:3012-1657459800-1657467000@elmarovineyard.com
SUMMARY:Music on the stage by Too Darn Hot
DESCRIPTION:It’s never too hot for the sounds of Dixieland Jazz!! Don’t miss Too Darn Hot\, 1-3 p.m.
URL:https://elmarovineyard.com/event/music-on-the-stage-by-too-darn-hot/
ATTACH;FMTTYPE=image/jpeg:https://elmarovineyard.com/wp-content/uploads/2022/06/Too-Darn-Hot-Band.jpg
END:VEVENT
BEGIN:VEVENT
DTSTART;TZID=UTC:20220709T140000
DTEND;TZID=UTC:20220709T170000
DTSTAMP:20260421T233040
CREATED:20220608T182623Z
LAST-MODIFIED:20220608T182623Z
UID:3006-1657375200-1657386000@elmarovineyard.com
SUMMARY:Music on the stage by Ryan Howe
DESCRIPTION:Ryan is a pianist/singer/songwriter from the La Crosse area. He has a huge array of covers including but not limited to Elton John\, Jackson Browne\, James Taylor\, Stevie Wonder\, John Mayer\, Doobie Brothers\, Bruce Hornsby\, and much more! Ryan also performs some of his original tunes.
URL:https://elmarovineyard.com/event/music-on-the-stage-by-ryan-howe-2/
ATTACH;FMTTYPE=image/jpeg:https://elmarovineyard.com/wp-content/uploads/2022/06/ryan-howe.jpg
END:VEVENT
BEGIN:VEVENT
DTSTART;TZID=UTC:20220709T123000
DTEND;TZID=UTC:20220709T170000
DTSTAMP:20260421T233040
CREATED:20220608T182428Z
LAST-MODIFIED:20220608T182428Z
UID:3003-1657369800-1657386000@elmarovineyard.com
SUMMARY:Sweet Lou Barbecue Food Truck
DESCRIPTION:“We are Sweet Lou Barbeque\, a family owned barbeque food truck serving the Onalaska\, WI area and beyond. Our specialty is great barbeque served how we would want our own family to enjoy it. Our customers and their families are at the heart of all the decisions we make.”\n\n\n— Owner Andy
URL:https://elmarovineyard.com/event/sweet-lou-barbecue-food-truck/
ATTACH;FMTTYPE=image/png:https://elmarovineyard.com/wp-content/uploads/2022/06/sweet-lous.png
END:VEVENT
BEGIN:VEVENT
DTSTART;TZID=UTC:20220708T150000
DTEND;TZID=UTC:20220708T180000
DTSTAMP:20260421T233040
CREATED:20220628T211323Z
LAST-MODIFIED:20220628T211323Z
UID:3043-1657292400-1657303200@elmarovineyard.com
SUMMARY:Crepes by Jean Luc
DESCRIPTION:Start your weekend with Crepes prepared by Jean Luc\, all while taking in the sounds of Under Paris Skies.
URL:https://elmarovineyard.com/event/crepes-by-jean-luc-3/
ATTACH;FMTTYPE=image/jpeg:https://elmarovineyard.com/wp-content/uploads/2022/06/Jeanluc.jpg
END:VEVENT
BEGIN:VEVENT
DTSTART;TZID=UTC:20220708T150000
DTEND;TZID=UTC:20220708T180000
DTSTAMP:20260421T233040
CREATED:20220608T182023Z
LAST-MODIFIED:20220608T182023Z
UID:2997-1657292400-1657303200@elmarovineyard.com
SUMMARY:Music in the vineyard by Under Paris Skies
DESCRIPTION:The acoustic trio\, “Under Paris Skies”\, celebrates the music of French sidewalk cafes\, vintage jazz clubs\, Argentine dance halls\, and Latin rhythms.  together\, Ron Reimer\, Steven Meger\, and Larry Dalton forge a unique musical blend of wall-of-sound accordion\, swinging guitar\, and rocking bass.  Sophisticated arrangements and sentimental melodies carry you to faraway and familiar places.
URL:https://elmarovineyard.com/event/music-in-the-vineyard-by-under-paris-skies/
ATTACH;FMTTYPE=image/jpeg:https://elmarovineyard.com/wp-content/uploads/2022/06/under-paris-skies-2.jpg
END:VEVENT
BEGIN:VEVENT
DTSTART;TZID=UTC:20220704T120000
DTEND;TZID=UTC:20220704T180000
DTSTAMP:20260421T233040
CREATED:20220628T210016Z
LAST-MODIFIED:20220628T210016Z
UID:3040-1656936000-1656957600@elmarovineyard.com
SUMMARY:Closed July 4th
DESCRIPTION:Elmaro is closed Monday\, July 4th to celebrate Independence Day.
URL:https://elmarovineyard.com/event/closed-july-4th/
ATTACH;FMTTYPE=image/jpeg:https://elmarovineyard.com/wp-content/uploads/2022/06/closed-july4.jpg
END:VEVENT
BEGIN:VEVENT
DTSTART;TZID=UTC:20220703T130000
DTEND;TZID=UTC:20220703T160000
DTSTAMP:20260421T233040
CREATED:20220608T181655Z
LAST-MODIFIED:20220608T181655Z
UID:2994-1656853200-1656864000@elmarovineyard.com
SUMMARY:Music on the stage by Tim Dallman
DESCRIPTION:Tim Dallman is a guitarist/vocalist who writes and performs his own rock\, blues\, jazz and folk-infused original material\, as well as a variety of classic and contemporary rock and pop cover songs.
URL:https://elmarovineyard.com/event/music-on-the-stage-by-tim-dallman/
ATTACH;FMTTYPE=image/jpeg:https://elmarovineyard.com/wp-content/uploads/2022/06/Tim-Dallman-2.jpeg
END:VEVENT
END:VCALENDAR