BEGIN:VCALENDAR
VERSION:2.0
PRODID:-//Elmaro Vineyard - ECPv6.15.20//NONSGML v1.0//EN
CALSCALE:GREGORIAN
METHOD:PUBLISH
X-WR-CALNAME:Elmaro Vineyard
X-ORIGINAL-URL:https://elmarovineyard.com
X-WR-CALDESC:Events for Elmaro Vineyard
REFRESH-INTERVAL;VALUE=DURATION:PT1H
X-Robots-Tag:noindex
X-PUBLISHED-TTL:PT1H
BEGIN:VTIMEZONE
TZID:UTC
BEGIN:STANDARD
TZOFFSETFROM:+0000
TZOFFSETTO:+0000
TZNAME:UTC
DTSTART:20250101T000000
END:STANDARD
END:VTIMEZONE
BEGIN:VEVENT
DTSTART;TZID=UTC:20260327T180000
DTEND;TZID=UTC:20260327T193000
DTSTAMP:20260423T102446
CREATED:20260226T210719Z
LAST-MODIFIED:20260226T210719Z
UID:7159-1774634400-1774639800@elmarovineyard.com
SUMMARY:Trivia Night
DESCRIPTION:You and your team of up to 6 people can vie for bragging rights of trivial knowledge\, all at Trivia Night at Elmaro\, March 27th 6:00 p.m. Prizes for 1st\, 2nd\, and 3rd place teams. No fee to play\, but register your team of up to 6 people at http://www.exploretock.com/elmarovineyard
URL:https://elmarovineyard.com/event/trivia-night-13/
ATTACH;FMTTYPE=image/jpeg:https://elmarovineyard.com/wp-content/uploads/2026/02/trivia-night-24.jpg
END:VEVENT
BEGIN:VEVENT
DTSTART;TZID=UTC:20260326T110000
DTEND;TZID=UTC:20260326T120000
DTSTAMP:20260423T102446
CREATED:20260204T170728Z
LAST-MODIFIED:20260317T181947Z
UID:7013-1774522800-1774526400@elmarovineyard.com
SUMMARY:Adaptive Yoga
DESCRIPTION:At 11:00 a.m.\, Join Laura (co-owner and winemaker) for a one-hour yoga practice for anyone with a modified range of motion. Chairs are available for sitting or standing prop\, no former yoga training is required\, and please bring your own mat and water bottle\, $2 per person. (We welcome drop-ins!)
URL:https://elmarovineyard.com/event/adaptive-yoga-28/2026-03-26/
ATTACH;FMTTYPE=image/jpeg:https://elmarovineyard.com/wp-content/uploads/2025/10/adaptive1-scaled.jpg
END:VEVENT
BEGIN:VEVENT
DTSTART;TZID=UTC:20260322T130000
DTEND;TZID=UTC:20260322T160000
DTSTAMP:20260423T102446
CREATED:20260215T200234Z
LAST-MODIFIED:20260215T200234Z
UID:7028-1774184400-1774195200@elmarovineyard.com
SUMMARY:Music by River Run
DESCRIPTION:Jeff and Terry are River Run\, and they play familiar\, feel good tunes with tight harmonies.
URL:https://elmarovineyard.com/event/music-by-river-run-5/
ATTACH;FMTTYPE=image/jpeg:https://elmarovineyard.com/wp-content/uploads/2026/01/River-Run-scaled.jpg
END:VEVENT
BEGIN:VEVENT
DTSTART;TZID=UTC:20260321T140000
DTEND;TZID=UTC:20260321T170000
DTSTAMP:20260423T102446
CREATED:20260215T200123Z
LAST-MODIFIED:20260215T200123Z
UID:7025-1774101600-1774112400@elmarovineyard.com
SUMMARY:Music by Greg Gall and His Sisters From Another Mother
DESCRIPTION:Greg Gall and My Sisters From Another Mother. Acoustic Folk/Rock from the seventies and beyond.
URL:https://elmarovineyard.com/event/music-by-greg-gall-and-his-sisters-from-another-mother-6/
ATTACH;FMTTYPE=image/jpeg:https://elmarovineyard.com/wp-content/uploads/2026/02/Greg-Gall-scaled.jpg
END:VEVENT
BEGIN:VEVENT
DTSTART;TZID=UTC:20260321T120000
DTEND;TZID=UTC:20260321T180000
DTSTAMP:20260423T102446
CREATED:20260226T205752Z
LAST-MODIFIED:20260226T205752Z
UID:7153-1774094400-1774116000@elmarovineyard.com
SUMMARY:National French Bread Day
DESCRIPTION:Bread and Wine go together even better than peas and carrots.  That’s why we celebrate National French Bread Day\, and you can enjoy a bread and oil and two glasses of wine for $13.
URL:https://elmarovineyard.com/event/national-french-bread-day/
ATTACH;FMTTYPE=image/jpeg:https://elmarovineyard.com/wp-content/uploads/2026/02/Bread-Oil-and-two-glasses-of-wine-14-1920-x-1080-px.jpg
END:VEVENT
BEGIN:VEVENT
DTSTART;TZID=UTC:20260321T120000
DTEND;TZID=UTC:20260321T170000
DTSTAMP:20260423T102446
CREATED:20260320T145918Z
LAST-MODIFIED:20260320T145918Z
UID:7215-1774094400-1774112400@elmarovineyard.com
SUMMARY:Woodshed Pizza
DESCRIPTION:It’s only March\, but Woodshed Pizza is at Elmaro!
URL:https://elmarovineyard.com/event/woodshed-pizza-11/
ATTACH;FMTTYPE=image/jpeg:https://elmarovineyard.com/wp-content/uploads/2026/03/Woodshed-pizza-23-scaled.jpg
END:VEVENT
BEGIN:VEVENT
DTSTART;TZID=UTC:20260320T123000
DTEND;TZID=UTC:20260320T180000
DTSTAMP:20260423T102446
CREATED:20260226T231600Z
LAST-MODIFIED:20260226T231600Z
UID:7165-1774009800-1774029600@elmarovineyard.com
SUMMARY:Puzzle Day
DESCRIPTION:Are you puzzled? Do you want piece of mind? Then you need Elmaro’s Puzzle Day!\nRegister your team of up to 6 guests ($20/team of 6 people)\, and come to Elmaro and assemble our pre-selected 300 piece puzzle. Elmaro supplies the puzzle\, and the team keeps the puzzle after assembly. Teams are timed by Elmaro staff on the puzzle assembly\, and the fastest two teams win Elmaro gift cards.\nFor the winning prizes\, $5 from each team registration goes to the payout in a 60/40 split for 1st and 2nd place\, so the more teams\, the bigger the Elmaro gift cards. Winners will be notified at the end of the day. \nRegistration at http://www.exploretock.com/elmarovineyard
URL:https://elmarovineyard.com/event/puzzle-day-6/
ATTACH;FMTTYPE=image/jpeg:https://elmarovineyard.com/wp-content/uploads/2026/02/Puzzle-Day-Thursday-April-18th-1920-x-1080-px-6.jpg
END:VEVENT
BEGIN:VEVENT
DTSTART;TZID=UTC:20260315T130000
DTEND;TZID=UTC:20260315T160000
DTSTAMP:20260423T102446
CREATED:20260121T194541Z
LAST-MODIFIED:20260314T160155Z
UID:6985-1773579600-1773590400@elmarovineyard.com
SUMMARY:CANCELLED  DUE TO WEATHER - St. Patrick's Day music by Patina and release of their new CD\, "Casting Shadows"
DESCRIPTION:CANCELLED DUE TO WEATHER
URL:https://elmarovineyard.com/event/st-patricks-day-music-by-patina/
ATTACH;FMTTYPE=image/jpeg:https://elmarovineyard.com/wp-content/uploads/2026/01/St.-Patricks-Day-music-by-Patina-3.jpg
END:VEVENT
BEGIN:VEVENT
DTSTART;VALUE=DATE:20260315
DTEND;VALUE=DATE:20260316
DTSTAMP:20260423T102446
CREATED:20260314T160255Z
LAST-MODIFIED:20260314T160255Z
UID:7185-1773532800-1773619199@elmarovineyard.com
SUMMARY:CLOSED DUE TO WINTER STORM FORECAST
DESCRIPTION:CLOSED DUE TO WINTER STORM FORECAST \nCLOSED DUE TO WINTER STORM FORECAST \nCLOSED DUE TO WINTER STORM FORECAST \nCLOSED DUE TO WINTER STORM FORECAST \nCLOSED DUE TO WINTER STORM FORECAST \nCLOSED DUE TO WINTER STORM FORECAST \nCLOSED DUE TO WINTER STORM FORECAST \n 
URL:https://elmarovineyard.com/event/closed-due-to-winter-storm-forecast/
END:VEVENT
BEGIN:VEVENT
DTSTART;TZID=UTC:20260314T140000
DTEND;TZID=UTC:20260314T170000
DTSTAMP:20260423T102446
CREATED:20260215T195844Z
LAST-MODIFIED:20260215T195844Z
UID:7023-1773496800-1773507600@elmarovineyard.com
SUMMARY:Music by Allison Sky
DESCRIPTION:Local singer/songwriter Allison Sky will fill the winery with music while you enjoy pie!
URL:https://elmarovineyard.com/event/music-by-allison-sky-4/
ATTACH;FMTTYPE=image/jpeg:https://elmarovineyard.com/wp-content/uploads/2025/12/allison-sky.jpg
END:VEVENT
BEGIN:VEVENT
DTSTART;TZID=UTC:20260314T120000
DTEND;TZID=UTC:20260314T180000
DTSTAMP:20260423T102446
CREATED:20260204T165352Z
LAST-MODIFIED:20260204T165352Z
UID:7007-1773489600-1773511200@elmarovineyard.com
SUMMARY:PI(E) Day!
DESCRIPTION:The celebration of circles means eating pie all day! Join us at Elmaro for pie\, perfectly paired with your favorite Elmaro wines.
URL:https://elmarovineyard.com/event/pie-day-2/
ATTACH;FMTTYPE=image/jpeg:https://elmarovineyard.com/wp-content/uploads/2026/02/pie-day-1920-x-1080-px-2.jpg
END:VEVENT
BEGIN:VEVENT
DTSTART;TZID=UTC:20260313T150000
DTEND;TZID=UTC:20260313T180000
DTSTAMP:20260423T102446
CREATED:20260226T211952Z
LAST-MODIFIED:20260226T211952Z
UID:7162-1773414000-1773424800@elmarovineyard.com
SUMMARY:Music by Sal & Dean
DESCRIPTION:Sal and Dean have played both together and separately in many Country and Rock bands in the area (as well as New York and Hawaii) for over 30 years! As a duo\, they concentrate on familiar songs with a focus on harmony\, and songs that tell stories. Their primary goal is to share this music with their audiences and hopefully bring back good memories and shared experiences!
URL:https://elmarovineyard.com/event/music-by-sal-dean-6/
ATTACH;FMTTYPE=image/jpeg:https://elmarovineyard.com/wp-content/uploads/2026/02/Sal-Dean-2.jpg
END:VEVENT
BEGIN:VEVENT
DTSTART;TZID=UTC:20260312T110000
DTEND;TZID=UTC:20260312T120000
DTSTAMP:20260423T102446
CREATED:20260204T170728Z
LAST-MODIFIED:20260317T181946Z
UID:7011-1773313200-1773316800@elmarovineyard.com
SUMMARY:Adaptive Yoga
DESCRIPTION:At 11:00 a.m.\, Join Laura (co-owner and winemaker) for a one-hour yoga practice for anyone with a modified range of motion. Chairs are available for sitting or standing prop\, no former yoga training is required\, and please bring your own mat and water bottle\, $2 per person. (We welcome drop-ins!)
URL:https://elmarovineyard.com/event/adaptive-yoga-28/2026-03-12/
ATTACH;FMTTYPE=image/jpeg:https://elmarovineyard.com/wp-content/uploads/2025/10/adaptive1-scaled.jpg
END:VEVENT
BEGIN:VEVENT
DTSTART;TZID=UTC:20260308T130000
DTEND;TZID=UTC:20260308T160000
DTSTAMP:20260423T102446
CREATED:20260226T203824Z
LAST-MODIFIED:20260226T203824Z
UID:7147-1772974800-1772985600@elmarovineyard.com
SUMMARY:Music by Joe & Jackie Cody
DESCRIPTION:Perfect harmonies\, great music\, and a glass of wine for the best Sunday ever.
URL:https://elmarovineyard.com/event/music-by-joe-jackie-cody-2/
ATTACH;FMTTYPE=image/jpeg:https://elmarovineyard.com/wp-content/uploads/2026/02/joe-and-jackie-cody.jpg
END:VEVENT
BEGIN:VEVENT
DTSTART;TZID=UTC:20260308T120000
DTEND;TZID=UTC:20260308T170000
DTSTAMP:20260423T102446
CREATED:20260226T204858Z
LAST-MODIFIED:20260226T204858Z
UID:7150-1772971200-1772989200@elmarovineyard.com
SUMMARY:International Women's Day
DESCRIPTION:International Women’s Day is Sunday\, March 8th\, and we are celebrating women at Elmaro Vineyard\, as women will receive complimentary samples from 12-5 p.m.
URL:https://elmarovineyard.com/event/international-womens-day/
ATTACH;FMTTYPE=image/jpeg:https://elmarovineyard.com/wp-content/uploads/2026/02/international-womens-day.jpg
END:VEVENT
BEGIN:VEVENT
DTSTART;TZID=UTC:20260307T140000
DTEND;TZID=UTC:20260307T170000
DTSTAMP:20260423T102446
CREATED:20260226T203454Z
LAST-MODIFIED:20260226T203454Z
UID:7144-1772892000-1772902800@elmarovineyard.com
SUMMARY:Music by Ryan Howe
DESCRIPTION:Ryan is more than just a singer-songwriter…he can play the piano like nobody’s business!
URL:https://elmarovineyard.com/event/music-by-ryan-howe-8/
ATTACH;FMTTYPE=image/jpeg:https://elmarovineyard.com/wp-content/uploads/2026/02/ryan-howe-scaled.jpg
END:VEVENT
BEGIN:VEVENT
DTSTART;TZID=UTC:20260306T140000
DTEND;TZID=UTC:20260306T170000
DTSTAMP:20260423T102446
CREATED:20260226T203215Z
LAST-MODIFIED:20260226T203215Z
UID:7142-1772805600-1772816400@elmarovineyard.com
SUMMARY:Music by Jeani & The Dreamers
DESCRIPTION:The winery will be rockin’ with the dancing tunes from Jeani & The Dreamers\, 2-5 p.m.
URL:https://elmarovineyard.com/event/music-by-jeani-the-dreamers-21/
ATTACH;FMTTYPE=image/jpeg:https://elmarovineyard.com/wp-content/uploads/2025/10/Jeaniandthedreamers.jpg
END:VEVENT
BEGIN:VEVENT
DTSTART;TZID=UTC:20260305T110000
DTEND;TZID=UTC:20260305T120000
DTSTAMP:20260423T102446
CREATED:20260204T170728Z
LAST-MODIFIED:20260317T181929Z
UID:7010-1772708400-1772712000@elmarovineyard.com
SUMMARY:Adaptive Yoga
DESCRIPTION:At 11:00 a.m.\, Join Laura (co-owner and winemaker) for a one-hour yoga practice for anyone with a modified range of motion. Chairs are available for sitting or standing prop\, no former yoga training is required\, and please bring your own mat and water bottle\, $2 per person. (We welcome drop-ins!)
URL:https://elmarovineyard.com/event/adaptive-yoga-28/2026-03-05/
ATTACH;FMTTYPE=image/jpeg:https://elmarovineyard.com/wp-content/uploads/2025/10/adaptive1-scaled.jpg
END:VEVENT
BEGIN:VEVENT
DTSTART;TZID=UTC:20260301T130000
DTEND;TZID=UTC:20260301T160000
DTSTAMP:20260423T102446
CREATED:20260113T231628Z
LAST-MODIFIED:20260121T213845Z
UID:6970-1772370000-1772380800@elmarovineyard.com
SUMMARY:Meet the February artists\, the 5th grade Prairie View Elementary Students
DESCRIPTION:The talented 5th grade art students will be at Elmaro on Sunday\, March 1st\, 1-4 p.m. to tell you all about how they created their paintings. \nAnd here’s a bit about their instructor:  My name is Amy Wink\, and I am the full time art teacher at Prairie View Elementary School in Holmen\, WI.  I have been teaching in Holmen for 29 years.  I absolutely love my job as it is so very rewarding working with young artists. I enjoy helping my students learn about art\, the variety of media / techniques\, watching them be creative\, express themselves\, and of course….have fun!   I love seeing the excitement and pride that creating art brings my students.  In my classroom there is no right or wrong answer or way of creating. I value that each student can dare to be different and each artwork created can be unique with individual ideas and styles.  A favorite part of my job is to proudly display student artwork in our school and community for all to see\, talk about\, and enjoy.  \nThe theme of this display is “Wildlife Art.”  These featured artists are all in the 5th grade at Prairie View; many of whom I have had the pleasure of teaching and watching grow up since Kindergarten.  These tempera paintings were originally inspired by a student selected photograph.  Students first drew the image through using a “gridding” technique.  This helps the artist focus on line\, shape\, size\, proportion\, and placement of objects in the photograph.  In painting\, students learned a variety of skills; such as color mixing\, overlapping\, and ways of working with different brushes and sponges to create texture.  Some artists worked further into their piece with colored pencils for details\, outlining\, and/or textures.   \nDidn’t these young artists do an amazing job?  Thank you to Elmaro Vineyard for inviting us to share our art with you!   Feel free to support our young artists and our art department at Prairie View by purchasing our greeting cards featuring some of your favorite paintings.  \nAmy Wink \nPrairie View Elementary Art Teacher  \nHolmen\, WI
URL:https://elmarovineyard.com/event/meet-the-february-artists-the-5th-grade-prairie-view-elementary-students/
ATTACH;FMTTYPE=image/jpeg:https://elmarovineyard.com/wp-content/uploads/2026/01/5th-Grade-Wildlife-Art-Prairie-View-Elementary-School-Holmen-WI-6.jpg
END:VEVENT
BEGIN:VEVENT
DTSTART;TZID=UTC:20260301T130000
DTEND;TZID=UTC:20260301T160000
DTSTAMP:20260423T102446
CREATED:20260113T231157Z
LAST-MODIFIED:20260113T231157Z
UID:6968-1772370000-1772380800@elmarovineyard.com
SUMMARY:Classical Guitar by Chris Rude
DESCRIPTION:Classical guitar is paired with wine and our artist meet and greet.  It’s a perfect Sunday.
URL:https://elmarovineyard.com/event/classical-guitar-by-chris-rude-17/
ATTACH;FMTTYPE=image/jpeg:https://elmarovineyard.com/wp-content/uploads/2025/10/Chris-Rude.jpg
END:VEVENT
BEGIN:VEVENT
DTSTART;TZID=UTC:20260228T140000
DTEND;TZID=UTC:20260228T170000
DTSTAMP:20260423T102446
CREATED:20260120T210451Z
LAST-MODIFIED:20260120T210451Z
UID:6981-1772287200-1772298000@elmarovineyard.com
SUMMARY:Music by River Run
DESCRIPTION:Jeff and Terry are River Run\, and they play familiar\, feel good tunes with tight harmonies.
URL:https://elmarovineyard.com/event/music-by-river-run-4/
ATTACH;FMTTYPE=image/jpeg:https://elmarovineyard.com/wp-content/uploads/2026/01/River-Run-scaled.jpg
END:VEVENT
BEGIN:VEVENT
DTSTART;TZID=UTC:20260228T110000
DTEND;TZID=UTC:20260228T120000
DTSTAMP:20260423T102446
CREATED:20260127T211216Z
LAST-MODIFIED:20260127T211216Z
UID:7003-1772276400-1772280000@elmarovineyard.com
SUMMARY:Bloedow's Donut and Wine Pairing
DESCRIPTION:Elmaro wines paired with Bloedow’s donuts! On Saturday\, February 28th at 11:00 a.m.\, $20/person\, you’ll sip and savor five donut and wine samples. Stroll through the pairings at your own pace\, and come hungry.\nThis year\, there’s special donut creations in the works that might involve a top selling Elmaro wine!
URL:https://elmarovineyard.com/event/bloedows-donut-and-wine-pairing-3/
ATTACH;FMTTYPE=image/jpeg:https://elmarovineyard.com/wp-content/uploads/2026/01/Donut-and-Wine-Pairing-8.jpg
END:VEVENT
BEGIN:VEVENT
DTSTART;TZID=UTC:20260227T120000
DTEND;TZID=UTC:20260227T180000
DTSTAMP:20260423T102446
CREATED:20260113T224318Z
LAST-MODIFIED:20260113T224318Z
UID:6962-1772193600-1772215200@elmarovineyard.com
SUMMARY:Pick Your Own Charcuterie
DESCRIPTION:Elmaro loves having you pick the flavors you love for your own charcuterie board.  It’s Pick Your Own Charcuterie at Elmaro\, so come and savor some new flavors.
URL:https://elmarovineyard.com/event/pick-your-own-charcuterie-3/
ATTACH;FMTTYPE=image/jpeg:https://elmarovineyard.com/wp-content/uploads/2026/01/build-your-own-10.jpg
END:VEVENT
BEGIN:VEVENT
DTSTART;TZID=UTC:20260226T120000
DTEND;TZID=UTC:20260226T180000
DTSTAMP:20260423T102446
CREATED:20260127T205453Z
LAST-MODIFIED:20260127T205453Z
UID:7000-1772107200-1772128800@elmarovineyard.com
SUMMARY:National Chocolate Covered Nut Day
DESCRIPTION:We love a good pairing at Elmaro\, and this is no exception.  We will have special food and wine pairings from 12-6 p.m.\, sure to please you on a wonderful Thursday.
URL:https://elmarovineyard.com/event/national-chocolate-covered-nut-day/
ATTACH;FMTTYPE=image/jpeg:https://elmarovineyard.com/wp-content/uploads/2026/01/National-Chocolate-Covered-Nut-Day-means-Chocolate-Nut-and-Wine-Pairings.jpg
END:VEVENT
BEGIN:VEVENT
DTSTART;TZID=UTC:20260226T110000
DTEND;TZID=UTC:20260226T120000
DTSTAMP:20260423T102446
CREATED:20251227T190503Z
LAST-MODIFIED:20251227T190503Z
UID:6874-1772103600-1772107200@elmarovineyard.com
SUMMARY:Adaptive Yoga
DESCRIPTION:At 11:00 a.m.\, Join Laura (co-owner and winemaker) for a one-hour yoga practice for anyone with a modified range of motion. Chairs are available for sitting or standing prop\, no former yoga training is required\, and please bring your own mat and water bottle\, $2 per person. (We welcome drop-ins!)
URL:https://elmarovineyard.com/event/adaptive-yoga-27/2026-02-26/
ATTACH;FMTTYPE=image/jpeg:https://elmarovineyard.com/wp-content/uploads/2025/10/adaptive1-scaled.jpg
END:VEVENT
BEGIN:VEVENT
DTSTART;TZID=UTC:20260221T140000
DTEND;TZID=UTC:20260221T170000
DTSTAMP:20260423T102446
CREATED:20260113T192610Z
LAST-MODIFIED:20260113T192610Z
UID:6944-1771682400-1771693200@elmarovineyard.com
SUMMARY:Music by Tim Dallman
DESCRIPTION:Tim’s a rock/pop/Americana singer-songwriter who also performs a wide range of cover songs.
URL:https://elmarovineyard.com/event/music-by-tim-dallman-22/
ATTACH;FMTTYPE=image/jpeg:https://elmarovineyard.com/wp-content/uploads/2025/10/tim-dallman4.jpg
END:VEVENT
BEGIN:VEVENT
DTSTART;TZID=UTC:20260221T100000
DTEND;TZID=UTC:20260221T170000
DTSTAMP:20260423T102446
CREATED:20260127T172500Z
LAST-MODIFIED:20260209T215856Z
UID:6994-1771668000-1771693200@elmarovineyard.com
SUMMARY:Self Care Day at Elmaro
DESCRIPTION:Steamboat Sauna Co. out of Winona is coming to Elmaro!Mobile Sauna Self Care Day: Sauna (30 min) and Elmaro’s Winter Wine Dome (60 min)\, $140+ tax and fees\, includes 1 special fruit & cheese plate in the dome\, all other food and beverages are a la carte\, rental is for groups of up to 8 people only.Reservations and full details at http://www.exploretock.com/elmarovineyard\n\nBut here’s a teaser of how you’ll relax:The mobile Sauna is by Steamboat Sauna Co. in Winona\, MN\, and is the perfect blend of heat\, community\, & recovery. Reconnect with nature\, share the heat\, step into the warmth\, and soak up the social + physical benefits of the wood-fired mobile sauna. The dome is a private\, transparent igloo offering warmth\, patio lounge seating\, and stunning views. Each heated dome provides an retreat overlooking our vineyard and the Mississippi River valley. Sip on your favorite wines\, savor charcuterie\, & watch the winter landscape sparkle around you.
URL:https://elmarovineyard.com/event/6994/
ATTACH;FMTTYPE=image/jpeg:https://elmarovineyard.com/wp-content/uploads/2026/01/Self-Care-Sauna-And-Wine-Dome-Day-1.jpg
END:VEVENT
BEGIN:VEVENT
DTSTART;TZID=UTC:20260221T100000
DTEND;TZID=UTC:20260221T113000
DTSTAMP:20260423T102446
CREATED:20260127T163126Z
LAST-MODIFIED:20260127T163426Z
UID:6990-1771668000-1771673400@elmarovineyard.com
SUMMARY:Yoga & Brunch
DESCRIPTION:Join Laura (co-owner and winemaker) on Saturday\, January 17th at 10 a.m. for a relaxing hour of vinyasa flow yoga practice\, followed by a continental brunch and a mimosa. $23/person.  Registration at http://www.exploretock.com/elmarovineyard
URL:https://elmarovineyard.com/event/yoga-brunch-27/
ATTACH;FMTTYPE=image/jpeg:https://elmarovineyard.com/wp-content/uploads/2026/01/New-Years-Eve-Yoga-Brunch-10-a.m.-1920-x-1080-px-22.jpg
END:VEVENT
BEGIN:VEVENT
DTSTART;TZID=UTC:20260220T120000
DTEND;TZID=UTC:20260220T180000
DTSTAMP:20260423T102446
CREATED:20260113T230759Z
LAST-MODIFIED:20260219T162605Z
UID:6965-1771588800-1771610400@elmarovineyard.com
SUMMARY:Celebrate Drink Wine Day AND Pick Your Own Charcuterie
DESCRIPTION:National Drink Wine Day is a required observance at Elmaro Vineyard\, so we are pairing it with a day of Pick Your Own Charcuterie\, with the optional add on of two glasses of wine for $6 more.
URL:https://elmarovineyard.com/event/celebrate-drink-wine-day-and-pick-your-own-charcuterie/
ATTACH;FMTTYPE=image/jpeg:https://elmarovineyard.com/wp-content/uploads/2026/01/build-your-own-11.jpg
END:VEVENT
BEGIN:VEVENT
DTSTART;TZID=UTC:20260219T110000
DTEND;TZID=UTC:20260219T120000
DTSTAMP:20260423T102446
CREATED:20251227T190503Z
LAST-MODIFIED:20251227T190503Z
UID:6873-1771498800-1771502400@elmarovineyard.com
SUMMARY:Adaptive Yoga
DESCRIPTION:At 11:00 a.m.\, Join Laura (co-owner and winemaker) for a one-hour yoga practice for anyone with a modified range of motion. Chairs are available for sitting or standing prop\, no former yoga training is required\, and please bring your own mat and water bottle\, $2 per person. (We welcome drop-ins!)
URL:https://elmarovineyard.com/event/adaptive-yoga-27/2026-02-19/
ATTACH;FMTTYPE=image/jpeg:https://elmarovineyard.com/wp-content/uploads/2025/10/adaptive1-scaled.jpg
END:VEVENT
END:VCALENDAR