BEGIN:VCALENDAR
VERSION:2.0
PRODID:-//Elmaro Vineyard - ECPv6.15.20//NONSGML v1.0//EN
CALSCALE:GREGORIAN
METHOD:PUBLISH
X-WR-CALNAME:Elmaro Vineyard
X-ORIGINAL-URL:https://elmarovineyard.com
X-WR-CALDESC:Events for Elmaro Vineyard
REFRESH-INTERVAL;VALUE=DURATION:PT1H
X-Robots-Tag:noindex
X-PUBLISHED-TTL:PT1H
BEGIN:VTIMEZONE
TZID:UTC
BEGIN:STANDARD
TZOFFSETFROM:+0000
TZOFFSETTO:+0000
TZNAME:UTC
DTSTART:20240101T000000
END:STANDARD
END:VTIMEZONE
BEGIN:VEVENT
DTSTART;TZID=UTC:20251120T110000
DTEND;TZID=UTC:20251120T120000
DTSTAMP:20260424T104931
CREATED:20250911T195203Z
LAST-MODIFIED:20250911T195203Z
UID:6560-1763636400-1763640000@elmarovineyard.com
SUMMARY:Adaptive Yoga
DESCRIPTION:At 11:00 a.m.\, Join Laura (co-owner and winemaker) for a one-hour yoga practice for anyone with a modified range of motion. Chairs are available for sitting or standing prop\, no former yoga training is required\, and please bring your own mat and water bottle\, $2 per person. (We welcome drop-ins!)
URL:https://elmarovineyard.com/event/adaptive-yoga-25/2025-11-20/
ATTACH;FMTTYPE=image/jpeg:https://elmarovineyard.com/wp-content/uploads/2025/04/adaptive1-scaled.jpg
END:VEVENT
BEGIN:VEVENT
DTSTART;TZID=UTC:20251116T130000
DTEND;TZID=UTC:20251116T160000
DTSTAMP:20260424T104931
CREATED:20251017T161728Z
LAST-MODIFIED:20251017T161728Z
UID:6718-1763298000-1763308800@elmarovineyard.com
SUMMARY:Music by Abbey Lane
DESCRIPTION:Singer\, songwriter\, artist\, guitarist\, that has had a passion for music my whole life. Playing everything from the 50’s to now.
URL:https://elmarovineyard.com/event/music-by-abbey-lane-4/
ATTACH;FMTTYPE=image/jpeg:https://elmarovineyard.com/wp-content/uploads/2025/10/Abbey-Lane-1-scaled.jpg
END:VEVENT
BEGIN:VEVENT
DTSTART;TZID=UTC:20251116T120000
DTEND;TZID=UTC:20251116T170000
DTSTAMP:20260424T104931
CREATED:20251028T201254Z
LAST-MODIFIED:20251028T201709Z
UID:6760-1763294400-1763312400@elmarovineyard.com
SUMMARY:Celebrate Elmaro's 14th Anniversary!
DESCRIPTION:Celebrate 14 years of Elmaro with a sparkling wine toast with the owners at 12:30 p.m. AND 14% off single bottles of wine (20% off cases of wine)
URL:https://elmarovineyard.com/event/6760/
ATTACH;FMTTYPE=image/jpeg:https://elmarovineyard.com/wp-content/uploads/2025/10/13-2.jpg
END:VEVENT
BEGIN:VEVENT
DTSTART;TZID=UTC:20251115T140000
DTEND;TZID=UTC:20251115T170000
DTSTAMP:20260424T104931
CREATED:20251103T203016Z
LAST-MODIFIED:20251103T203016Z
UID:6780-1763215200-1763226000@elmarovineyard.com
SUMMARY:Music by Jen Zemke and Garrett Gilbertson
DESCRIPTION:It’s a duo to knock your socks off and get you singing and dancing.
URL:https://elmarovineyard.com/event/music-by-jen-zemke-and-garrett-gilbertson/
ATTACH;FMTTYPE=image/jpeg:https://elmarovineyard.com/wp-content/uploads/2025/11/jen-and-garrett.jpg
END:VEVENT
BEGIN:VEVENT
DTSTART;TZID=UTC:20251115T120000
DTEND;TZID=UTC:20251115T180000
DTSTAMP:20260424T104931
CREATED:20251028T201021Z
LAST-MODIFIED:20251028T201021Z
UID:6757-1763208000-1763229600@elmarovineyard.com
SUMMARY:Celebrate Elmaro's 14th Anniversary!
DESCRIPTION:Celebrate 14 years of Elmaro with 14% off single bottles of wine (20% off cases of wine)!
URL:https://elmarovineyard.com/event/celebrate-elmaros-14th-anniversary/
ATTACH;FMTTYPE=image/jpeg:https://elmarovineyard.com/wp-content/uploads/2025/10/13-2.jpg
END:VEVENT
BEGIN:VEVENT
DTSTART;TZID=UTC:20251114T150000
DTEND;TZID=UTC:20251114T190000
DTSTAMP:20260424T104931
CREATED:20251017T220106Z
LAST-MODIFIED:20251017T220106Z
UID:6743-1763132400-1763146800@elmarovineyard.com
SUMMARY:Date Night
DESCRIPTION:Your friend called\, they want to meet you at Elmaro for Date Night\, 3-7 p.m.  You can enjoy a cheese plate and a dessert for $22.
URL:https://elmarovineyard.com/event/date-night-19/
ATTACH;FMTTYPE=image/jpeg:https://elmarovineyard.com/wp-content/uploads/2025/10/Date-Night-1920-x-1080-px-9.jpg
END:VEVENT
BEGIN:VEVENT
DTSTART;TZID=UTC:20251113T180000
DTEND;TZID=UTC:20251113T200000
DTSTAMP:20260424T104931
CREATED:20250409T163522Z
LAST-MODIFIED:20250409T163522Z
UID:6105-1763056800-1763064000@elmarovineyard.com
SUMMARY:Amaryllis Bloom Bulb Centerpiece Class
DESCRIPTION:Amaryllis bulbs are a seasonal favorite and this workshop is not to be missed! Bring a clear glass vessel\, 8-10 inch in diameter\, that matches your style and space. We provide an amaryllis bulb\, stones\, pinecones\, moss\, and accents that you can take in a direction to highlight fall\, Christmas\, or winter — your choice. Bulbs begin to grow only days after initial watering and grow an inch or more of new foliage a day. Incredible to watch this spring to life! This workshop is kid friendly too!  $57/person\, registration at https://www.exploretock.com/elmarovineyard/event/531908/amaryllis-bloom-bulb-centerpiece
URL:https://elmarovineyard.com/event/amaryllis-bloom-bulb-centerpiece-class/
ATTACH;FMTTYPE=image/png:https://elmarovineyard.com/wp-content/uploads/2025/04/Alannas-classes-16.png
END:VEVENT
BEGIN:VEVENT
DTSTART;TZID=UTC:20251113T110000
DTEND;TZID=UTC:20251113T120000
DTSTAMP:20260424T104931
CREATED:20250911T195203Z
LAST-MODIFIED:20250911T195203Z
UID:6559-1763031600-1763035200@elmarovineyard.com
SUMMARY:Adaptive Yoga
DESCRIPTION:At 11:00 a.m.\, Join Laura (co-owner and winemaker) for a one-hour yoga practice for anyone with a modified range of motion. Chairs are available for sitting or standing prop\, no former yoga training is required\, and please bring your own mat and water bottle\, $2 per person. (We welcome drop-ins!)
URL:https://elmarovineyard.com/event/adaptive-yoga-25/2025-11-13/
ATTACH;FMTTYPE=image/jpeg:https://elmarovineyard.com/wp-content/uploads/2025/04/adaptive1-scaled.jpg
END:VEVENT
BEGIN:VEVENT
DTSTART;TZID=UTC:20251109T130000
DTEND;TZID=UTC:20251109T160000
DTSTAMP:20260424T104931
CREATED:20251103T185814Z
LAST-MODIFIED:20251103T185814Z
UID:6767-1762693200-1762704000@elmarovineyard.com
SUMMARY:Meet the November artist\, Jeff Nelson
DESCRIPTION:Jeff’s artistic journey began in his youth\, where he was encouraged by his grandparents and parents to explore drawing and painting. He fondly remembers spending time at the kitchen table with his relatives\, engaging in the art of Rosemaling.\n\n\nThroughout his artistic career\, Jeff has primarily focused on watercolor.  His captivating artwork has been showcased in galleries across Kansas City\, Minneapolis\, St. Paul\, Naples\, and various smaller galleries in our region.\n\n\nFor Jeff\, the act of creating art gives purpose and meaning to each day. He considers himself fortunate to be able to pursue his passion as an artist.Jeff Nelson in an artist living in Eau Claire\, Wisconsin.  His work is primarily watercolor and oil.  Nature is a      reoccurring theme in his work.  Any special requests\, framing\, matting\, or commissions\, please contact Jeff at 715-456-0030.
URL:https://elmarovineyard.com/event/meet-the-november-artist-jeff-nelson-2/
ATTACH;FMTTYPE=image/jpeg:https://elmarovineyard.com/wp-content/uploads/2025/11/Nelson-2021-scaled.jpg
END:VEVENT
BEGIN:VEVENT
DTSTART;TZID=UTC:20251109T130000
DTEND;TZID=UTC:20251109T160000
DTSTAMP:20260424T104931
CREATED:20251017T161551Z
LAST-MODIFIED:20251017T161551Z
UID:6715-1762693200-1762704000@elmarovineyard.com
SUMMARY:Classical guitar by Chris Rude
DESCRIPTION:Chris performs the most amazing classical guitar\, it’s the best way to spend a Sunday afternoon.
URL:https://elmarovineyard.com/event/classical-guitar-by-chris-rude-16/
ATTACH;FMTTYPE=image/jpeg:https://elmarovineyard.com/wp-content/uploads/2025/10/Chris-Rude.jpg
END:VEVENT
BEGIN:VEVENT
DTSTART;TZID=UTC:20251108T140000
DTEND;TZID=UTC:20251108T170000
DTSTAMP:20260424T104931
CREATED:20251006T220809Z
LAST-MODIFIED:20251006T220809Z
UID:6669-1762610400-1762621200@elmarovineyard.com
SUMMARY:Music by James Grant
DESCRIPTION:James covers a wide variety of your favorite 60s and 70s tunes\, and will fill the winery with music on the 8th.
URL:https://elmarovineyard.com/event/music-by-james-grant-34/
ATTACH;FMTTYPE=image/jpeg:https://elmarovineyard.com/wp-content/uploads/2025/10/James-Grant6.jpg
END:VEVENT
BEGIN:VEVENT
DTSTART;TZID=UTC:20251107T150000
DTEND;TZID=UTC:20251107T190000
DTSTAMP:20260424T104931
CREATED:20251017T215802Z
LAST-MODIFIED:20251017T215802Z
UID:6740-1762527600-1762542000@elmarovineyard.com
SUMMARY:Date Night
DESCRIPTION:It’s date night at Elmaro\, so you can bring yourself or your favorite human to enjoy a cheese plate and a dessert for $22.
URL:https://elmarovineyard.com/event/date-night-18/
ATTACH;FMTTYPE=image/jpeg:https://elmarovineyard.com/wp-content/uploads/2025/10/Date-Night-1920-x-1080-px-8-1.jpg
END:VEVENT
BEGIN:VEVENT
DTSTART;TZID=UTC:20251106T180000
DTEND;TZID=UTC:20251106T200000
DTSTAMP:20260424T104931
CREATED:20251020T212358Z
LAST-MODIFIED:20251020T212358Z
UID:6752-1762452000-1762459200@elmarovineyard.com
SUMMARY:Bingo Night!
DESCRIPTION:It’s Bingo night at Elmaro on November 6th at 6:00 p.m. Each guest receives 2 Bingo cards. There’s no fee to play\, but registration is required at https://www.exploretock.com/elmarovineyard/event/576089/bingo
URL:https://elmarovineyard.com/event/bingo-night-12/
ATTACH;FMTTYPE=image/jpeg:https://elmarovineyard.com/wp-content/uploads/2025/10/BINGO-facebook-event-cover-15.jpg
END:VEVENT
BEGIN:VEVENT
DTSTART;TZID=UTC:20251102T130000
DTEND;TZID=UTC:20251102T160000
DTSTAMP:20260424T104931
CREATED:20251017T161427Z
LAST-MODIFIED:20251017T161427Z
UID:6712-1762088400-1762099200@elmarovineyard.com
SUMMARY:Music by Doug Mahlum
DESCRIPTION:Doug Mahlum is a veteran musician in this area with over 40 years of experience. He can easily draw from over 60 years of songs in a number of different genres including Rock\, Pop\, Country\, Folk\, Show tunes\, and Jazz standards. Doug likes to have fun and interact with the group and will encourage sing-a-longs (if it’s okay with your neighbors).
URL:https://elmarovineyard.com/event/music-by-doug-mahlum-24/
ATTACH;FMTTYPE=image/jpeg:https://elmarovineyard.com/wp-content/uploads/2025/10/Doug-Mahlum3.jpg
END:VEVENT
BEGIN:VEVENT
DTSTART;TZID=UTC:20251101T140000
DTEND;TZID=UTC:20251101T170000
DTSTAMP:20260424T104931
CREATED:20251006T221315Z
LAST-MODIFIED:20251006T221315Z
UID:6672-1762005600-1762016400@elmarovineyard.com
SUMMARY:Music by Quenten Brown
DESCRIPTION:Quenten is just strumming strings…playing tunes. Meeting fine people along the way… \n 
URL:https://elmarovineyard.com/event/music-by-quenten-brown-6/
ATTACH;FMTTYPE=image/png:https://elmarovineyard.com/wp-content/uploads/2025/10/quenten-brown2.png
END:VEVENT
BEGIN:VEVENT
DTSTART;TZID=UTC:20251101T120000
DTEND;TZID=UTC:20251101T180000
DTSTAMP:20260424T104931
CREATED:20251017T162554Z
LAST-MODIFIED:20251017T162554Z
UID:6727-1761998400-1762020000@elmarovineyard.com
SUMMARY:National Cinnamon Day means $1 off glasses of mulled wine
DESCRIPTION:We can’t pass up a day to celebrate our mulled wine!  Stop in for $1 off glasses of this treat\, simmered with cinnamon and spices from Wildwood Specialty Foods.
URL:https://elmarovineyard.com/event/national-cinnamon-day-means-1-off-glasses-of-mulled-wine/
ATTACH;FMTTYPE=image/jpeg:https://elmarovineyard.com/wp-content/uploads/2025/10/Mulled-Wine-Kits-for-Holiday-Gift-Giving.jpg
END:VEVENT
BEGIN:VEVENT
DTSTART;TZID=UTC:20251031T120000
DTEND;TZID=UTC:20251031T190000
DTSTAMP:20260424T104931
CREATED:20250930T194125Z
LAST-MODIFIED:20250930T194125Z
UID:6652-1761912000-1761937200@elmarovineyard.com
SUMMARY:Halloween!
DESCRIPTION:It’s Halloween\, and we love costumes at Elmaro! Wear your costume and get a sweet treat\, and bring on the fun!
URL:https://elmarovineyard.com/event/halloween/
ATTACH;FMTTYPE=image/jpeg:https://elmarovineyard.com/wp-content/uploads/2025/09/Halloween-Costume-Day-at-Elmaro.jpg
END:VEVENT
BEGIN:VEVENT
DTSTART;TZID=UTC:20251031T120000
DTEND;TZID=UTC:20251031T190000
DTSTAMP:20260424T104931
CREATED:20250911T200840Z
LAST-MODIFIED:20250911T200840Z
UID:6579-1761912000-1761937200@elmarovineyard.com
SUMMARY:Flannel Fridays
DESCRIPTION:It’s fall and time to break out the flannel! Wear your favorite flannel to Elmaro on Fridays in October and receive $1 off glasses of wine\, 12-7 p.m.
URL:https://elmarovineyard.com/event/flannel-fridays-2/2025-10-31/
ATTACH;FMTTYPE=image/png:https://elmarovineyard.com/wp-content/uploads/2025/09/Flannel-11-x-8.5-in-3-scaled.png
END:VEVENT
BEGIN:VEVENT
DTSTART;TZID=UTC:20251030T183000
DTEND;TZID=UTC:20251030T193000
DTSTAMP:20260424T104931
CREATED:20250929T211943Z
LAST-MODIFIED:20250929T211943Z
UID:6649-1761849000-1761852600@elmarovineyard.com
SUMMARY:Hike & Howl
DESCRIPTION:The Elmaro staff will guide you through the vineyard at dusk\, and you’ll enjoy chocolate and wine pairings through the hike. We will even have a group howl at the moon\, just because we can.\nThe chocolate and wine pairings will take us from classic Halloween candy to artisan made chocolate. And yes\, you can wear your costume\, just because we can.  Tickets at https://www.exploretock.com/elmarovineyard/event/572803/hike-howl
URL:https://elmarovineyard.com/event/hike-howl/
ATTACH;FMTTYPE=image/jpeg:https://elmarovineyard.com/wp-content/uploads/2025/09/Hike-Howl.jpg
END:VEVENT
BEGIN:VEVENT
DTSTART;TZID=UTC:20251030T110000
DTEND;TZID=UTC:20251030T120000
DTSTAMP:20260424T104931
CREATED:20250911T195203Z
LAST-MODIFIED:20250911T195203Z
UID:6557-1761822000-1761825600@elmarovineyard.com
SUMMARY:Adaptive Yoga
DESCRIPTION:At 11:00 a.m.\, Join Laura (co-owner and winemaker) for a one-hour yoga practice for anyone with a modified range of motion. Chairs are available for sitting or standing prop\, no former yoga training is required\, and please bring your own mat and water bottle\, $2 per person. (We welcome drop-ins!)
URL:https://elmarovineyard.com/event/adaptive-yoga-25/2025-10-30/
ATTACH;FMTTYPE=image/jpeg:https://elmarovineyard.com/wp-content/uploads/2025/04/adaptive1-scaled.jpg
END:VEVENT
BEGIN:VEVENT
DTSTART;TZID=UTC:20251026T130000
DTEND;TZID=UTC:20251026T160000
DTSTAMP:20260424T104931
CREATED:20250911T204032Z
LAST-MODIFIED:20250911T204032Z
UID:6598-1761483600-1761494400@elmarovineyard.com
SUMMARY:Classical guitar by Chris Rude
DESCRIPTION:Aahhhh\, classical guitar by Chris Rude.  It’s mezmerizing\, relaxing\, and amazing.
URL:https://elmarovineyard.com/event/classical-guitar-by-chris-rude-15/
ATTACH;FMTTYPE=image/jpeg:https://elmarovineyard.com/wp-content/uploads/2025/09/Christopher-Rude.jpg
END:VEVENT
BEGIN:VEVENT
DTSTART;TZID=UTC:20251026T130000
DTEND;TZID=UTC:20251026T160000
DTSTAMP:20260424T104931
CREATED:20250911T160558Z
LAST-MODIFIED:20250911T160558Z
UID:6550-1761483600-1761494400@elmarovineyard.com
SUMMARY:Meet the October artist\, Colleen Shore
DESCRIPTION:Agritourism is the focus of my upcoming exhibit of original oil paintings. Inspired by Elmaro Vineyard\, motivated by Poggio Etrusco and encouraged by Ecker’s Apple Farm\, I hope you’ll enjoy my perspective on the efforts of farms to diversify and add the element of tourism.\n\nElmaro\, has been a great supporter of my art\, having been invited to display in the crush pad for the past four years. This relationship has opened my eyes to the multitude of activities they provide in a rural setting\, attracting and entertaining their visitors with tasting\, consumption and purchases. During all the seasons\, I’ve painted or sketched on site getting to know the owners\, vineyard workers\, event staff and servers.  Inspiring me to put together this show.\n\nPoggio Etrusco\,  an experience of a lifetime at a 1600’s farmhouse B&B in the Tuscan Countryside. What can I say but thank you Karen S. for inviting me to come along on this journey.  I had to figure out how to take my art supplies overseas to be able to capture the olive harvest on my easel and it was well worth it. Pamela Sheldon\, owner and cookbook author\, also added to the experience by providing cooking classes and organizing wonderful events like truffle hunting and cheese tasting in the area.  Motivating me to express my  delight through my art.\n\nEcker’s Apple Farm\, I focused on Ecker’s family farm after exploring other Agritourism in the Trempealeau area.  I reached out to Sara who was more than welcoming to allow me to do some plein air painting on the property\, I was able to catch the apple blossoms just in time with her assistance. I knew right away the passion they had for continuing the family business. It’s certainly more than U-Pick Your Own Apples from the old days. Encouraging me to add one more element of final inspiration for this show.\n\n\n I hope you’ll enjoy my tribute to the hard work of these three rural businesses and celebrate with me at my closing reception on Sunday\, Oct. 26 from 1-4pm.\n\nMore information at cshoreartwork.blogspot.com\nQuestions cshoreartwork@gmail.com
URL:https://elmarovineyard.com/event/meet-the-october-artist-colleen-shore/
ATTACH;FMTTYPE=image/png:https://elmarovineyard.com/wp-content/uploads/2025/09/March-Artist-of-the-Month-14.png
END:VEVENT
BEGIN:VEVENT
DTSTART;TZID=UTC:20251026T120000
DTEND;TZID=UTC:20251026T170000
DTSTAMP:20260424T104931
CREATED:20251006T182735Z
LAST-MODIFIED:20251006T204259Z
UID:6666-1761480000-1761498000@elmarovineyard.com
SUMMARY:A Toast to Harvest Wine Trail Event
DESCRIPTION:Toast to Harvest | October 24th – 26th | Great River Road Wine Trail\nCelebrate the harvest season with a self-paced wine and food experience along the Great River Road Wine Trail. If you’ve done the wine trail before… you haven’t done it like this. Because October 24–26 will be peak autumn magic along the Great River Road.  Each winery will offer three wines paired with a seasonal small plate that captures the flavors of fall.\n Visit as many wineries as you like – Start wherever you choose!\n Tickets (available at http://www.greatriverroadwinetrail.org are valid all weekend:• Friday & Saturday: 12pm–6pm• Sunday: 12pm–5pm\nThis event takes place rain or shine\, with cozy indoor seating available.\n If crisp air\, colorful leaves\, and cozy sips sound like your kind of weekend… now’s the time to grab your spot!  Get your tickets today and taste fall on the trail!\nTickets available at http://www.greatriverroadwinetrail.org
URL:https://elmarovineyard.com/event/a-toast-to-harvest-wine-trail-event-2/
ATTACH;FMTTYPE=image/jpeg:https://elmarovineyard.com/wp-content/uploads/2025/10/Oct-2025-2.jpg
END:VEVENT
BEGIN:VEVENT
DTSTART;TZID=UTC:20251025T140000
DTEND;TZID=UTC:20251025T170000
DTSTAMP:20260424T104931
CREATED:20250911T145839Z
LAST-MODIFIED:20250911T145839Z
UID:6547-1761400800-1761411600@elmarovineyard.com
SUMMARY:Music by Jack Norton
DESCRIPTION:Travel back in time with Emmy Award winning songwriter Jack Norton for a concert of vaudeville blues\, country\, and vintage Americana folk music. Oddball ukulele legend Tiny Tim hailed Norton as “the greatest entertainer I have ever seen!” The Minneapolis Star Tribune called Jack “one of the most entertaining acoustic musicians in the Midwest.” His performances are an authentic throwback to a simpler time and bygone era.
URL:https://elmarovineyard.com/event/music-by-jack-norton/
ATTACH;FMTTYPE=image/jpeg:https://elmarovineyard.com/wp-content/uploads/2025/09/JackNorton_Photo.jpg
END:VEVENT
BEGIN:VEVENT
DTSTART;TZID=UTC:20251025T120000
DTEND;TZID=UTC:20251025T180000
DTSTAMP:20260424T104931
CREATED:20251006T182643Z
LAST-MODIFIED:20251006T182643Z
UID:6663-1761393600-1761415200@elmarovineyard.com
SUMMARY:A Toast To Harvest Wine Trail Event
DESCRIPTION:Toast to Harvest | October 24th – 26th | Great River Road Wine Trail\nCelebrate the harvest season with a self-paced wine and food experience along the Great River Road Wine Trail. If you’ve done the wine trail before… you haven’t done it like this. Because October 24–26 will be peak autumn magic along the Great River Road.  Each winery will offer three wines paired with a seasonal small plate that captures the flavors of fall.\n Visit as many wineries as you like – Start wherever you choose!\n Tickets (available at http://www.greatriverroadwinetrail.org are valid all weekend:• Friday & Saturday: 12pm–6pm• Sunday: 12pm–5pm\nThis event takes place rain or shine\, with cozy indoor seating available.\n If crisp air\, colorful leaves\, and cozy sips sound like your kind of weekend… now’s the time to grab your spot!  Get your tickets today and taste fall on the trail!\nTickets available at http://www.greatriverroadwinetrail.org
URL:https://elmarovineyard.com/event/a-toast-to-harvest-wine-trail-event/
ATTACH;FMTTYPE=image/jpeg:https://elmarovineyard.com/wp-content/uploads/2025/10/Oct-2025-1.jpg
END:VEVENT
BEGIN:VEVENT
DTSTART;TZID=UTC:20251024T150000
DTEND;TZID=UTC:20251024T180000
DTSTAMP:20260424T104931
CREATED:20250929T190010Z
LAST-MODIFIED:20250929T190010Z
UID:6636-1761318000-1761328800@elmarovineyard.com
SUMMARY:Music by Joe & Jackie Cody
DESCRIPTION:It’s a match made in heaven\, and they’re filling the winery with music from 3-6 p.m.
URL:https://elmarovineyard.com/event/music-by-joe-jackie-cody/
ATTACH;FMTTYPE=image/png:https://elmarovineyard.com/wp-content/uploads/2025/09/Joe-and-Jackie-Cody-December-28th-2-5-p.m.-1.png
END:VEVENT
BEGIN:VEVENT
DTSTART;TZID=UTC:20251024T120000
DTEND;TZID=UTC:20251024T190000
DTSTAMP:20260424T104931
CREATED:20250911T200840Z
LAST-MODIFIED:20250911T200840Z
UID:6578-1761307200-1761332400@elmarovineyard.com
SUMMARY:Flannel Fridays
DESCRIPTION:It’s fall and time to break out the flannel! Wear your favorite flannel to Elmaro on Fridays in October and receive $1 off glasses of wine\, 12-7 p.m.
URL:https://elmarovineyard.com/event/flannel-fridays-2/2025-10-24/
ATTACH;FMTTYPE=image/png:https://elmarovineyard.com/wp-content/uploads/2025/09/Flannel-11-x-8.5-in-3-scaled.png
END:VEVENT
BEGIN:VEVENT
DTSTART;TZID=UTC:20251024T120000
DTEND;TZID=UTC:20251024T180000
DTSTAMP:20260424T104931
CREATED:20251006T182526Z
LAST-MODIFIED:20251006T182550Z
UID:6659-1761307200-1761328800@elmarovineyard.com
SUMMARY:A Toast To Harvest Wine Trail Event
DESCRIPTION:Toast to Harvest | October 24th – 26th | Great River Road Wine Trail\nCelebrate the harvest season with a self-paced wine and food experience along the Great River Road Wine Trail. If you’ve done the wine trail before… you haven’t done it like this. Because October 24–26 will be peak autumn magic along the Great River Road.  Each winery will offer three wines paired with a seasonal small plate that captures the flavors of fall.\n Visit as many wineries as you like – Start wherever you choose!\n Tickets (available at http://www.greatriverroadwinetrail.org are valid all weekend:• Friday & Saturday: 12pm–6pm• Sunday: 12pm–5pm\nThis event takes place rain or shine\, with cozy indoor seating available.\n If crisp air\, colorful leaves\, and cozy sips sound like your kind of weekend… now’s the time to grab your spot!  Get your tickets today and taste fall on the trail!\nTickets available at http://www.greatriverroadwinetrail.org
URL:https://elmarovineyard.com/event/6659/
ATTACH;FMTTYPE=image/jpeg:https://elmarovineyard.com/wp-content/uploads/2025/10/Oct-2025.jpg
END:VEVENT
BEGIN:VEVENT
DTSTART;TZID=UTC:20251023T160000
DTEND;TZID=UTC:20251023T200000
DTSTAMP:20260424T104931
CREATED:20250929T195247Z
LAST-MODIFIED:20250929T195247Z
UID:6643-1761235200-1761249600@elmarovineyard.com
SUMMARY:"Fall" Into Date Night
DESCRIPTION:Bring (or don’t bring) your favorite human to Elmaro on October 2nd\, 9th\, 16th\, and 23rd\, 4-8 p.m. for Elmaro’s “Fall” Into Date Night!  Enjoy a local cheese plate and a dessert for $22.
URL:https://elmarovineyard.com/event/fall-into-date-night-2/2025-10-23/
ATTACH;FMTTYPE=image/png:https://elmarovineyard.com/wp-content/uploads/2025/09/Date-Night-1920-x-1080-px-6.png
END:VEVENT
BEGIN:VEVENT
DTSTART;TZID=UTC:20251023T110000
DTEND;TZID=UTC:20251023T120000
DTSTAMP:20260424T104931
CREATED:20250911T195203Z
LAST-MODIFIED:20250911T195203Z
UID:6556-1761217200-1761220800@elmarovineyard.com
SUMMARY:Adaptive Yoga
DESCRIPTION:At 11:00 a.m.\, Join Laura (co-owner and winemaker) for a one-hour yoga practice for anyone with a modified range of motion. Chairs are available for sitting or standing prop\, no former yoga training is required\, and please bring your own mat and water bottle\, $2 per person. (We welcome drop-ins!)
URL:https://elmarovineyard.com/event/adaptive-yoga-25/2025-10-23/
ATTACH;FMTTYPE=image/jpeg:https://elmarovineyard.com/wp-content/uploads/2025/04/adaptive1-scaled.jpg
END:VEVENT
END:VCALENDAR