BEGIN:VCALENDAR
VERSION:2.0
PRODID:-//Elmaro Vineyard - ECPv6.15.20//NONSGML v1.0//EN
CALSCALE:GREGORIAN
METHOD:PUBLISH
X-WR-CALNAME:Elmaro Vineyard
X-ORIGINAL-URL:https://elmarovineyard.com
X-WR-CALDESC:Events for Elmaro Vineyard
REFRESH-INTERVAL;VALUE=DURATION:PT1H
X-Robots-Tag:noindex
X-PUBLISHED-TTL:PT1H
BEGIN:VTIMEZONE
TZID:UTC
BEGIN:STANDARD
TZOFFSETFROM:+0000
TZOFFSETTO:+0000
TZNAME:UTC
DTSTART:20250101T000000
END:STANDARD
END:VTIMEZONE
BEGIN:VEVENT
DTSTART;TZID=UTC:20260523T123000
DTEND;TZID=UTC:20260523T170000
DTSTAMP:20260422T080325
CREATED:20260217T215057Z
LAST-MODIFIED:20260217T215057Z
UID:7100-1779539400-1779555600@elmarovineyard.com
SUMMARY:Woodshed Pizza
DESCRIPTION:Authentic wood-fired pizza\, made fresh in minutes.
URL:https://elmarovineyard.com/event/woodshed-pizza-7/
ATTACH;FMTTYPE=image/jpeg:https://elmarovineyard.com/wp-content/uploads/2026/02/woodshed5-rotated.jpg
END:VEVENT
BEGIN:VEVENT
DTSTART;TZID=UTC:20260523T140000
DTEND;TZID=UTC:20260523T170000
DTSTAMP:20260422T080325
CREATED:20260217T215427Z
LAST-MODIFIED:20260217T215427Z
UID:7105-1779544800-1779555600@elmarovineyard.com
SUMMARY:Music by The Coulee Region Steel Drum Band
DESCRIPTION:A holiday weekend means getting away to the tropics while you visit Elmaro (and munch on a wood fired pizza).
URL:https://elmarovineyard.com/event/music-by-the-coulee-region-steel-drum-band-11/
ATTACH;FMTTYPE=image/jpeg:https://elmarovineyard.com/wp-content/uploads/2026/02/coulee-rsdb.jpg
END:VEVENT
END:VCALENDAR