BEGIN:VCALENDAR
VERSION:2.0
PRODID:-//Elmaro Vineyard - ECPv6.15.20//NONSGML v1.0//EN
CALSCALE:GREGORIAN
METHOD:PUBLISH
X-WR-CALNAME:Elmaro Vineyard
X-ORIGINAL-URL:https://elmarovineyard.com
X-WR-CALDESC:Events for Elmaro Vineyard
REFRESH-INTERVAL;VALUE=DURATION:PT1H
X-Robots-Tag:noindex
X-PUBLISHED-TTL:PT1H
BEGIN:VTIMEZONE
TZID:UTC
BEGIN:STANDARD
TZOFFSETFROM:+0000
TZOFFSETTO:+0000
TZNAME:UTC
DTSTART:20250101T000000
END:STANDARD
END:VTIMEZONE
BEGIN:VEVENT
DTSTART;TZID=UTC:20260516T123000
DTEND;TZID=UTC:20260516T170000
DTSTAMP:20260422T080337
CREATED:20260217T214859Z
LAST-MODIFIED:20260217T214859Z
UID:7097-1778934600-1778950800@elmarovineyard.com
SUMMARY:Taco Town Food Cart
DESCRIPTION:Authentic\, fresh\, made to order.  It doesn’t get any better.
URL:https://elmarovineyard.com/event/taco-town-food-cart-14/
ATTACH;FMTTYPE=image/jpeg:https://elmarovineyard.com/wp-content/uploads/2026/02/taco-town-taco.jpg
END:VEVENT
END:VCALENDAR