BEGIN:VCALENDAR
VERSION:2.0
PRODID:-//Elmaro Vineyard - ECPv6.15.20//NONSGML v1.0//EN
CALSCALE:GREGORIAN
METHOD:PUBLISH
X-WR-CALNAME:Elmaro Vineyard
X-ORIGINAL-URL:https://elmarovineyard.com
X-WR-CALDESC:Events for Elmaro Vineyard
REFRESH-INTERVAL;VALUE=DURATION:PT1H
X-Robots-Tag:noindex
X-PUBLISHED-TTL:PT1H
BEGIN:VTIMEZONE
TZID:UTC
BEGIN:STANDARD
TZOFFSETFROM:+0000
TZOFFSETTO:+0000
TZNAME:UTC
DTSTART:20250101T000000
END:STANDARD
END:VTIMEZONE
BEGIN:VEVENT
DTSTART;TZID=UTC:20260515T120000
DTEND;TZID=UTC:20260515T180000
DTSTAMP:20260422T104457
CREATED:20260216T213632Z
LAST-MODIFIED:20260216T213632Z
UID:7059-1778846400-1778868000@elmarovineyard.com
SUMMARY:Rockin' Robyn's Music Extravaganza
DESCRIPTION:A weekend of music\, food\, and great times\, May 15th-17th\, 2026. Raffle ticket sales all weekend with the drawing on Sunday\, Friday is music themed Bingo\, Saturday is a community jam session and Taco Town food cart\, and Sunday is the G-E-T High School music groups and grilling by the Friends of Robyn.
URL:https://elmarovineyard.com/event/rockin-robyns-music-extravaganza/
ATTACH;FMTTYPE=image/jpeg:https://elmarovineyard.com/wp-content/uploads/2026/02/Rockin-Robyn-facebook-events-11.jpg
END:VEVENT
BEGIN:VEVENT
DTSTART;TZID=UTC:20260515T170000
DTEND;TZID=UTC:20260515T190000
DTSTAMP:20260422T104457
CREATED:20260216T215300Z
LAST-MODIFIED:20260216T215300Z
UID:7065-1778864400-1778871600@elmarovineyard.com
SUMMARY:Music Themed Bingo!
DESCRIPTION:Come play Bingo on the patio at Elmaro! We will even have some music themed trivia questions in between rounds of bingo\, as well as awesome bingo music! No registration is needed.
URL:https://elmarovineyard.com/event/music-themed-bingo/
ATTACH;FMTTYPE=image/jpeg:https://elmarovineyard.com/wp-content/uploads/2026/02/Rockin-Robyn-facebook-events-13.jpg
END:VEVENT
END:VCALENDAR