BEGIN:VCALENDAR
VERSION:2.0
PRODID:-//Elmaro Vineyard - ECPv6.15.20//NONSGML v1.0//EN
CALSCALE:GREGORIAN
METHOD:PUBLISH
X-WR-CALNAME:Elmaro Vineyard
X-ORIGINAL-URL:https://elmarovineyard.com
X-WR-CALDESC:Events for Elmaro Vineyard
REFRESH-INTERVAL;VALUE=DURATION:PT1H
X-Robots-Tag:noindex
X-PUBLISHED-TTL:PT1H
BEGIN:VTIMEZONE
TZID:UTC
BEGIN:STANDARD
TZOFFSETFROM:+0000
TZOFFSETTO:+0000
TZNAME:UTC
DTSTART:20250101T000000
END:STANDARD
END:VTIMEZONE
BEGIN:VEVENT
DTSTART;TZID=UTC:20260215T120000
DTEND;TZID=UTC:20260215T160000
DTSTAMP:20260423T233419
CREATED:20260113T222508Z
LAST-MODIFIED:20260113T222508Z
UID:6958-1771156800-1771171200@elmarovineyard.com
SUMMARY:Crepes by Jean Luc
DESCRIPTION:Yes\, you can come back to Elmaro for more crepes\, because we are\, too!  More crepes by Jean Luc on Sunday\, February 15th\, 12-4 p.m.
URL:https://elmarovineyard.com/event/crepes-by-jean-luc-9/
ATTACH;FMTTYPE=image/jpeg:https://elmarovineyard.com/wp-content/uploads/2026/01/Crepes-by-Jean-Luc-3.jpg
END:VEVENT
BEGIN:VEVENT
DTSTART;TZID=UTC:20260215T130000
DTEND;TZID=UTC:20260215T160000
DTSTAMP:20260423T233419
CREATED:20260127T200659Z
LAST-MODIFIED:20260127T200659Z
UID:6997-1771160400-1771171200@elmarovineyard.com
SUMMARY:Music by Under Paris Skies
DESCRIPTION:The sounds of Paris on Valentine weekend\, the tastes of Paris with JeanLuc’s crepes\, the magic continues at Elmaro!
URL:https://elmarovineyard.com/event/music-by-under-paris-skies-12/
ATTACH;FMTTYPE=image/jpeg:https://elmarovineyard.com/wp-content/uploads/2026/01/UPS1-scaled.jpg
END:VEVENT
END:VCALENDAR