BEGIN:VCALENDAR
VERSION:2.0
PRODID:-//Elmaro Vineyard - ECPv6.15.20//NONSGML v1.0//EN
CALSCALE:GREGORIAN
METHOD:PUBLISH
X-ORIGINAL-URL:https://elmarovineyard.com
X-WR-CALDESC:Events for Elmaro Vineyard
REFRESH-INTERVAL;VALUE=DURATION:PT1H
X-Robots-Tag:noindex
X-PUBLISHED-TTL:PT1H
BEGIN:VTIMEZONE
TZID:UTC
BEGIN:STANDARD
TZOFFSETFROM:+0000
TZOFFSETTO:+0000
TZNAME:UTC
DTSTART:20250101T000000
END:STANDARD
END:VTIMEZONE
BEGIN:VEVENT
DTSTART;TZID=UTC:20260111T130000
DTEND;TZID=UTC:20260111T150000
DTSTAMP:20260424T200419
CREATED:20251227T185917Z
LAST-MODIFIED:20251227T185917Z
UID:6858-1768136400-1768143600@elmarovineyard.com
SUMMARY:Sunday\, January 11th Bingo
DESCRIPTION:January 11th Sunday Bingo! Bingo is at Elmaro every Sunday in January from 1-3 p.m.! No registration fee\, but you must reserve your spots here (https://www.exploretock.com/…/january-11th-sunday-bingo) Two complimentary bingo cards for each guest\, assorted prizes\, with bingo will begining at 1:00 p.m.
URL:https://elmarovineyard.com/event/sunday-january-11th-bingo/
ATTACH;FMTTYPE=image/jpeg:https://elmarovineyard.com/wp-content/uploads/2025/12/BINGO-facebook-event-cover-23.jpg
END:VEVENT
END:VCALENDAR