BEGIN:VCALENDAR
VERSION:2.0
PRODID:-//Elmaro Vineyard - ECPv6.15.20//NONSGML v1.0//EN
CALSCALE:GREGORIAN
METHOD:PUBLISH
X-WR-CALNAME:Elmaro Vineyard
X-ORIGINAL-URL:https://elmarovineyard.com
X-WR-CALDESC:Events for Elmaro Vineyard
REFRESH-INTERVAL;VALUE=DURATION:PT1H
X-Robots-Tag:noindex
X-PUBLISHED-TTL:PT1H
BEGIN:VTIMEZONE
TZID:UTC
BEGIN:STANDARD
TZOFFSETFROM:+0000
TZOFFSETTO:+0000
TZNAME:UTC
DTSTART:20240101T000000
END:STANDARD
END:VTIMEZONE
BEGIN:VEVENT
DTSTART;TZID=UTC:20251221T130000
DTEND;TZID=UTC:20251221T160000
DTSTAMP:20260425T021720
CREATED:20251103T195300Z
LAST-MODIFIED:20251103T195300Z
UID:6778-1766322000-1766332800@elmarovineyard.com
SUMMARY:Music by Doug Mahlum
DESCRIPTION:From Christmas tunes to your favorite show tunes and songs from the 60s and 70s\, Doug has it all today.
URL:https://elmarovineyard.com/event/music-by-doug-mahlum-25/
ATTACH;FMTTYPE=image/jpeg:https://elmarovineyard.com/wp-content/uploads/2025/09/Doug-Mahlum3.jpg
END:VEVENT
END:VCALENDAR