BEGIN:VCALENDAR
VERSION:2.0
PRODID:-//Elmaro Vineyard - ECPv6.15.20//NONSGML v1.0//EN
CALSCALE:GREGORIAN
METHOD:PUBLISH
X-ORIGINAL-URL:https://elmarovineyard.com
X-WR-CALDESC:Events for Elmaro Vineyard
REFRESH-INTERVAL;VALUE=DURATION:PT1H
X-Robots-Tag:noindex
X-PUBLISHED-TTL:PT1H
BEGIN:VTIMEZONE
TZID:UTC
BEGIN:STANDARD
TZOFFSETFROM:+0000
TZOFFSETTO:+0000
TZNAME:UTC
DTSTART:20220101T000000
END:STANDARD
END:VTIMEZONE
BEGIN:VEVENT
DTSTART;TZID=UTC:20230902T123000
DTEND;TZID=UTC:20230902T170000
DTSTAMP:20260421T234125
CREATED:20230809T181300Z
LAST-MODIFIED:20230809T181300Z
UID:4384-1693657800-1693674000@elmarovineyard.com
SUMMARY:Taco Town Food Vendor
DESCRIPTION:Delicious\, home-style\, mouth-watering tacos\, all words to describe the food vendor on September 2nd. Come hungry and come early before supplies run out.
URL:https://elmarovineyard.com/event/taco-town-food-vendor/
ATTACH;FMTTYPE=image/jpeg:https://elmarovineyard.com/wp-content/uploads/2023/08/taco-town-taco.jpg
END:VEVENT
BEGIN:VEVENT
DTSTART;TZID=UTC:20230902T140000
DTEND;TZID=UTC:20230902T170000
DTSTAMP:20260421T234125
CREATED:20230824T194722Z
LAST-MODIFIED:20230824T194722Z
UID:4422-1693663200-1693674000@elmarovineyard.com
SUMMARY:Music by David Hartman
DESCRIPTION:David plays 6 and 12 string guitar for soft rock\, country\, folk\, and modern music primarily from the 60’s and 70’s. It’s a little something for everyone!
URL:https://elmarovineyard.com/event/music-by-david-hartman-7/
ATTACH;FMTTYPE=image/jpeg:https://elmarovineyard.com/wp-content/uploads/2023/08/david-hartman4-1.jpg
END:VEVENT
END:VCALENDAR