BEGIN:VCALENDAR
VERSION:2.0
PRODID:-//Elmaro Vineyard - ECPv6.15.20//NONSGML v1.0//EN
CALSCALE:GREGORIAN
METHOD:PUBLISH
X-WR-CALNAME:Elmaro Vineyard
X-ORIGINAL-URL:https://elmarovineyard.com
X-WR-CALDESC:Events for Elmaro Vineyard
REFRESH-INTERVAL;VALUE=DURATION:PT1H
X-Robots-Tag:noindex
X-PUBLISHED-TTL:PT1H
BEGIN:VTIMEZONE
TZID:UTC
BEGIN:STANDARD
TZOFFSETFROM:+0000
TZOFFSETTO:+0000
TZNAME:UTC
DTSTART:20220101T000000
END:STANDARD
END:VTIMEZONE
BEGIN:VEVENT
DTSTART;TZID=UTC:20230708T123000
DTEND;TZID=UTC:20230708T170000
DTSTAMP:20260421T095131
CREATED:20230607T214834Z
LAST-MODIFIED:20230607T214834Z
UID:4154-1688819400-1688835600@elmarovineyard.com
SUMMARY:Taco Broz Food Truck
DESCRIPTION:Authentic Mexican cuisine\, with a bit of flair\, and you won’t go away hungry.  Serving 12:30-5:00\, or as supplies last.
URL:https://elmarovineyard.com/event/taco-broz-food-truck/
ATTACH;FMTTYPE=image/jpeg:https://elmarovineyard.com/wp-content/uploads/2023/06/taco-broz4.jpg
END:VEVENT
BEGIN:VEVENT
DTSTART;TZID=UTC:20230708T140000
DTEND;TZID=UTC:20230708T170000
DTSTAMP:20260421T095131
CREATED:20230607T215004Z
LAST-MODIFIED:20230607T215004Z
UID:4157-1688824800-1688835600@elmarovineyard.com
SUMMARY:Music by Jeani and the Dreamers
DESCRIPTION:This Winona band will have you up and dancing in no time with their 60s and 70s covers!
URL:https://elmarovineyard.com/event/music-by-jeani-and-the-dreamers-8/
ATTACH;FMTTYPE=image/jpeg:https://elmarovineyard.com/wp-content/uploads/2023/06/Jeaniandthedreamers.jpg
END:VEVENT
END:VCALENDAR