BEGIN:VCALENDAR
VERSION:2.0
PRODID:-//Elmaro Vineyard - ECPv6.15.20//NONSGML v1.0//EN
CALSCALE:GREGORIAN
METHOD:PUBLISH
X-ORIGINAL-URL:https://elmarovineyard.com
X-WR-CALDESC:Events for Elmaro Vineyard
REFRESH-INTERVAL;VALUE=DURATION:PT1H
X-Robots-Tag:noindex
X-PUBLISHED-TTL:PT1H
BEGIN:VTIMEZONE
TZID:UTC
BEGIN:STANDARD
TZOFFSETFROM:+0000
TZOFFSETTO:+0000
TZNAME:UTC
DTSTART:20220101T000000
END:STANDARD
END:VTIMEZONE
BEGIN:VEVENT
DTSTART;TZID=UTC:20230707T120000
DTEND;TZID=UTC:20230707T190000
DTSTAMP:20260421T112402
CREATED:20230620T210121Z
LAST-MODIFIED:20230620T210140Z
UID:4192-1688731200-1688756400@elmarovineyard.com
SUMMARY:Date Night
DESCRIPTION:Date Night is the best night of the week! You’ll get a local cheese plate and two glasses of wine for $20!
URL:https://elmarovineyard.com/event/date-night-7/2023-07-07/
ATTACH;FMTTYPE=image/png:https://elmarovineyard.com/wp-content/uploads/2023/06/Add-a-heading-5.png
END:VEVENT
BEGIN:VEVENT
DTSTART;TZID=UTC:20230707T150000
DTEND;TZID=UTC:20230707T180000
DTSTAMP:20260421T112402
CREATED:20230607T214513Z
LAST-MODIFIED:20230705T150323Z
UID:4151-1688742000-1688752800@elmarovineyard.com
SUMMARY:Music by James 'Mudcat' Grant\, 3-6pm
DESCRIPTION:Live music doesn’t get much more local than our very own James Grant! Join us for a lively afternoon of tunes you’ll know. James will be playing on the patio 3-6pm!
URL:https://elmarovineyard.com/event/music-by-bradford-loomis-3/
ATTACH;FMTTYPE=image/png:https://elmarovineyard.com/wp-content/uploads/2023/06/James-Grant-3.png
END:VEVENT
END:VCALENDAR