BEGIN:VCALENDAR
VERSION:2.0
PRODID:-//Elmaro Vineyard - ECPv6.15.20//NONSGML v1.0//EN
CALSCALE:GREGORIAN
METHOD:PUBLISH
X-WR-CALNAME:Elmaro Vineyard
X-ORIGINAL-URL:https://elmarovineyard.com
X-WR-CALDESC:Events for Elmaro Vineyard
REFRESH-INTERVAL;VALUE=DURATION:PT1H
X-Robots-Tag:noindex
X-PUBLISHED-TTL:PT1H
BEGIN:VTIMEZONE
TZID:UTC
BEGIN:STANDARD
TZOFFSETFROM:+0000
TZOFFSETTO:+0000
TZNAME:UTC
DTSTART:20220101T000000
END:STANDARD
END:VTIMEZONE
BEGIN:VEVENT
DTSTART;TZID=UTC:20230703T120000
DTEND;TZID=UTC:20230704T190000
DTSTAMP:20260421T155143
CREATED:20230620T205556Z
LAST-MODIFIED:20230620T205556Z
UID:4186-1688385600-1688497200@elmarovineyard.com
SUMMARY:Closed to Observe the July 4th Holiday
DESCRIPTION:Elmaro Vineyard will be closed all day July 3rd and 4th\, 2023 to allow employees to observe the national holiday and to enjoy time with their families.
URL:https://elmarovineyard.com/event/closed-to-observe-the-july-4th-holiday/
ATTACH;FMTTYPE=image/jpeg:https://elmarovineyard.com/wp-content/uploads/2023/06/closed-july4.jpg
END:VEVENT
END:VCALENDAR