BEGIN:VCALENDAR
VERSION:2.0
PRODID:-//Elmaro Vineyard - ECPv6.15.20//NONSGML v1.0//EN
CALSCALE:GREGORIAN
METHOD:PUBLISH
X-ORIGINAL-URL:https://elmarovineyard.com
X-WR-CALDESC:Events for Elmaro Vineyard
REFRESH-INTERVAL;VALUE=DURATION:PT1H
X-Robots-Tag:noindex
X-PUBLISHED-TTL:PT1H
BEGIN:VTIMEZONE
TZID:UTC
BEGIN:STANDARD
TZOFFSETFROM:+0000
TZOFFSETTO:+0000
TZNAME:UTC
DTSTART:20220101T000000
END:STANDARD
END:VTIMEZONE
BEGIN:VEVENT
DTSTART;TZID=UTC:20230514T130000
DTEND;TZID=UTC:20230514T160000
DTSTAMP:20260421T094558
CREATED:20230412T205223Z
LAST-MODIFIED:20230412T205223Z
UID:3959-1684069200-1684080000@elmarovineyard.com
SUMMARY:Music on Mother's Day by Doug Mahlum
DESCRIPTION:Bring your mom to Elmaro to relax to the tunes of Doug Mahlum.
URL:https://elmarovineyard.com/event/music-on-mothers-day-by-doug-mahlum/
ATTACH;FMTTYPE=image/jpeg:https://elmarovineyard.com/wp-content/uploads/2023/04/Doug-Mahlum3.jpg
END:VEVENT
END:VCALENDAR