BEGIN:VCALENDAR
VERSION:2.0
PRODID:-//Elmaro Vineyard - ECPv6.15.20//NONSGML v1.0//EN
CALSCALE:GREGORIAN
METHOD:PUBLISH
X-ORIGINAL-URL:https://elmarovineyard.com
X-WR-CALDESC:Events for Elmaro Vineyard
REFRESH-INTERVAL;VALUE=DURATION:PT1H
X-Robots-Tag:noindex
X-PUBLISHED-TTL:PT1H
BEGIN:VTIMEZONE
TZID:UTC
BEGIN:STANDARD
TZOFFSETFROM:+0000
TZOFFSETTO:+0000
TZNAME:UTC
DTSTART:20220101T000000
END:STANDARD
END:VTIMEZONE
BEGIN:VEVENT
DTSTART;TZID=UTC:20230512T173000
DTEND;TZID=UTC:20230512T200000
DTSTAMP:20260421T112346
CREATED:20230418T174527Z
LAST-MODIFIED:20230418T174527Z
UID:4016-1683912600-1683921600@elmarovineyard.com
SUMMARY:World Migratory Bird Day Social Hour and Presentation
DESCRIPTION:The Friends of Trempealeau Refuge invite you to Elmaro for the World Migratory Bird Day celebration with the social hour at 5:30 p.m.\, followed by Craig Thompson’s presentation\, “Putting the Kibosh on Extinction: The Power of Birds” at 6:30 PM.\nAs part of International Migratory Bird Day celebration and in conjunction with Elmaro Vineyard and Environment for America’s\, a special “Bird Day Red” wine is being released at Elmaro on May 12th.\nFor more information\, call 608.539.2311 ext. 6 log onto our website for a complete festival brochure:\nhttp://www.fws.gov/refuge/trempealeau/
URL:https://elmarovineyard.com/event/world-migratory-bird-day-social-hour-and-presentation/
ATTACH;FMTTYPE=image/jpeg:https://elmarovineyard.com/wp-content/uploads/2023/04/2023_WMBD_GLOBAL_Poster_all_logos_e-scaled.jpg
END:VEVENT
END:VCALENDAR