BEGIN:VCALENDAR
VERSION:2.0
PRODID:-//Elmaro Vineyard - ECPv6.15.20//NONSGML v1.0//EN
CALSCALE:GREGORIAN
METHOD:PUBLISH
X-ORIGINAL-URL:https://elmarovineyard.com
X-WR-CALDESC:Events for Elmaro Vineyard
REFRESH-INTERVAL;VALUE=DURATION:PT1H
X-Robots-Tag:noindex
X-PUBLISHED-TTL:PT1H
BEGIN:VTIMEZONE
TZID:UTC
BEGIN:STANDARD
TZOFFSETFROM:+0000
TZOFFSETTO:+0000
TZNAME:UTC
DTSTART:20220101T000000
END:STANDARD
END:VTIMEZONE
BEGIN:VEVENT
DTSTART;TZID=UTC:20230509T120000
DTEND;TZID=UTC:20230509T180000
DTSTAMP:20260421T094621
CREATED:20230412T204846Z
LAST-MODIFIED:20230412T204846Z
UID:3953-1683633600-1683655200@elmarovineyard.com
SUMMARY:National Moscato Day
DESCRIPTION:Celebrate this day with $4 glasses of Moscato\, 12-6 p.m.
URL:https://elmarovineyard.com/event/national-moscato-day/
ATTACH;FMTTYPE=image/jpeg:https://elmarovineyard.com/wp-content/uploads/2023/04/moscato3-scaled.jpg
END:VEVENT
END:VCALENDAR