BEGIN:VCALENDAR
VERSION:2.0
PRODID:-//Elmaro Vineyard - ECPv6.15.20//NONSGML v1.0//EN
CALSCALE:GREGORIAN
METHOD:PUBLISH
X-WR-CALNAME:Elmaro Vineyard
X-ORIGINAL-URL:https://elmarovineyard.com
X-WR-CALDESC:Events for Elmaro Vineyard
REFRESH-INTERVAL;VALUE=DURATION:PT1H
X-Robots-Tag:noindex
X-PUBLISHED-TTL:PT1H
BEGIN:VTIMEZONE
TZID:UTC
BEGIN:STANDARD
TZOFFSETFROM:+0000
TZOFFSETTO:+0000
TZNAME:UTC
DTSTART:20220101T000000
END:STANDARD
END:VTIMEZONE
BEGIN:VEVENT
DTSTART;TZID=UTC:20230225T100000
DTEND;TZID=UTC:20230225T110000
DTSTAMP:20260422T233740
CREATED:20230202T211128Z
LAST-MODIFIED:20230223T171815Z
UID:3798-1677319200-1677322800@elmarovineyard.com
SUMMARY:Sold Out-Donut and Wine Pairings
DESCRIPTION:Elmaro wines paired with Bloedow’s donuts!  On Saturday\, February 25th at 10:00 a.m.\, $20/person\, you’ll sip and savor five donut and wine samples\, including a mimosa.  Call the tasting room at 608-534-6456 for reservations.
URL:https://elmarovineyard.com/event/donut-and-wine-pairings/
ATTACH;FMTTYPE=image/png:https://elmarovineyard.com/wp-content/uploads/2023/02/Donut-and-Wine-Pairing-1.png
END:VEVENT
BEGIN:VEVENT
DTSTART;TZID=UTC:20230225T140000
DTEND;TZID=UTC:20230225T170000
DTSTAMP:20260422T233740
CREATED:20230103T223410Z
LAST-MODIFIED:20230103T223410Z
UID:3676-1677333600-1677344400@elmarovineyard.com
SUMMARY:Music by Saner and Gibbons
DESCRIPTION:When not rocking out with The Mayer Brothers Band (or working in their day jobs)\, Todd and Tom like to throw down some amazing music via their fiercely dueling guitars and perfectly harmonizing voices. With their repertoire spanning songs from the 60s through today \, they are guaranteed to hit on a few of your favorites.
URL:https://elmarovineyard.com/event/music-by-saner-and-gibbons/
ATTACH;FMTTYPE=image/jpeg:https://elmarovineyard.com/wp-content/uploads/2023/01/saner-and-gibbons.jpg
END:VEVENT
END:VCALENDAR